BEGIN:VCALENDAR
VERSION:2.0
PRODID:-//The BoZone - ECPv5.12.0//NONSGML v1.0//EN
CALSCALE:GREGORIAN
METHOD:PUBLISH
X-WR-CALNAME:The BoZone
X-ORIGINAL-URL:https://bozone.com
X-WR-CALDESC:Events for The BoZone
BEGIN:VTIMEZONE
TZID:America/Denver
BEGIN:DAYLIGHT
TZOFFSETFROM:-0700
TZOFFSETTO:-0600
TZNAME:MDT
DTSTART:20260308T090000
END:DAYLIGHT
BEGIN:STANDARD
TZOFFSETFROM:-0600
TZOFFSETTO:-0700
TZNAME:MST
DTSTART:20261101T080000
END:STANDARD
END:VTIMEZONE
BEGIN:VEVENT
DTSTART;TZID=America/Denver:20260425T080000
DTEND;TZID=America/Denver:20260425T170000
DTSTAMP:20260421T223301
CREATED:20260130T173712Z
LAST-MODIFIED:20260130T173712Z
UID:307623-1777104000-1777136400@bozone.com
SUMMARY:Best of the West Valleyball Tournament
DESCRIPTION:Best of the West Valleyball Tournament\nThe Best of the West Volleyball Tournament is a 3-day super regional event held in Bozeman\, Montana\, starting in 2026. Featuring top volleyball teams from across the region\, this tournament offers exciting competition\, recruitment opportunities\, and high-level play. Join us for a premier volleyball event in a stunning location! Team Registration is open through April 2\, 2026. \nApril 24 through 26\, 2026
URL:https://bozone.com/event/best-of-the-west-valleyball-tournament-2/
LOCATION:Montana State University\, Bozeman\, United States
CATEGORIES:Sporting Events
GEO:45.6769979;-111.0429339
END:VEVENT
BEGIN:VEVENT
DTSTART;TZID=America/Denver:20260425T090000
DTEND;TZID=America/Denver:20260425T090000
DTSTAMP:20260421T223301
CREATED:20260325T115018Z
LAST-MODIFIED:20260414T225150Z
UID:313218-1777107600-1777107600@bozone.com
SUMMARY:Gallatin Valley Earth Day 5K Fun Run
DESCRIPTION:Gallatin Valley Earth Day 5K Fun RunBenefitting non-profits dedicated to sustainable living.\nPresented by the Winddrinkers Running Club & Gallatin Valley Earth Day \nSaturday\, April 25th at 9am\nGallatin County Fairgrounds \nAre you looking to get in a quick run before attending the Gallatin Valley Earth Day activities? Looking to just run a race? Then the Earth Day 5K is what you’ve been looking for! Watch this space for more info on the 2026 edition of the race! \nREGISTRATION\nThis year\, we will hold online registration open through 9:00 PM on Friday\, April 24h\, 2026. We will also allow race day registration at the fairgrounds on the morning of the race\, from 8:00 – 8:30 AM. \nThe 2026 Earth Day Run will be held at the Gallatin County Fairgrounds. Please enter at the corner of E Tamarack and N Black and park in the dirt lot. \nThis year the Gallatin Valley Earth day run is part of the Spring into Spring 5K Trifecta. Three 5K runs over 3 weekends supports 3 awesome Bozeman area non-profits! See the 5K Trifecta Registration page for more information. \nTo REGISTER and for more information\, please visit \nhttps://winddrinkers.org/trailhead/races/earth_day/
URL:https://bozone.com/event/gallatin-valley-earth-day-5k-fun-run-2/
LOCATION:GCF – Gallatin County Fairgrounds – GCF\, 901 N Black\, Bozeman\, United States
CATEGORIES:Miscellanea,Sporting Events
GEO:45.6885954;-111.0358461
X-APPLE-STRUCTURED-LOCATION;VALUE=URI;X-ADDRESS=GCF – Gallatin County Fairgrounds – GCF 901 N Black Bozeman United States;X-APPLE-RADIUS=500;X-TITLE=901 N Black:geo:-111.0358461,45.6885954
END:VEVENT
BEGIN:VEVENT
DTSTART;TZID=America/Denver:20260425T090000
DTEND;TZID=America/Denver:20260425T090000
DTSTAMP:20260421T223301
CREATED:20260412T030021Z
LAST-MODIFIED:20260412T030021Z
UID:315711-1777107600-1777107600@bozone.com
SUMMARY:Gallatin Valley YMCA ColorDash
DESCRIPTION:ColorDash 2026 is back—and this year\, every color burst fuels something BIG. Proceeds from ColorDash 2026 benefit the Gallatin Valley YMCA as we grow youth sports opportunities across the valley\, expanding access to volleyball\, street/field hockey\, cheerleading\, soccer\, tennis\, and more. Together\, we’re building confident kids\, stronger teams\, and a community where every child gets a chance to play\, belong\, and thrive.\nThe Color Dash is an untimed fun run to help fund scholarships\, coaching\, and resources for participants. 5K= 9:00 AM 1K=10:00 AM \nCost: $35 and includes a race shirt\nKids 5 and under are FREE. $10 T-shirt. \nhttps://runsignup.com/Race/MT/Bozeman/YMCA5KColorDash
URL:https://bozone.com/event/gallatin-valley-ymca-colordash/
LOCATION:Gallatin Regional Park\, 1707 Vaquero Pkwy\, Bozeman\, United States
CATEGORIES:Miscellanea,Sporting Events
GEO:45.6954081;-111.0847245
X-APPLE-STRUCTURED-LOCATION;VALUE=URI;X-ADDRESS=Gallatin Regional Park 1707 Vaquero Pkwy Bozeman United States;X-APPLE-RADIUS=500;X-TITLE=1707 Vaquero Pkwy:geo:-111.0847245,45.6954081
END:VEVENT
END:VCALENDAR