BEGIN:VCALENDAR
VERSION:2.0
PRODID:-//The BoZone - ECPv5.12.0//NONSGML v1.0//EN
CALSCALE:GREGORIAN
METHOD:PUBLISH
X-WR-CALNAME:The BoZone
X-ORIGINAL-URL:https://bozone.com
X-WR-CALDESC:Events for The BoZone
BEGIN:VTIMEZONE
TZID:America/Denver
BEGIN:DAYLIGHT
TZOFFSETFROM:-0700
TZOFFSETTO:-0600
TZNAME:MDT
DTSTART:20260308T090000
END:DAYLIGHT
BEGIN:STANDARD
TZOFFSETFROM:-0600
TZOFFSETTO:-0700
TZNAME:MST
DTSTART:20261101T080000
END:STANDARD
END:VTIMEZONE
BEGIN:VEVENT
DTSTART;TZID=America/Denver:20260416T173000
DTEND;TZID=America/Denver:20260416T173000
DTSTAMP:20260422T051715
CREATED:20260327T202832Z
LAST-MODIFIED:20260327T202832Z
UID:314042-1776360600-1776360600@bozone.com
SUMMARY:Earth Day at Highland Glen
DESCRIPTION:Earth Day at Highland Glen\n\nThursday\, April 16\, 2026\n5:30 PM  7:30 PM\n\n\n\n\n\n\n\n\n\n\n\n\n\n\n\n\n\n\n\n\n\nDetails\nWHEN: Thursday\, April 16\, 2026 \nTIME: 5:30-7:30 PM \nWHERE: Meet at the PAINTED HILLS Trailhead (see map). Carpooling is highly encouraged. \nThis winter has been rough on trails that barely had a chance to hibernate. Celebrate Earth Day by joining us to give some love back to the well-traveled trails at Highland Glen! Get your hands dirty\, have some fun\, and help improve trail tread and drainage to keep these routes in great shape for the seasons ahead. \n\n\n\n\n\n\nSign Up
URL:https://bozone.com/event/earth-day-at-highland-glen/
LOCATION:Painted Hills Trailhead\, 10000 KAGY BLVD\, BOZEMAN\, MT\, 59715\, United States
CATEGORIES:Miscellanea,Sporting Events
END:VEVENT
END:VCALENDAR