BEGIN:VCALENDAR
VERSION:2.0
PRODID:-//The BoZone - ECPv5.12.0//NONSGML v1.0//EN
CALSCALE:GREGORIAN
METHOD:PUBLISH
X-WR-CALNAME:The BoZone
X-ORIGINAL-URL:https://bozone.com
X-WR-CALDESC:Events for The BoZone
BEGIN:VTIMEZONE
TZID:America/Denver
BEGIN:DAYLIGHT
TZOFFSETFROM:-0700
TZOFFSETTO:-0600
TZNAME:MDT
DTSTART:20260308T090000
END:DAYLIGHT
BEGIN:STANDARD
TZOFFSETFROM:-0600
TZOFFSETTO:-0700
TZNAME:MST
DTSTART:20261101T080000
END:STANDARD
END:VTIMEZONE
BEGIN:VEVENT
DTSTART;TZID=America/Denver:20260122T160000
DTEND;TZID=America/Denver:20260122T200000
DTSTAMP:20260423T010516
CREATED:20250126T194935Z
LAST-MODIFIED:20251229T054103Z
UID:281142-1769097600-1769112000@bozone.com
SUMMARY:Night Ski
DESCRIPTION:Night Ski\n\nCrosscut Mountain Sports Center (map)\n\n\nLight up your winter nights! Come ski our lighted loop on Mondays and Thursdays from 4-8pm. Mondays are Dog Days so bring your pup night skiing on Mondays. Discounted passes and rentals available for walk-ups and can also be booked ahead of time online.
URL:https://bozone.com/event/night-ski-2/
LOCATION:Crosscut Mountain Sports Center\, 16621 Bridger Canyon Road\, Bozeman\, MT\, 59715\, United States
CATEGORIES:Sporting Events
GEO:45.8278466;-110.8844653
X-APPLE-STRUCTURED-LOCATION;VALUE=URI;X-ADDRESS=Crosscut Mountain Sports Center 16621 Bridger Canyon Road Bozeman MT 59715 United States;X-APPLE-RADIUS=500;X-TITLE=16621 Bridger Canyon Road:geo:-110.8844653,45.8278466
END:VEVENT
BEGIN:VEVENT
DTSTART;TZID=America/Denver:20260122T190000
DTEND;TZID=America/Denver:20260122T190000
DTSTAMP:20260423T010516
CREATED:20251230T021916Z
LAST-MODIFIED:20251230T021916Z
UID:305068-1769108400-1769108400@bozone.com
SUMMARY:MSU Men's Basketball vs Idaho State
DESCRIPTION:Men’s Basketball 2025-26\n\n\nMSU Men’s Basketball vs Idaho State\n\n\nThu\, Jan 22\, 2026 ⦁ 7:00pm\nBrick Breeden Fieldhouse
URL:https://bozone.com/event/msu-mens-basketball-vs-idaho-state/
LOCATION:Brick Breeden Fieldhouse – MSU\, 1 Bobcat Cir\, Bozeman\, MT\, 59715\, United States
CATEGORIES:Sporting Events
GEO:45.6633486;-111.0506591
X-APPLE-STRUCTURED-LOCATION;VALUE=URI;X-ADDRESS=Brick Breeden Fieldhouse – MSU 1 Bobcat Cir Bozeman MT 59715 United States;X-APPLE-RADIUS=500;X-TITLE=1 Bobcat Cir:geo:-111.0506591,45.6633486
END:VEVENT
END:VCALENDAR