BEGIN:VCALENDAR
VERSION:2.0
PRODID:-//The BoZone - ECPv5.12.0//NONSGML v1.0//EN
CALSCALE:GREGORIAN
METHOD:PUBLISH
X-WR-CALNAME:The BoZone
X-ORIGINAL-URL:https://bozone.com
X-WR-CALDESC:Events for The BoZone
BEGIN:VTIMEZONE
TZID:America/Denver
BEGIN:DAYLIGHT
TZOFFSETFROM:-0700
TZOFFSETTO:-0600
TZNAME:MDT
DTSTART:20260308T090000
END:DAYLIGHT
BEGIN:STANDARD
TZOFFSETFROM:-0600
TZOFFSETTO:-0700
TZNAME:MST
DTSTART:20261101T080000
END:STANDARD
END:VTIMEZONE
BEGIN:VEVENT
DTSTART;TZID=America/Denver:20260119T111500
DTEND;TZID=America/Denver:20260119T111500
DTSTAMP:20260425T170356
CREATED:20250929T180526Z
LAST-MODIFIED:20251228T021718Z
UID:299352-1768821300-1768821300@bozone.com
SUMMARY:Public Skate
DESCRIPTION:  \nCheck-in at Ticket Booth is required prior to skating. \nAdult: $10\nYouth $7\nAges 5 and under: Free \nAdult 11x Punch Card: $100\nAdult Season Pass: $180\nYouth 11x Punch Card: $70\nYouth Season Pass: $125 \nSkate rental: $5 per pair.\nTicket Booth staff will assist with skate rentals.\n(No Sticks & Pucks)
URL:https://bozone.com/event/public-skate-25/
LOCATION:Ressler Rink – GCF\, Gallatin Fairgrounds\, Bozeman\, MT\, 59715\, United States
CATEGORIES:Sporting Events
GEO:45.689199;-111.037633
X-APPLE-STRUCTURED-LOCATION;VALUE=URI;X-ADDRESS=Ressler Rink – GCF Gallatin Fairgrounds Bozeman MT 59715 United States;X-APPLE-RADIUS=500;X-TITLE=Gallatin Fairgrounds:geo:-111.037633,45.689199
END:VEVENT
BEGIN:VEVENT
DTSTART;TZID=America/Denver:20260119T160000
DTEND;TZID=America/Denver:20260119T200000
DTSTAMP:20260425T170357
CREATED:20251128T024918Z
LAST-MODIFIED:20251229T054227Z
UID:302959-1768838400-1768852800@bozone.com
SUMMARY:Crosscut Night Ski
DESCRIPTION:Night Ski – First of the Season!\n\nLight up your winter nights! Ski our lighted loop on Mondays and Thursdays from 4–8 p.m. Mondays are Dog Days — bring your pup along for night skiing! Discounted rentals and passes available.
URL:https://bozone.com/event/crosscut-night-ski/
LOCATION:Crosscut Mountain Sports Center\, 16621 Bridger Canyon Road\, Bozeman\, MT\, 59715\, United States
CATEGORIES:Sporting Events
GEO:45.8278466;-110.8844653
X-APPLE-STRUCTURED-LOCATION;VALUE=URI;X-ADDRESS=Crosscut Mountain Sports Center 16621 Bridger Canyon Road Bozeman MT 59715 United States;X-APPLE-RADIUS=500;X-TITLE=16621 Bridger Canyon Road:geo:-110.8844653,45.8278466
END:VEVENT
BEGIN:VEVENT
DTSTART;TZID=America/Denver:20260119T190000
DTEND;TZID=America/Denver:20260119T190000
DTSTAMP:20260425T170357
CREATED:20251230T022601Z
LAST-MODIFIED:20251230T022601Z
UID:305073-1768849200-1768849200@bozone.com
SUMMARY:MSU Women's Basketball vs Northern Colorado
DESCRIPTION:Women’s Basketball 2025-26\n\n\nMSU Women’s Basketball vs Northern Colorado\n\n\nMon\, Jan 19\, 2026 ⦁ 7:00pm\nBrick Breeden Fieldhouse
URL:https://bozone.com/event/msu-womens-basketball-vs-northern-colorado/
LOCATION:Brick Breeden Fieldhouse – MSU\, 1 Bobcat Cir\, Bozeman\, MT\, 59715\, United States
CATEGORIES:Sporting Events
GEO:45.6633486;-111.0506591
X-APPLE-STRUCTURED-LOCATION;VALUE=URI;X-ADDRESS=Brick Breeden Fieldhouse – MSU 1 Bobcat Cir Bozeman MT 59715 United States;X-APPLE-RADIUS=500;X-TITLE=1 Bobcat Cir:geo:-111.0506591,45.6633486
END:VEVENT
END:VCALENDAR