BEGIN:VCALENDAR
VERSION:2.0
PRODID:-//The BoZone - ECPv5.12.0//NONSGML v1.0//EN
CALSCALE:GREGORIAN
METHOD:PUBLISH
X-WR-CALNAME:The BoZone
X-ORIGINAL-URL:https://bozone.com
X-WR-CALDESC:Events for The BoZone
BEGIN:VTIMEZONE
TZID:America/Denver
BEGIN:DAYLIGHT
TZOFFSETFROM:-0700
TZOFFSETTO:-0600
TZNAME:MDT
DTSTART:20260308T090000
END:DAYLIGHT
BEGIN:STANDARD
TZOFFSETFROM:-0600
TZOFFSETTO:-0700
TZNAME:MST
DTSTART:20261101T080000
END:STANDARD
END:VTIMEZONE
BEGIN:VEVENT
DTSTART;TZID=America/Denver:20260116T080000
DTEND;TZID=America/Denver:20260116T080000
DTSTAMP:20260425T213311
CREATED:20251229T004931Z
LAST-MODIFIED:20251229T004931Z
UID:304525-1768550400-1768550400@bozone.com
SUMMARY:Bridger Bowl's 71th Birthday
DESCRIPTION:Jan 16\n\nBridger Bowl’s 71th Birthday\n3 on a wheel to get the deal!\n\n\nCelebrate with Discounted Lift Tickets!\nMore Details
URL:https://bozone.com/event/bridger-bowls-71th-birthday/
LOCATION:Bridger Bowl\, 15795 Bridger Canyon Road\, Bozeman\, MT\, 595715\, United States
CATEGORIES:Sporting Events
GEO:45.6793339;-111.0320593
X-APPLE-STRUCTURED-LOCATION;VALUE=URI;X-ADDRESS=Bridger Bowl 15795 Bridger Canyon Road Bozeman MT 595715 United States;X-APPLE-RADIUS=500;X-TITLE=15795 Bridger Canyon Road:geo:-111.0320593,45.6793339
END:VEVENT
BEGIN:VEVENT
DTSTART;TZID=America/Denver:20260116T111500
DTEND;TZID=America/Denver:20260116T111500
DTSTAMP:20260425T213311
CREATED:20251026T033328Z
LAST-MODIFIED:20251228T021111Z
UID:300516-1768562100-1768562100@bozone.com
SUMMARY:Public Skate
DESCRIPTION:
URL:https://bozone.com/event/public-skate-32/
LOCATION:Ressler Rink – GCF\, Gallatin Fairgrounds\, Bozeman\, MT\, 59715\, United States
CATEGORIES:Sporting Events
GEO:45.689199;-111.037633
X-APPLE-STRUCTURED-LOCATION;VALUE=URI;X-ADDRESS=Ressler Rink – GCF Gallatin Fairgrounds Bozeman MT 59715 United States;X-APPLE-RADIUS=500;X-TITLE=Gallatin Fairgrounds:geo:-111.037633,45.689199
END:VEVENT
BEGIN:VEVENT
DTSTART;TZID=America/Denver:20260116T193000
DTEND;TZID=America/Denver:20260116T193000
DTSTAMP:20260425T213311
CREATED:20251126T044105Z
LAST-MODIFIED:20251126T044105Z
UID:302561-1768591800-1768591800@bozone.com
SUMMARY:Bozeman Stingers Hockey – Home Game vs Jackson Hole Moose
DESCRIPTION:The Bozeman Stingers host the McCall Mountaineers in a high-energy BDHL hockey matchup at Haynes Pavilion inside the Gallatin County Fairgrounds. Enjoy fast-paced\, hard-hitting hockey and a fun\, family-friendly atmosphere. Youth 10 & under are FREE all season.\nSpecial Promotion: HHL Weekend – ticket + drink bundle for Haynes Hockey League players with proof of enrollment. \nSchedule
URL:https://bozone.com/event/bozeman-stingers-hockey-home-game-vs-jackson-hole-moose/
LOCATION:GCF – Gallatin County Fairgrounds – GCF\, 901 N Black\, Bozeman\, United States
CATEGORIES:Sporting Events
GEO:45.6885954;-111.0358461
X-APPLE-STRUCTURED-LOCATION;VALUE=URI;X-ADDRESS=GCF – Gallatin County Fairgrounds – GCF 901 N Black Bozeman United States;X-APPLE-RADIUS=500;X-TITLE=901 N Black:geo:-111.0358461,45.6885954
END:VEVENT
BEGIN:VEVENT
DTSTART;TZID=America/Denver:20260116T203000
DTEND;TZID=America/Denver:20260116T203000
DTSTAMP:20260425T213311
CREATED:20251227T022101Z
LAST-MODIFIED:20251227T022101Z
UID:303688-1768595400-1768595400@bozone.com
SUMMARY:Women's Bobcat Hockey
DESCRIPTION:Hockey – MSU BobcatsLive Hockey\nMSU Bobcats Women’s Hockey vs. University of Utah\nFriday\, January 16\n8:30 PM Puck Drop\nTickets start at $5 – tickets.gallatinice.org
URL:https://bozone.com/event/womens-bobcat-hockey/
LOCATION:GCF – Gallatin County Fairgrounds – GCF\, 901 N Black\, Bozeman\, United States
CATEGORIES:Sporting Events
GEO:45.6885954;-111.0358461
X-APPLE-STRUCTURED-LOCATION;VALUE=URI;X-ADDRESS=GCF – Gallatin County Fairgrounds – GCF 901 N Black Bozeman United States;X-APPLE-RADIUS=500;X-TITLE=901 N Black:geo:-111.0358461,45.6885954
END:VEVENT
END:VCALENDAR