BEGIN:VCALENDAR
VERSION:2.0
PRODID:-//The BoZone - ECPv5.12.0//NONSGML v1.0//EN
CALSCALE:GREGORIAN
METHOD:PUBLISH
X-WR-CALNAME:The BoZone
X-ORIGINAL-URL:https://bozone.com
X-WR-CALDESC:Events for The BoZone
BEGIN:VTIMEZONE
TZID:America/Denver
BEGIN:DAYLIGHT
TZOFFSETFROM:-0700
TZOFFSETTO:-0600
TZNAME:MDT
DTSTART:20250309T090000
END:DAYLIGHT
BEGIN:STANDARD
TZOFFSETFROM:-0600
TZOFFSETTO:-0700
TZNAME:MST
DTSTART:20251102T080000
END:STANDARD
END:VTIMEZONE
BEGIN:VEVENT
DTSTART;TZID=America/Denver:20251126T090000
DTEND;TZID=America/Denver:20251126T160000
DTSTAMP:20260425T123746
CREATED:20251026T155629Z
LAST-MODIFIED:20251026T155629Z
UID:300566-1764147600-1764172800@bozone.com
SUMMARY:Opening Day Winter 2025-26
DESCRIPTION:Opening Day Winter 2025-26\n\nNovember 26\n9:00 AM – 4:00 PM\n\nMountain Village\n\nJoin us on Wednesday\, November 26th\, as we kick off our 2025-26 winter season.
URL:https://bozone.com/event/opening-day-winter-2025-26/
LOCATION:Big Sky Resort\, 50 Big Sky Resort Rd\, Big Sky\, MT\, 59716\, United States
CATEGORIES:Sporting Events
GEO:45.2850903;-111.4010128
X-APPLE-STRUCTURED-LOCATION;VALUE=URI;X-ADDRESS=Big Sky Resort 50 Big Sky Resort Rd Big Sky MT 59716 United States;X-APPLE-RADIUS=500;X-TITLE=50 Big Sky Resort Rd:geo:-111.4010128,45.2850903
END:VEVENT
END:VCALENDAR