BEGIN:VCALENDAR
VERSION:2.0
PRODID:-//The BoZone - ECPv5.12.0//NONSGML v1.0//EN
CALSCALE:GREGORIAN
METHOD:PUBLISH
X-WR-CALNAME:The BoZone
X-ORIGINAL-URL:https://bozone.com
X-WR-CALDESC:Events for The BoZone
BEGIN:VTIMEZONE
TZID:America/Denver
BEGIN:DAYLIGHT
TZOFFSETFROM:-0700
TZOFFSETTO:-0600
TZNAME:MDT
DTSTART:20250309T090000
END:DAYLIGHT
BEGIN:STANDARD
TZOFFSETFROM:-0600
TZOFFSETTO:-0700
TZNAME:MST
DTSTART:20251102T080000
END:STANDARD
END:VTIMEZONE
BEGIN:VEVENT
DTSTART;TZID=America/Denver:20251122T093000
DTEND;TZID=America/Denver:20251122T093000
DTSTAMP:20260423T142139
CREATED:20251109T200800Z
LAST-MODIFIED:20251109T200800Z
UID:301856-1763803800-1763803800@bozone.com
SUMMARY:Cat/Griz Watch Party + Brunch Event
DESCRIPTION:🏈 Ponderosa’s BIG Cat/Griz Watch party and Brunch event!🥞 We’ll have a loaded pancake bar\, a build your own omelette bar\, and a loaded mimosa bar – All served to order!\n🎳 $5 bowling from 9:30am-game end\n🎶 Live DJ will be here to keep the Bobcat energy alive.\nEnter in for Huge prize giveaways before\, during\, and after the game!\nGO Cats GO!
URL:https://bozone.com/event/cat-griz-watch-party-brunch-event/
LOCATION:Ponderosa Social Club\, 515 W Aspen\, Bozeman\, MT\, 59715\, United States
CATEGORIES:Sporting Events
GEO:45.687753;-111.0446275
X-APPLE-STRUCTURED-LOCATION;VALUE=URI;X-ADDRESS=Ponderosa Social Club 515 W Aspen Bozeman MT 59715 United States;X-APPLE-RADIUS=500;X-TITLE=515 W Aspen:geo:-111.0446275,45.687753
END:VEVENT
BEGIN:VEVENT
DTSTART;TZID=America/Denver:20251122T163000
DTEND;TZID=America/Denver:20251122T163000
DTSTAMP:20260423T142139
CREATED:20251025T021005Z
LAST-MODIFIED:20251025T021005Z
UID:300227-1763829000-1763829000@bozone.com
SUMMARY:Hockey - MSU Bobcats
DESCRIPTION:Live HockeyMSU Bobcats Women’s Hockey vs. University of Washington\nSaturday\, November 22nd\n4:30 PM Puck Drop\nTickets start at $5 – tickets.gallatinice.org
URL:https://bozone.com/event/hockey-msu-bobcats-3/
LOCATION:GCF – Gallatin County Fairgrounds – GCF\, 901 N Black\, Bozeman\, United States
CATEGORIES:Sporting Events
GEO:45.6885954;-111.0358461
X-APPLE-STRUCTURED-LOCATION;VALUE=URI;X-ADDRESS=GCF – Gallatin County Fairgrounds – GCF 901 N Black Bozeman United States;X-APPLE-RADIUS=500;X-TITLE=901 N Black:geo:-111.0358461,45.6885954
END:VEVENT
BEGIN:VEVENT
DTSTART;TZID=America/Denver:20251122T193000
DTEND;TZID=America/Denver:20251122T193000
DTSTAMP:20260423T142139
CREATED:20251028T185659Z
LAST-MODIFIED:20251028T185659Z
UID:301164-1763839800-1763839800@bozone.com
SUMMARY:Bozeman Ice Dogs vs Badlands
DESCRIPTION:
URL:https://bozone.com/event/bozeman-ice-dogs-vs-badlands-2/
LOCATION:Haynes Pavilion – GCF\, 901 N Black\, Bozeman\, United States
CATEGORIES:Sporting Events
GEO:45.6885954;-111.0358461
X-APPLE-STRUCTURED-LOCATION;VALUE=URI;X-ADDRESS=Haynes Pavilion – GCF 901 N Black Bozeman United States;X-APPLE-RADIUS=500;X-TITLE=901 N Black:geo:-111.0358461,45.6885954
END:VEVENT
END:VCALENDAR