BEGIN:VCALENDAR
VERSION:2.0
PRODID:-//The BoZone - ECPv5.12.0//NONSGML v1.0//EN
CALSCALE:GREGORIAN
METHOD:PUBLISH
X-WR-CALNAME:The BoZone
X-ORIGINAL-URL:https://bozone.com
X-WR-CALDESC:Events for The BoZone
BEGIN:VTIMEZONE
TZID:America/Denver
BEGIN:DAYLIGHT
TZOFFSETFROM:-0700
TZOFFSETTO:-0600
TZNAME:MDT
DTSTART:20250309T090000
END:DAYLIGHT
BEGIN:STANDARD
TZOFFSETFROM:-0600
TZOFFSETTO:-0700
TZNAME:MST
DTSTART:20251102T080000
END:STANDARD
END:VTIMEZONE
BEGIN:VEVENT
DTSTART;TZID=America/Denver:20251108T130000
DTEND;TZID=America/Denver:20251108T170000
DTSTAMP:20260422T163736
CREATED:20250730T163238Z
LAST-MODIFIED:20250730T163238Z
UID:295035-1762606800-1762621200@bozone.com
SUMMARY:Bobcat Football vs. Weber State
DESCRIPTION:Bobcat Football vs. Weber State\n\n\nSat\, Nov 8\, 2025 ⦁ 1:00pm\nBobcat Stadium
URL:https://bozone.com/event/bobcat-football-vs-weber-state/
LOCATION:Bobcat Stadium – MSU\, 1 Bobcat Cir\, Bozeman\, MT\, 59715\, United States
CATEGORIES:Sporting Events
GEO:45.6603009;-111.0500113
X-APPLE-STRUCTURED-LOCATION;VALUE=URI;X-ADDRESS=Bobcat Stadium – MSU 1 Bobcat Cir Bozeman MT 59715 United States;X-APPLE-RADIUS=500;X-TITLE=1 Bobcat Cir:geo:-111.0500113,45.6603009
END:VEVENT
BEGIN:VEVENT
DTSTART;TZID=America/Denver:20251108T190000
DTEND;TZID=America/Denver:20251108T190000
DTSTAMP:20260422T163736
CREATED:20251026T033735Z
LAST-MODIFIED:20251026T033735Z
UID:300503-1762628400-1762628400@bozone.com
SUMMARY:Bozeman Icedogs vs Gillette Wild
DESCRIPTION:
URL:https://bozone.com/event/bozeman-icedogs-vs-gillette-wild/
LOCATION:Ressler Rink – GCF\, Gallatin Fairgrounds\, Bozeman\, MT\, 59715\, United States
CATEGORIES:Sporting Events
GEO:45.689199;-111.037633
X-APPLE-STRUCTURED-LOCATION;VALUE=URI;X-ADDRESS=Ressler Rink – GCF Gallatin Fairgrounds Bozeman MT 59715 United States;X-APPLE-RADIUS=500;X-TITLE=Gallatin Fairgrounds:geo:-111.037633,45.689199
END:VEVENT
BEGIN:VEVENT
DTSTART;TZID=America/Denver:20251108T193000
DTEND;TZID=America/Denver:20251108T193000
DTSTAMP:20260422T163736
CREATED:20251028T185438Z
LAST-MODIFIED:20251028T185438Z
UID:301162-1762630200-1762630200@bozone.com
SUMMARY:Bozeman Ice Dogs vs Gillette
DESCRIPTION:
URL:https://bozone.com/event/bozeman-ice-dogs-vs-gillette/
LOCATION:Haynes Pavilion – GCF\, 901 N Black\, Bozeman\, United States
CATEGORIES:Sporting Events
GEO:45.6885954;-111.0358461
X-APPLE-STRUCTURED-LOCATION;VALUE=URI;X-ADDRESS=Haynes Pavilion – GCF 901 N Black Bozeman United States;X-APPLE-RADIUS=500;X-TITLE=901 N Black:geo:-111.0358461,45.6885954
END:VEVENT
END:VCALENDAR