BEGIN:VCALENDAR
VERSION:2.0
PRODID:-//The BoZone - ECPv5.12.0//NONSGML v1.0//EN
CALSCALE:GREGORIAN
METHOD:PUBLISH
X-WR-CALNAME:The BoZone
X-ORIGINAL-URL:https://bozone.com
X-WR-CALDESC:Events for The BoZone
BEGIN:VTIMEZONE
TZID:America/Denver
BEGIN:DAYLIGHT
TZOFFSETFROM:-0700
TZOFFSETTO:-0600
TZNAME:MDT
DTSTART:20250309T090000
END:DAYLIGHT
BEGIN:STANDARD
TZOFFSETFROM:-0600
TZOFFSETTO:-0700
TZNAME:MST
DTSTART:20251102T080000
END:STANDARD
END:VTIMEZONE
BEGIN:VEVENT
DTSTART;TZID=America/Denver:20251107T190000
DTEND;TZID=America/Denver:20251107T190000
DTSTAMP:20260422T144612
CREATED:20251026T033748Z
LAST-MODIFIED:20251026T033748Z
UID:300502-1762542000-1762542000@bozone.com
SUMMARY:Bozeman Icedogs vs Gillette Wild
DESCRIPTION:Bozeman Icedogs vs Gillette Wild- Puck Drop @ 7:30PM\nFriday\, November 7·7:00 – 9:45pm
URL:https://bozone.com/event/bozeman-icedogs-vs-gillette-wild-2/
LOCATION:Ressler Rink – GCF\, Gallatin Fairgrounds\, Bozeman\, MT\, 59715\, United States
CATEGORIES:Sporting Events
GEO:45.689199;-111.037633
X-APPLE-STRUCTURED-LOCATION;VALUE=URI;X-ADDRESS=Ressler Rink – GCF Gallatin Fairgrounds Bozeman MT 59715 United States;X-APPLE-RADIUS=500;X-TITLE=Gallatin Fairgrounds:geo:-111.037633,45.689199
END:VEVENT
BEGIN:VEVENT
DTSTART;TZID=America/Denver:20251107T193000
DTEND;TZID=America/Denver:20251107T193000
DTSTAMP:20260422T144612
CREATED:20251028T185334Z
LAST-MODIFIED:20251028T185408Z
UID:301161-1762543800-1762543800@bozone.com
SUMMARY:Bozeman Ice Dogs vs Gillette
DESCRIPTION:
URL:https://bozone.com/event/bozeman-ice-dogs-vs-helena/
LOCATION:Haynes Pavilion – GCF\, 901 N Black\, Bozeman\, United States
CATEGORIES:Sporting Events
GEO:45.6885954;-111.0358461
X-APPLE-STRUCTURED-LOCATION;VALUE=URI;X-ADDRESS=Haynes Pavilion – GCF 901 N Black Bozeman United States;X-APPLE-RADIUS=500;X-TITLE=901 N Black:geo:-111.0358461,45.6885954
END:VEVENT
END:VCALENDAR