BEGIN:VCALENDAR
VERSION:2.0
PRODID:-//The BoZone - ECPv5.12.0//NONSGML v1.0//EN
CALSCALE:GREGORIAN
METHOD:PUBLISH
X-WR-CALNAME:The BoZone
X-ORIGINAL-URL:https://bozone.com
X-WR-CALDESC:Events for The BoZone
BEGIN:VTIMEZONE
TZID:America/Denver
BEGIN:DAYLIGHT
TZOFFSETFROM:-0700
TZOFFSETTO:-0600
TZNAME:MDT
DTSTART:20250309T090000
END:DAYLIGHT
BEGIN:STANDARD
TZOFFSETFROM:-0600
TZOFFSETTO:-0700
TZNAME:MST
DTSTART:20251102T080000
END:STANDARD
END:VTIMEZONE
BEGIN:VEVENT
DTSTART;TZID=America/Denver:20250327T070000
DTEND;TZID=America/Denver:20250327T170000
DTSTAMP:20260425T172243
CREATED:20250126T200726Z
LAST-MODIFIED:20250126T200726Z
UID:281166-1743058800-1743094800@bozone.com
SUMMARY:U.S. Biathlon Senior Nationals & Spring Festival
DESCRIPTION:Mar\n27\nto Mar 29\n\n\n\n\nU.S. Biathlon Senior Nationals & Spring Festival presented by Toyota\nSchedule\n\n\nTuesday 3/25: Unofficial Training Day \n\n\nWednesday 3/26: Official Training Day \n\n\nThursday 3/27: Sprint Races \n\n\nFriday 3/28: Mass Start Races & Evening Banquet in Downtown Bozeman \n\n\nSaturday 3/29: Super Sprint Final (seeded based on results of the Mass Start) \n\n\n\nThu\, Mar 27\, 2025  7:00 AM  Sat\, Mar 29\, 2025  5:00 PM \nCrosscut Mountain Sports Center (map)\n\n\nCrosscut is thrilled to be the host of the 2025 U.S. Biathlon Senior Nationals & Spring Festival drawing athletes from around the country including U.S. National Biathlon Team members.
URL:https://bozone.com/event/u-s-biathlon-senior-nationals-spring-festival-2025-03-27/
LOCATION:Crosscut Mountain Sports Center\, 16621 Bridger Canyon Road\, Bozeman\, MT\, 59715\, United States
CATEGORIES:Sporting Events
GEO:45.8278466;-110.8844653
X-APPLE-STRUCTURED-LOCATION;VALUE=URI;X-ADDRESS=Crosscut Mountain Sports Center 16621 Bridger Canyon Road Bozeman MT 59715 United States;X-APPLE-RADIUS=500;X-TITLE=16621 Bridger Canyon Road:geo:-110.8844653,45.8278466
END:VEVENT
BEGIN:VEVENT
DTSTART;TZID=America/Denver:20250327T180000
DTEND;TZID=America/Denver:20250327T180000
DTSTAMP:20260425T172243
CREATED:20241024T182044Z
LAST-MODIFIED:20241024T182044Z
UID:272790-1743098400-1743098400@bozone.com
SUMMARY:UTC Fight Night: The Ultimate Tying Championship
DESCRIPTION:UTC Fight Night is a community fly-tying competition that occurs the last thursday of each Month. The winners of each month will compete in the Grand Finale in April. Bring your vise\, tools\, materials\, and beverages to tie some flies at Bozeman Fly Supply. This is not a class\, but an invitation for to get out of the house\, get behind the vise\, and have fun with fellow tiers.\nThe fly-tying table will be open at 6pm\, the competition starts at 7pm\, and we will stay open until 9pm. This is a FREE event\, and the shop will be open to purchase materials if you need them.
URL:https://bozone.com/event/utc-fight-night-the-ultimate-tying-championship-2025-03-27/
LOCATION:Bozeman Fly Supply\, 2621 W College St Unit B\, Bozeman\, MT\, 59718\, United States
CATEGORIES:Sporting Events
GEO:45.6717821;-111.0734444
X-APPLE-STRUCTURED-LOCATION;VALUE=URI;X-ADDRESS=Bozeman Fly Supply 2621 W College St Unit B Bozeman MT 59718 United States;X-APPLE-RADIUS=500;X-TITLE=2621 W College St Unit B:geo:-111.0734444,45.6717821
END:VEVENT
END:VCALENDAR