BEGIN:VCALENDAR
VERSION:2.0
PRODID:-//The BoZone - ECPv5.12.0//NONSGML v1.0//EN
CALSCALE:GREGORIAN
METHOD:PUBLISH
X-WR-CALNAME:The BoZone
X-ORIGINAL-URL:https://bozone.com
X-WR-CALDESC:Events for The BoZone
BEGIN:VTIMEZONE
TZID:America/Denver
BEGIN:DAYLIGHT
TZOFFSETFROM:-0700
TZOFFSETTO:-0600
TZNAME:MDT
DTSTART:20240310T090000
END:DAYLIGHT
BEGIN:STANDARD
TZOFFSETFROM:-0600
TZOFFSETTO:-0700
TZNAME:MST
DTSTART:20241103T080000
END:STANDARD
END:VTIMEZONE
BEGIN:VEVENT
DTSTART;TZID=America/Denver:20240809T180000
DTEND;TZID=America/Denver:20240809T180000
DTSTAMP:20260424T113301
CREATED:20240729T183857Z
LAST-MODIFIED:20240729T183857Z
UID:267617-1723226400-1723226400@bozone.com
SUMMARY:14TH Annual Bozeman Stampede
DESCRIPTION:14TH ANNUAL Bozeman Stampede\nAUGUST 8TH\, 9TH\, AND 10TH | 2024\nGALLATIN COUNTY FAIRGROUNDS\nGATES OPEN AT 6:00 • RODEO STARTS AT 7:00\nPURCHASE TICKETS ONLINE\nTICKETS ON SALE JUNE 1ST!Tickets NOW ARE for Sale At Murdoch’s!\nThe Bozeman Stampede is a non-profit local PRCA rodeo in Bozeman\, MT. This three day event contains all your favorite rodeo action and benefits local youth Ag organization. The Bozeman Stampede is a non-profit local PRCA rodeo in Bozeman\, MT. This three day event contains all your favorite rodeo action and benefits local youth Ag organization. \nhttps://bozemanstampede.com/
URL:https://bozone.com/event/14th-annual-bozeman-stampede-2024-08-09/
LOCATION:GCF – Gallatin County Fairgrounds – GCF\, 901 N Black\, Bozeman\, United States
CATEGORIES:Miscellanea,Sporting Events
GEO:45.6885954;-111.0358461
X-APPLE-STRUCTURED-LOCATION;VALUE=URI;X-ADDRESS=GCF – Gallatin County Fairgrounds – GCF 901 N Black Bozeman United States;X-APPLE-RADIUS=500;X-TITLE=901 N Black:geo:-111.0358461,45.6885954
END:VEVENT
END:VCALENDAR