BEGIN:VCALENDAR
VERSION:2.0
PRODID:-//The BoZone - ECPv5.12.0//NONSGML v1.0//EN
CALSCALE:GREGORIAN
METHOD:PUBLISH
X-WR-CALNAME:The BoZone
X-ORIGINAL-URL:https://bozone.com
X-WR-CALDESC:Events for The BoZone
BEGIN:VTIMEZONE
TZID:America/Denver
BEGIN:DAYLIGHT
TZOFFSETFROM:-0700
TZOFFSETTO:-0600
TZNAME:MDT
DTSTART:20260308T090000
END:DAYLIGHT
BEGIN:STANDARD
TZOFFSETFROM:-0600
TZOFFSETTO:-0700
TZNAME:MST
DTSTART:20261101T080000
END:STANDARD
END:VTIMEZONE
BEGIN:VEVENT
DTSTART;TZID=America/Denver:20260125T090000
DTEND;TZID=America/Denver:20260125T153000
DTSTAMP:20260422T153657
CREATED:20251228T172934Z
LAST-MODIFIED:20251228T224823Z
UID:304267-1769331600-1769355000@bozone.com
SUMMARY:Wintergreen Contra Dance Weekend (Pre-Reg Rqrd)
DESCRIPTION:Sunday  warm-up dancing starts at 9:15 AM\, contra dancing starts at\n10 AM and runs until 12:30 PM.\n\n\nWintergreen Contra Dance Weekend\nJanuary 23\, 2026\, 6:00pm – January 25\, 2026\, 12:30pm\n\n\nPRE-REGISTER AT\n\n\nhttps://bozemanfolklore.org/wintergreen-2026/\n\n\n\n\n\n\n\nBozeman Senior Social Center\n807 N Tracy Ave\, Bozeman\, MT 59715\, USA\n\n\n\n\n\nWake Up Robin\, Hyoergolic\, Christa Torrens\, and a caller TBA.\n\n\n\n\n\n\nbozemanfolklore@gmail.com\n\nCreated by: marty.albini@gmail.com
URL:https://bozone.com/event/wintergreen-contra-dance-weekend-6/
LOCATION:Tamarack Ballroom – Bozeman Senior Center\, 807 N Tracy Ave\, Bozeman\, MT\, 59715\, United States
CATEGORIES:Classes,Miscellanea,Music
GEO:45.6878919;-111.0378686
X-APPLE-STRUCTURED-LOCATION;VALUE=URI;X-ADDRESS=Tamarack Ballroom – Bozeman Senior Center 807 N Tracy Ave Bozeman MT 59715 United States;X-APPLE-RADIUS=500;X-TITLE=807 N Tracy Ave:geo:-111.0378686,45.6878919
END:VEVENT
BEGIN:VEVENT
DTSTART;TZID=America/Denver:20260125T143000
DTEND;TZID=America/Denver:20260125T143000
DTSTAMP:20260422T153657
CREATED:20251227T025134Z
LAST-MODIFIED:20251227T025134Z
UID:303862-1769351400-1769351400@bozone.com
SUMMARY:Masters of Melody: Mozart\, Copland\, & Haydn
DESCRIPTION:The Bozeman Symphony will spotlight its principal clarinetist and acclaimed horn section in Masters of Melody: Mozart\, Copland\, & Haydn\, with performances on Saturday\, Jan. 24\, at 7:30 p.m. and Sunday\, Jan. 25\, at 2:30 p.m. at the Willson Auditorium in Bozeman.The program opens with the elegance and sophistication of Mozart’s Symphony No. 38\, one of the composer’s final orchestral masterpieces. The work begins with a dramatic\, slow introduction before bursting into a spirited main theme that foreshadows the beloved overture to The Magic Flute. A deeply reflective middle movement gives way to a lively and joyful finale.\nAlso featured is Aaron Copland’s Clarinet Concerto\, commissioned by jazz legend Benny Goodman and performed by the Symphony’s principal clarinetist\, Wendy Bickford. The concerto opens with one of Copland’s most lyrical and expressive melodies before evolving into an electrifying\, jazz-inspired finale filled with glissandos and blues-inflected flair.\nThe concert concludes with the Concerto for Two Horns and Orchestra\, attributed to Haydn\, showcasing the brilliance and virtuosity of the Bozeman Symphony’s principal and associate principal horns Madeleine Folkerts and Elizabeth Schmidt. A landmark work in the brass repertoire\, the concerto features exhilarating runs\, elegant melodies\, and a dynamic interplay between the soloists and orchestra.\nThese performances are made possible by the generous support of sponsors The Dovana Foundation\, Calum & Tricia DeSouza\, Bob & Donna Ritchie\, Bruce & Kimberlie Jodar\, Barbara & Ben Phinney\, and David & Kippy Sands.\nTickets start at $30 for adults\, with discounted tickets available for students. Purchase online at https://fthr-content.bozemansymphony.org/CL3MelodyPrint or by calling 406-585-9774. Tickets at the door are subject to availability.
URL:https://bozone.com/event/masters-of-melody-mozart-copland-haydn-2/
LOCATION:Willson Auditorium\, 404 W Main\, Bozeman\, MT\, 59715\, United States
CATEGORIES:Music
GEO:45.678736;-111.042606
X-APPLE-STRUCTURED-LOCATION;VALUE=URI;X-ADDRESS=Willson Auditorium 404 W Main Bozeman MT 59715 United States;X-APPLE-RADIUS=500;X-TITLE=404 W Main:geo:-111.042606,45.678736
END:VEVENT
BEGIN:VEVENT
DTSTART;TZID=America/Denver:20260125T150000
DTEND;TZID=America/Denver:20260125T180000
DTSTAMP:20260422T153657
CREATED:20251228T025143Z
LAST-MODIFIED:20251228T025143Z
UID:303982-1769353200-1769364000@bozone.com
SUMMARY:Après-Ski DJs
DESCRIPTION:Après-Ski in the Mountain Village Plaza\nFridays\, Saturdays\, & Sundays 3-6 pm\n\n\n\nDance off the ski day with local and guest DJs in the Mountain Village Plaza.
URL:https://bozone.com/event/apres-ski-djs-13/
LOCATION:Mountain Village Plaza – Big Sky\, 50 Big Sky Resort Road\, Big Sky\, MT\, 59716\, United States
CATEGORIES:Music
GEO:45.2857407;-111.4012409
X-APPLE-STRUCTURED-LOCATION;VALUE=URI;X-ADDRESS=Mountain Village Plaza – Big Sky 50 Big Sky Resort Road Big Sky MT 59716 United States;X-APPLE-RADIUS=500;X-TITLE=50 Big Sky Resort Road:geo:-111.4012409,45.2857407
END:VEVENT
BEGIN:VEVENT
DTSTART;TZID=America/Denver:20260125T180000
DTEND;TZID=America/Denver:20260125T180000
DTSTAMP:20260422T153657
CREATED:20251228T033206Z
LAST-MODIFIED:20251228T033206Z
UID:304064-1769364000-1769364000@bozone.com
SUMMARY:Lena Rich Duo
DESCRIPTION:Sunday\, Jan 25\, 6-9 PM\nLena Rich Duo\nLive Music — Vista Hall
URL:https://bozone.com/event/lena-rich-duo-9/
LOCATION:Vista Hall – Big Sky Resort\, 50 Big Sky Resort Rd\, Big Sky\, MT\, 59716\, United States
CATEGORIES:Music
GEO:45.2857407;-111.4012409
X-APPLE-STRUCTURED-LOCATION;VALUE=URI;X-ADDRESS=Vista Hall – Big Sky Resort 50 Big Sky Resort Rd Big Sky MT 59716 United States;X-APPLE-RADIUS=500;X-TITLE=50 Big Sky Resort Rd:geo:-111.4012409,45.2857407
END:VEVENT
BEGIN:VEVENT
DTSTART;TZID=America/Denver:20260125T190000
DTEND;TZID=America/Denver:20260125T190000
DTSTAMP:20260422T153657
CREATED:20250524T162746Z
LAST-MODIFIED:20251127T210558Z
UID:290162-1769367600-1769367600@bozone.com
SUMMARY:Bridger Mountain Big Band
DESCRIPTION:Sundays: Bridger Mountain Big Band @ 7pm
URL:https://bozone.com/event/bridger-mountain-big-band-4/
LOCATION:Eagles Bar\, 316 E Main Street\, Bozeman\, MT\, 59715\, United States
CATEGORIES:Music
GEO:45.6790336;-111.0324891
X-APPLE-STRUCTURED-LOCATION;VALUE=URI;X-ADDRESS=Eagles Bar 316 E Main Street Bozeman MT 59715 United States;X-APPLE-RADIUS=500;X-TITLE=316 E Main Street:geo:-111.0324891,45.6790336
END:VEVENT
BEGIN:VEVENT
DTSTART;TZID=America/Denver:20260125T190000
DTEND;TZID=America/Denver:20260125T190000
DTSTAMP:20260422T153657
CREATED:20251125T172121Z
LAST-MODIFIED:20251125T172121Z
UID:302343-1769367600-1769367600@bozone.com
SUMMARY:Fuzzy B
DESCRIPTION:One half of the Butte-based electro-funk duo “Desperate Electric\,” Ben Morris has been playing music around Montana for over six years with a variety of bands. Playing a solo show out at the Hot Springs\, Morris will be bringing the band’s style to a more laid-back\, intimate showing. Featuring acoustic versions of Desperate Electric originals\, originals written by Morris\, and a handful of groovy covers\, this will be a perfect show for a relaxing winter night
URL:https://bozone.com/event/fuzzy-b-12/
LOCATION:Bozeman Hot Springs\, 81123 Gallatin Road\, Bozeman\, MT\, 59718\, United States
CATEGORIES:Music
GEO:45.6604005;-111.1877192
X-APPLE-STRUCTURED-LOCATION;VALUE=URI;X-ADDRESS=Bozeman Hot Springs 81123 Gallatin Road Bozeman MT 59718 United States;X-APPLE-RADIUS=500;X-TITLE=81123 Gallatin Road:geo:-111.1877192,45.6604005
END:VEVENT
END:VCALENDAR