BEGIN:VCALENDAR
VERSION:2.0
PRODID:-//The BoZone - ECPv5.12.0//NONSGML v1.0//EN
CALSCALE:GREGORIAN
METHOD:PUBLISH
X-WR-CALNAME:The BoZone
X-ORIGINAL-URL:https://bozone.com
X-WR-CALDESC:Events for The BoZone
BEGIN:VTIMEZONE
TZID:America/Denver
BEGIN:DAYLIGHT
TZOFFSETFROM:-0700
TZOFFSETTO:-0600
TZNAME:MDT
DTSTART:20260308T090000
END:DAYLIGHT
BEGIN:STANDARD
TZOFFSETFROM:-0600
TZOFFSETTO:-0700
TZNAME:MST
DTSTART:20261101T080000
END:STANDARD
END:VTIMEZONE
BEGIN:VEVENT
DTSTART;TZID=America/Denver:20260111T150000
DTEND;TZID=America/Denver:20260111T180000
DTSTAMP:20260423T121429
CREATED:20251228T024417Z
LAST-MODIFIED:20251228T024733Z
UID:303964-1768143600-1768154400@bozone.com
SUMMARY:Après-Ski DJs
DESCRIPTION:Après-Ski in the Mountain Village Plaza\nFridays\, Saturdays\, & Sundays 3-6 pm\n\n\n\nDance off the ski day with local and guest DJs in the Mountain Village Plaza.
URL:https://bozone.com/event/apres-ski-djs-7/
LOCATION:Mountain Village Plaza – Big Sky\, 50 Big Sky Resort Road\, Big Sky\, MT\, 59716\, United States
CATEGORIES:Music
GEO:45.2857407;-111.4012409
X-APPLE-STRUCTURED-LOCATION;VALUE=URI;X-ADDRESS=Mountain Village Plaza – Big Sky 50 Big Sky Resort Road Big Sky MT 59716 United States;X-APPLE-RADIUS=500;X-TITLE=50 Big Sky Resort Road:geo:-111.4012409,45.2857407
END:VEVENT
BEGIN:VEVENT
DTSTART;TZID=America/Denver:20260111T151500
DTEND;TZID=America/Denver:20260111T170000
DTSTAMP:20260423T121429
CREATED:20250928T143202Z
LAST-MODIFIED:20251230T015245Z
UID:298521-1768144500-1768150800@bozone.com
SUMMARY:Celtic Jam
DESCRIPTION:Celtic Jam\n\n\n\n\nCeltic Jam 3:30 PM – 5:30 PM Valhalla Meadery\, 875 Bridger Dr\, Bozeman\, MT 59715\, USA\n\n\nOpen jam for musicians of all kinds. Contact organizer at: Kneal.Hollander@BozemanFolklore.org
URL:https://bozone.com/event/celtic-jam-12/
LOCATION:Valhalla Meadery\, 875 Bridger Drive Unit B\, Bozeman\, MT\, 59715\, United States
CATEGORIES:Music
GEO:45.7034876;-111.0248629
X-APPLE-STRUCTURED-LOCATION;VALUE=URI;X-ADDRESS=Valhalla Meadery 875 Bridger Drive Unit B Bozeman MT 59715 United States;X-APPLE-RADIUS=500;X-TITLE=875 Bridger Drive Unit B:geo:-111.0248629,45.7034876
END:VEVENT
BEGIN:VEVENT
DTSTART;TZID=America/Denver:20260111T180000
DTEND;TZID=America/Denver:20260111T180000
DTSTAMP:20260423T121429
CREATED:20251220T213833Z
LAST-MODIFIED:20251220T213833Z
UID:303586-1768154400-1768154400@bozone.com
SUMMARY:West Dakota Stutter
DESCRIPTION:Folk Rock for the Soul when you get the Blues in a Honky Tonk \nSunday 1/11 Woolzie’s Cafe Willow Creek 6-8pm
URL:https://bozone.com/event/west-dakota-stutter-33/
LOCATION:Woolzie’s Willow Creek Cafe & Saloon\, 21 Main St\, Willow Creek\, MT\, 59760\, United States
CATEGORIES:Music
GEO:45.8277771;-111.6452434
X-APPLE-STRUCTURED-LOCATION;VALUE=URI;X-ADDRESS=Woolzie’s Willow Creek Cafe & Saloon 21 Main St Willow Creek MT 59760 United States;X-APPLE-RADIUS=500;X-TITLE=21 Main St:geo:-111.6452434,45.8277771
END:VEVENT
BEGIN:VEVENT
DTSTART;TZID=America/Denver:20260111T180000
DTEND;TZID=America/Denver:20260111T180000
DTSTAMP:20260423T121429
CREATED:20251228T032314Z
LAST-MODIFIED:20251228T032314Z
UID:304045-1768154400-1768154400@bozone.com
SUMMARY:Lena Rich Duo
DESCRIPTION:Sunday\, Jan 11\, 6-9 PM\nLena Rich Duo\nLive Music — Vista Hall
URL:https://bozone.com/event/lena-rich-duo-7/
LOCATION:Vista Hall – Big Sky Resort\, 50 Big Sky Resort Rd\, Big Sky\, MT\, 59716\, United States
CATEGORIES:Music
GEO:45.2857407;-111.4012409
X-APPLE-STRUCTURED-LOCATION;VALUE=URI;X-ADDRESS=Vista Hall – Big Sky Resort 50 Big Sky Resort Rd Big Sky MT 59716 United States;X-APPLE-RADIUS=500;X-TITLE=50 Big Sky Resort Rd:geo:-111.4012409,45.2857407
END:VEVENT
BEGIN:VEVENT
DTSTART;TZID=America/Denver:20260111T190000
DTEND;TZID=America/Denver:20260111T190000
DTSTAMP:20260423T121429
CREATED:20250524T162837Z
LAST-MODIFIED:20251127T210435Z
UID:290155-1768158000-1768158000@bozone.com
SUMMARY:Bridger Mountain Big Band
DESCRIPTION:Sundays: Bridger Mountain Big Band @ 7pm
URL:https://bozone.com/event/bridger-mountain-big-band-6/
LOCATION:Eagles Bar\, 316 E Main Street\, Bozeman\, MT\, 59715\, United States
CATEGORIES:Music
GEO:45.6790336;-111.0324891
X-APPLE-STRUCTURED-LOCATION;VALUE=URI;X-ADDRESS=Eagles Bar 316 E Main Street Bozeman MT 59715 United States;X-APPLE-RADIUS=500;X-TITLE=316 E Main Street:geo:-111.0324891,45.6790336
END:VEVENT
BEGIN:VEVENT
DTSTART;TZID=America/Denver:20260111T190000
DTEND;TZID=America/Denver:20260111T190000
DTSTAMP:20260423T121429
CREATED:20251125T172106Z
LAST-MODIFIED:20251125T172106Z
UID:302346-1768158000-1768158000@bozone.com
SUMMARY:Peter King
DESCRIPTION:The front-man of the Bozeman-based country rock band “The Dead Yellers\,” Peter king has been playing music all around Bozeman for over ten years. Combining twangy country vocals with rock guitar stylings\, Peter King brings a style of music that both country and rock fans will love. Playing a mix of originals and covers\, King will make for a perfect relaxing Sunday night show.
URL:https://bozone.com/event/peter-king-6/
LOCATION:Bozeman Hot Springs\, 81123 Gallatin Road\, Bozeman\, MT\, 59718\, United States
CATEGORIES:Music
GEO:45.6604005;-111.1877192
X-APPLE-STRUCTURED-LOCATION;VALUE=URI;X-ADDRESS=Bozeman Hot Springs 81123 Gallatin Road Bozeman MT 59718 United States;X-APPLE-RADIUS=500;X-TITLE=81123 Gallatin Road:geo:-111.1877192,45.6604005
END:VEVENT
BEGIN:VEVENT
DTSTART;TZID=America/Denver:20260111T190000
DTEND;TZID=America/Denver:20260111T190000
DTSTAMP:20260423T121429
CREATED:20251227T014731Z
LAST-MODIFIED:20251227T014731Z
UID:303674-1768158000-1768158000@bozone.com
SUMMARY:Sober Sunday : Emma and the Ledge
DESCRIPTION:Doors open at 6:30\, show starts at 7pm\n$10 cover \nThe Gallatin Labor Temple \nAll ages \nSober Sunday is a place where people that are sober\, curious about sobriety or struggling with sobriety can come together to enjoy live music. \nEmma and the Ledge is a guitar-slinging\, blues-singing\, blues/funk fusion band inspired by Stevie Ray Vaughan\, Jimi Hendrix\, Beth Hart\, and various blues and rock greats from the ‘7Os tO ’90s. The band brings an eclectic set of originals and covers with a re-imagined twist.
URL:https://bozone.com/event/sober-sunday-emma-and-the-ledge/
LOCATION:Gallatin Labor Temple\, 422 E. Mendenhall\, Bozeman\, MT\, 59715\, United States
CATEGORIES:Music
GEO:45.6802113;-111.0312258
X-APPLE-STRUCTURED-LOCATION;VALUE=URI;X-ADDRESS=Gallatin Labor Temple 422 E. Mendenhall Bozeman MT 59715 United States;X-APPLE-RADIUS=500;X-TITLE=422 E. Mendenhall:geo:-111.0312258,45.6802113
END:VEVENT
END:VCALENDAR