BEGIN:VCALENDAR
VERSION:2.0
PRODID:-//The BoZone - ECPv5.12.0//NONSGML v1.0//EN
CALSCALE:GREGORIAN
METHOD:PUBLISH
X-WR-CALNAME:The BoZone
X-ORIGINAL-URL:https://bozone.com
X-WR-CALDESC:Events for The BoZone
BEGIN:VTIMEZONE
TZID:America/Denver
BEGIN:DAYLIGHT
TZOFFSETFROM:-0700
TZOFFSETTO:-0600
TZNAME:MDT
DTSTART:20260308T090000
END:DAYLIGHT
BEGIN:STANDARD
TZOFFSETFROM:-0600
TZOFFSETTO:-0700
TZNAME:MST
DTSTART:20261101T080000
END:STANDARD
END:VTIMEZONE
BEGIN:VEVENT
DTSTART;TZID=America/Denver:20260107T180000
DTEND;TZID=America/Denver:20260107T180000
DTSTAMP:20260423T180933
CREATED:20251229T044313Z
LAST-MODIFIED:20251229T044313Z
UID:304660-1767808800-1767808800@bozone.com
SUMMARY:Bitter Roots Revival
DESCRIPTION:MAP Brewing \nJan 7 – Bitter Roots Revival
URL:https://bozone.com/event/bitter-roots-revival-17/
LOCATION:MAP Brewing\, 510 Manley Road\, Bozeman\, United States
CATEGORIES:Music
GEO:45.7033151;-111.0401931
X-APPLE-STRUCTURED-LOCATION;VALUE=URI;X-ADDRESS=MAP Brewing 510 Manley Road Bozeman United States;X-APPLE-RADIUS=500;X-TITLE=510 Manley Road:geo:-111.0401931,45.7033151
END:VEVENT
BEGIN:VEVENT
DTSTART;TZID=America/Denver:20260107T190000
DTEND;TZID=America/Denver:20260107T190000
DTSTAMP:20260423T180934
CREATED:20251228T040337Z
LAST-MODIFIED:20251228T040337Z
UID:304106-1767812400-1767812400@bozone.com
SUMMARY:Adult Swing Wednesdays
DESCRIPTION:Jan\n7\n\n\n\n\n\nAdult Swing Wednesdays\n\nAges 21+\n$15/Person\n$25/Couple\n\n\n\n\n7:00 PM\n\n\n\nThe Westerner
URL:https://bozone.com/event/adult-swing-wednesdays-6/
LOCATION:The Westerner – Gallatin Gateway\, 304 Mill St\, Gallatin Gateway\, MT\, 59730\, United States
CATEGORIES:Music
GEO:45.5907797;-111.2029969
X-APPLE-STRUCTURED-LOCATION;VALUE=URI;X-ADDRESS=The Westerner – Gallatin Gateway 304 Mill St Gallatin Gateway MT 59730 United States;X-APPLE-RADIUS=500;X-TITLE=304 Mill St:geo:-111.2029969,45.5907797
END:VEVENT
BEGIN:VEVENT
DTSTART;TZID=America/Denver:20260107T190000
DTEND;TZID=America/Denver:20260107T190000
DTSTAMP:20260423T180934
CREATED:20251228T040416Z
LAST-MODIFIED:20251228T040416Z
UID:304107-1767812400-1767812400@bozone.com
SUMMARY:Chandler Huntley
DESCRIPTION:Jan\n7\n\n\n\n\n\nChandler Huntley\n\n\n\n7:00 PM – 9:00 PM\n\n\n\nMontage Alpenglow Lounge
URL:https://bozone.com/event/chandler-huntley-64/
LOCATION:Montage Alpenglow Lounge – Big Sky\, 995 Settlement Trail\, Big Sky\, MT\, 59716\, United States
CATEGORIES:Music
GEO:45.2589401;-111.3686277
X-APPLE-STRUCTURED-LOCATION;VALUE=URI;X-ADDRESS=Montage Alpenglow Lounge – Big Sky 995 Settlement Trail Big Sky MT 59716 United States;X-APPLE-RADIUS=500;X-TITLE=995 Settlement Trail:geo:-111.3686277,45.2589401
END:VEVENT
BEGIN:VEVENT
DTSTART;TZID=America/Denver:20260107T200000
DTEND;TZID=America/Denver:20260107T200000
DTSTAMP:20260423T180934
CREATED:20251230T013725Z
LAST-MODIFIED:20251230T013725Z
UID:305030-1767816000-1767816000@bozone.com
SUMMARY:Open Jam
DESCRIPTION:Open Jam\nWednesday\, January 7\, 2026⋅8:00 – 9:00pm\nWeekly on Wednesday\n\n\n\n\n\n\n\n\n\n\n\nMurray
URL:https://bozone.com/event/open-jam-22/
LOCATION:Murray Bar – Livingston\, 201 W Park St\, Livingston\, United States
CATEGORIES:Music
GEO:45.661755;-110.562305
X-APPLE-STRUCTURED-LOCATION;VALUE=URI;X-ADDRESS=Murray Bar – Livingston 201 W Park St Livingston United States;X-APPLE-RADIUS=500;X-TITLE=201 W Park St:geo:-110.562305,45.661755
END:VEVENT
BEGIN:VEVENT
DTSTART;TZID=America/Denver:20260107T210000
DTEND;TZID=America/Denver:20260107T210000
DTSTAMP:20260423T180934
CREATED:20251228T205617Z
LAST-MODIFIED:20251228T205937Z
UID:304328-1767819600-1767819600@bozone.com
SUMMARY:Eddie T & Jazz Friends
DESCRIPTION:Jan7\n\n\n\n\nEddie T & Jazz Friends\n\nWednesday\n9:00 PM – 11:00 PM
URL:https://bozone.com/event/lena-rich-band-4/
LOCATION:Tune Up Bar\, 24 W Mendenhall St\, Bozeman\, MT\, 59715\, United States
CATEGORIES:Music
GEO:45.6800443;-111.038017
X-APPLE-STRUCTURED-LOCATION;VALUE=URI;X-ADDRESS=Tune Up Bar 24 W Mendenhall St Bozeman MT 59715 United States;X-APPLE-RADIUS=500;X-TITLE=24 W Mendenhall St:geo:-111.038017,45.6800443
END:VEVENT
BEGIN:VEVENT
DTSTART;TZID=America/Denver:20260107T210000
DTEND;TZID=America/Denver:20260107T210000
DTSTAMP:20260423T180934
CREATED:20251229T171240Z
LAST-MODIFIED:20251229T171240Z
UID:304775-1767819600-1767819600@bozone.com
SUMMARY:Nickel b 
DESCRIPTION:1/7 Nickel b 
URL:https://bozone.com/event/nickel-b-6/
LOCATION:The Filling Station\, 2005 N. Rouse Avenue\, Bozeman\, United States
CATEGORIES:Music
GEO:45.6988202;-111.0319631
X-APPLE-STRUCTURED-LOCATION;VALUE=URI;X-ADDRESS=The Filling Station 2005 N. Rouse Avenue Bozeman United States;X-APPLE-RADIUS=500;X-TITLE=2005 N. Rouse Avenue:geo:-111.0319631,45.6988202
END:VEVENT
END:VCALENDAR