BEGIN:VCALENDAR
VERSION:2.0
PRODID:-//The BoZone - ECPv5.12.0//NONSGML v1.0//EN
CALSCALE:GREGORIAN
METHOD:PUBLISH
X-WR-CALNAME:The BoZone
X-ORIGINAL-URL:https://bozone.com
X-WR-CALDESC:Events for The BoZone
BEGIN:VTIMEZONE
TZID:America/Denver
BEGIN:DAYLIGHT
TZOFFSETFROM:-0700
TZOFFSETTO:-0600
TZNAME:MDT
DTSTART:20260308T090000
END:DAYLIGHT
BEGIN:STANDARD
TZOFFSETFROM:-0600
TZOFFSETTO:-0700
TZNAME:MST
DTSTART:20261101T080000
END:STANDARD
END:VTIMEZONE
BEGIN:VEVENT
DTSTART;TZID=America/Denver:20260101T160000
DTEND;TZID=America/Denver:20260101T180000
DTSTAMP:20260424T031236
CREATED:20251228T031235Z
LAST-MODIFIED:20251228T031235Z
UID:304020-1767283200-1767290400@bozone.com
SUMMARY:Eddie Tsuru
DESCRIPTION:Thursday\, Jan 1\, 4-6 PM\nEddie Tsuru\nJazz — Carabiner
URL:https://bozone.com/event/eddie-tsuru/
LOCATION:Carabiner Lounge – Big Sky Resort\, Summit Hotel\, 60 Big Sky Resort\, Big Sky\, MT\, 59716\, United States
CATEGORIES:Music
GEO:45.2896507;-111.3985712
X-APPLE-STRUCTURED-LOCATION;VALUE=URI;X-ADDRESS=Carabiner Lounge – Big Sky Resort Summit Hotel 60 Big Sky Resort Big Sky MT 59716 United States;X-APPLE-RADIUS=500;X-TITLE=Summit Hotel\, 60 Big Sky Resort:geo:-111.3985712,45.2896507
END:VEVENT
BEGIN:VEVENT
DTSTART;TZID=America/Denver:20260101T180000
DTEND;TZID=America/Denver:20260101T180000
DTSTAMP:20260424T031236
CREATED:20251228T205355Z
LAST-MODIFIED:20251228T205355Z
UID:304322-1767290400-1767290400@bozone.com
SUMMARY:Larry Myer
DESCRIPTION:Jan1\n\n\n\n\nLarry Myer\n\nThursday\n6:00 PM – 8:00 PM
URL:https://bozone.com/event/larry-myer-8/
LOCATION:Tune Up Bar\, 24 W Mendenhall St\, Bozeman\, MT\, 59715\, United States
CATEGORIES:Music
GEO:45.6800443;-111.038017
X-APPLE-STRUCTURED-LOCATION;VALUE=URI;X-ADDRESS=Tune Up Bar 24 W Mendenhall St Bozeman MT 59715 United States;X-APPLE-RADIUS=500;X-TITLE=24 W Mendenhall St:geo:-111.038017,45.6800443
END:VEVENT
BEGIN:VEVENT
DTSTART;TZID=America/Denver:20260101T190000
DTEND;TZID=America/Denver:20260101T190000
DTSTAMP:20260424T031236
CREATED:20251125T172036Z
LAST-MODIFIED:20251125T172036Z
UID:302350-1767294000-1767294000@bozone.com
SUMMARY:Brian Kassay
DESCRIPTION:Local multi-instrumentalist Brian Kassay has been playing around the Bozeman area for years. Previously playing with local bluegrass group “Laney Lou & the Bird Dogs\,” Brian has branched off to perform his own solo material. Looping together multiple different instruments for an enchanting folk mixture\, Brian Kassay is going to put on a performance that shouldn’t be missed.
URL:https://bozone.com/event/brian-kassay-28/
LOCATION:Bozeman Hot Springs\, 81123 Gallatin Road\, Bozeman\, MT\, 59718\, United States
CATEGORIES:Music
GEO:45.6604005;-111.1877192
X-APPLE-STRUCTURED-LOCATION;VALUE=URI;X-ADDRESS=Bozeman Hot Springs 81123 Gallatin Road Bozeman MT 59718 United States;X-APPLE-RADIUS=500;X-TITLE=81123 Gallatin Road:geo:-111.1877192,45.6604005
END:VEVENT
BEGIN:VEVENT
DTSTART;TZID=America/Denver:20260101T190000
DTEND;TZID=America/Denver:20260101T190000
DTSTAMP:20260424T031236
CREATED:20251228T035548Z
LAST-MODIFIED:20251228T035548Z
UID:304094-1767294000-1767294000@bozone.com
SUMMARY:Brian Stumpf
DESCRIPTION:1/1\nBrian Stumpf\n\n\n\n7:00 PM – 9:00 PM\n\n\n\nMontage Alpenglow Lounge
URL:https://bozone.com/event/brian-stumpf-20/
LOCATION:Montage Alpenglow Lounge – Big Sky\, 995 Settlement Trail\, Big Sky\, MT\, 59716\, United States
CATEGORIES:Music
GEO:45.2589401;-111.3686277
X-APPLE-STRUCTURED-LOCATION;VALUE=URI;X-ADDRESS=Montage Alpenglow Lounge – Big Sky 995 Settlement Trail Big Sky MT 59716 United States;X-APPLE-RADIUS=500;X-TITLE=995 Settlement Trail:geo:-111.3686277,45.2589401
END:VEVENT
BEGIN:VEVENT
DTSTART;TZID=America/Denver:20260101T200000
DTEND;TZID=America/Denver:20260101T200000
DTSTAMP:20260424T031236
CREATED:20251130T021339Z
LAST-MODIFIED:20251130T021339Z
UID:303216-1767297600-1767297600@bozone.com
SUMMARY:Tom Marino
DESCRIPTION:Tom Marino\n\nThursday\, January 1\, 2026\nStarting at 8:00pm
URL:https://bozone.com/event/tom-marino-12/
LOCATION:Tips Up – Big Sky\, 76 Town Center Ave\, Big Sky\, MT\, 59716\, United States
CATEGORIES:Music
GEO:45.2599334;-111.3070373
X-APPLE-STRUCTURED-LOCATION;VALUE=URI;X-ADDRESS=Tips Up – Big Sky 76 Town Center Ave Big Sky MT 59716 United States;X-APPLE-RADIUS=500;X-TITLE=76 Town Center Ave:geo:-111.3070373,45.2599334
END:VEVENT
BEGIN:VEVENT
DTSTART;TZID=America/Denver:20260101T200000
DTEND;TZID=America/Denver:20260101T200000
DTSTAMP:20260424T031236
CREATED:20251228T232655Z
LAST-MODIFIED:20251229T000157Z
UID:304449-1767297600-1767297600@bozone.com
SUMMARY:Brisket Flats
DESCRIPTION:The Old Saloon  – 8pm – No Cover  \n1 Brisket Flats – Dick McCumber w/ Jake Heidrich
URL:https://bozone.com/event/brisket-flats/
LOCATION:Old Saloon – Emigrant\, 210 Railroad Lane\, Emigrant\, MT\, 59027\, United States
CATEGORIES:Music
GEO:45.369298;-110.734056
X-APPLE-STRUCTURED-LOCATION;VALUE=URI;X-ADDRESS=Old Saloon – Emigrant 210 Railroad Lane Emigrant MT 59027 United States;X-APPLE-RADIUS=500;X-TITLE=210 Railroad Lane:geo:-110.734056,45.369298
END:VEVENT
BEGIN:VEVENT
DTSTART;TZID=America/Denver:20260101T210000
DTEND;TZID=America/Denver:20260101T210000
DTSTAMP:20260424T031236
CREATED:20251130T021444Z
LAST-MODIFIED:20251130T021517Z
UID:303152-1767301200-1767301200@bozone.com
SUMMARY:Ben Larson Duo
DESCRIPTION:Ben Larson Duo\n\nThursday\, January 1\, 2026\nStarting at 9:00pm
URL:https://bozone.com/event/ben-larson-duo/
LOCATION:Tips Up – Big Sky\, 76 Town Center Ave\, Big Sky\, MT\, 59716\, United States
CATEGORIES:Music
GEO:45.2599334;-111.3070373
X-APPLE-STRUCTURED-LOCATION;VALUE=URI;X-ADDRESS=Tips Up – Big Sky 76 Town Center Ave Big Sky MT 59716 United States;X-APPLE-RADIUS=500;X-TITLE=76 Town Center Ave:geo:-111.3070373,45.2599334
END:VEVENT
BEGIN:VEVENT
DTSTART;TZID=America/Denver:20260101T210000
DTEND;TZID=America/Denver:20260101T210000
DTSTAMP:20260424T031237
CREATED:20251228T205421Z
LAST-MODIFIED:20251228T205421Z
UID:304323-1767301200-1767301200@bozone.com
SUMMARY:Hot Milk & The Flower Pallets
DESCRIPTION:Jan1\n\n\n\n\nHot Milk & The Flower Pallets\n\nThursday\n9:00 PM – 11:00 PM
URL:https://bozone.com/event/hot-milk-the-flower-pallets-3/
LOCATION:Tune Up Bar\, 24 W Mendenhall St\, Bozeman\, MT\, 59715\, United States
CATEGORIES:Music
GEO:45.6800443;-111.038017
X-APPLE-STRUCTURED-LOCATION;VALUE=URI;X-ADDRESS=Tune Up Bar 24 W Mendenhall St Bozeman MT 59715 United States;X-APPLE-RADIUS=500;X-TITLE=24 W Mendenhall St:geo:-111.038017,45.6800443
END:VEVENT
BEGIN:VEVENT
DTSTART;TZID=America/Denver:20260101T210000
DTEND;TZID=America/Denver:20260101T210000
DTSTAMP:20260424T031237
CREATED:20251229T174337Z
LAST-MODIFIED:20251229T174337Z
UID:304815-1767301200-1767301200@bozone.com
SUMMARY:Donnie Elliott
DESCRIPTION:1/1 Donnie Elliott
URL:https://bozone.com/event/donnie-elliott/
LOCATION:Haufbrau\, 22 S 8th Avenue\, Bozeman\, United States
CATEGORIES:Music
GEO:45.6786147;-111.047506
X-APPLE-STRUCTURED-LOCATION;VALUE=URI;X-ADDRESS=Haufbrau 22 S 8th Avenue Bozeman United States;X-APPLE-RADIUS=500;X-TITLE=22 S 8th Avenue:geo:-111.047506,45.6786147
END:VEVENT
BEGIN:VEVENT
DTSTART;TZID=America/Denver:20260101T213000
DTEND;TZID=America/Denver:20260101T213000
DTSTAMP:20260424T031237
CREATED:20240425T210513Z
LAST-MODIFIED:20251028T234454Z
UID:260368-1767303000-1767303000@bozone.com
SUMMARY:American Thursday Karaoke
DESCRIPTION:
URL:https://bozone.com/event/legion-thursday-karaoke/
LOCATION:American Legion – Bozeman\, 225 E Main St.\, Bozeman\, MT\, 59715\, United States
CATEGORIES:Miscellanea,Music
GEO:45.6796356;-111.0334576
X-APPLE-STRUCTURED-LOCATION;VALUE=URI;X-ADDRESS=American Legion – Bozeman 225 E Main St. Bozeman MT 59715 United States;X-APPLE-RADIUS=500;X-TITLE=225 E Main St.:geo:-111.0334576,45.6796356
END:VEVENT
END:VCALENDAR