BEGIN:VCALENDAR
VERSION:2.0
PRODID:-//The BoZone - ECPv5.12.0//NONSGML v1.0//EN
CALSCALE:GREGORIAN
METHOD:PUBLISH
X-WR-CALNAME:The BoZone
X-ORIGINAL-URL:https://bozone.com
X-WR-CALDESC:Events for The BoZone
BEGIN:VTIMEZONE
TZID:America/Denver
BEGIN:DAYLIGHT
TZOFFSETFROM:-0700
TZOFFSETTO:-0600
TZNAME:MDT
DTSTART:20250309T090000
END:DAYLIGHT
BEGIN:STANDARD
TZOFFSETFROM:-0600
TZOFFSETTO:-0700
TZNAME:MST
DTSTART:20251102T080000
END:STANDARD
END:VTIMEZONE
BEGIN:VEVENT
DTSTART;TZID=America/Denver:20251221T110000
DTEND;TZID=America/Denver:20251221T130000
DTSTAMP:20260424T202752
CREATED:20251128T023632Z
LAST-MODIFIED:20251128T031022Z
UID:302935-1766314800-1766322000@bozone.com
SUMMARY:Ryan Acker
DESCRIPTION:
URL:https://bozone.com/event/ryan-acker-23/
LOCATION:Sage Lodge – S of Livingston\, 55 Sage Lodge Drive\, Pray\, MT\, 59065\, United States
CATEGORIES:Music
GEO:45.3597459;-110.7195062
X-APPLE-STRUCTURED-LOCATION;VALUE=URI;X-ADDRESS=Sage Lodge – S of Livingston 55 Sage Lodge Drive Pray MT 59065 United States;X-APPLE-RADIUS=500;X-TITLE=55 Sage Lodge Drive:geo:-110.7195062,45.3597459
END:VEVENT
BEGIN:VEVENT
DTSTART;TZID=America/Denver:20251221T143000
DTEND;TZID=America/Denver:20251221T170000
DTSTAMP:20260424T202752
CREATED:20251026T184437Z
LAST-MODIFIED:20251026T184437Z
UID:300650-1766327400-1766336400@bozone.com
SUMMARY:Readings & Carols (Re)imagined
DESCRIPTION:Montana’s premiere chamber choir presents a seasonal reflection of the snow and winter\, of the star and seeking\, of the mother and service\, of the child and sacrifice\, and of hope and peace. \nSunday\, December 21st at 2:30pm\nHoly Rosary Catholic Church \nTickets:\nhttps://www.eventbrite.com/e/1810855129439 \nMore info:\nhttps://rootsinthesky.org/readings-carols-reimagined \nhttps://rootsinthesky.org/readings-carols-reimagined
URL:https://bozone.com/event/readings-carols-reimagined/
LOCATION:Holy Rosary Catholic Church\, 220 West Main\, Bozeman\, MT\, 59715\, United States
CATEGORIES:Music
GEO:45.6789385;-111.040998
X-APPLE-STRUCTURED-LOCATION;VALUE=URI;X-ADDRESS=Holy Rosary Catholic Church 220 West Main Bozeman MT 59715 United States;X-APPLE-RADIUS=500;X-TITLE=220 West Main:geo:-111.040998,45.6789385
END:VEVENT
BEGIN:VEVENT
DTSTART;TZID=America/Denver:20251221T150000
DTEND;TZID=America/Denver:20251221T210000
DTSTAMP:20260424T202752
CREATED:20250928T143322Z
LAST-MODIFIED:20251126T180029Z
UID:298509-1766329200-1766350800@bozone.com
SUMMARY:Winter Art Market and Jol Celebration
DESCRIPTION:Winter Art Market and Jol Celebration \n3:00 PM – 9:00 PM\n\nJoin us for our second annual winter market. Local artists will be vending so come find that special and unique last-minute gift. Hot mulled mead and Scandinavian foods will be served. Fire performances and live music will cap the evening festivities at 6pm. Come join us for a gud night of Jol!
URL:https://bozone.com/event/celtic-jam-15/
LOCATION:Valhalla Meadery\, 875 Bridger Drive Unit B\, Bozeman\, MT\, 59715\, United States
CATEGORIES:Miscellanea,Music
GEO:45.7034876;-111.0248629
X-APPLE-STRUCTURED-LOCATION;VALUE=URI;X-ADDRESS=Valhalla Meadery 875 Bridger Drive Unit B Bozeman MT 59715 United States;X-APPLE-RADIUS=500;X-TITLE=875 Bridger Drive Unit B:geo:-111.0248629,45.7034876
END:VEVENT
BEGIN:VEVENT
DTSTART;TZID=America/Denver:20251221T170000
DTEND;TZID=America/Denver:20251221T170000
DTSTAMP:20260424T202752
CREATED:20251126T184503Z
LAST-MODIFIED:20251126T185916Z
UID:302618-1766336400-1766336400@bozone.com
SUMMARY:Alex Platt Trio Jazz Jam Session
DESCRIPTION:Jazz Jam Session featuring The Alex Platt Trio\nSunday\, December 21⋅5:00 – 7:00pm\nMonthly on the third Sunday\n\n\n\n\n\n\n\n\n\n\nRed Tractor Pizza\,
URL:https://bozone.com/event/alex-platt-trio-jazz-jam-session/
LOCATION:Red Tractor Pizza\, 1007 W Main St\, Bozeman\, MT\, 59715\, United States
CATEGORIES:Music
GEO:45.6796038;-111.0507294
X-APPLE-STRUCTURED-LOCATION;VALUE=URI;X-ADDRESS=Red Tractor Pizza 1007 W Main St Bozeman MT 59715 United States;X-APPLE-RADIUS=500;X-TITLE=1007 W Main St:geo:-111.0507294,45.6796038
END:VEVENT
BEGIN:VEVENT
DTSTART;TZID=America/Denver:20251221T190000
DTEND;TZID=America/Denver:20251221T190000
DTSTAMP:20260424T202752
CREATED:20251025T014505Z
LAST-MODIFIED:20251025T014505Z
UID:300246-1766343600-1766343600@bozone.com
SUMMARY:Women Songwriter Night
DESCRIPTION:We’re teaming up with the Yellowstone Women’s Music Collective to bring you a night featuring some of Gallatin Valley’s best women songwriters. Featuring Meredith Elsie\, Kalli Armstrong\, and more!
URL:https://bozone.com/event/women-songwriter-night/
LOCATION:Bozeman Hot Springs\, 81123 Gallatin Road\, Bozeman\, MT\, 59718\, United States
CATEGORIES:Music
GEO:45.6604005;-111.1877192
X-APPLE-STRUCTURED-LOCATION;VALUE=URI;X-ADDRESS=Bozeman Hot Springs 81123 Gallatin Road Bozeman MT 59718 United States;X-APPLE-RADIUS=500;X-TITLE=81123 Gallatin Road:geo:-111.1877192,45.6604005
END:VEVENT
BEGIN:VEVENT
DTSTART;TZID=America/Denver:20251221T190000
DTEND;TZID=America/Denver:20251221T190000
DTSTAMP:20260424T202752
CREATED:20251128T222652Z
LAST-MODIFIED:20251128T222652Z
UID:303103-1766343600-1766343600@bozone.com
SUMMARY:Fuzzy B
DESCRIPTION:Fuzzy B\nDec 21\, 2025\, 7:00 PM – 9:30 PM\nNorris Hot Springs\, 42 MT-84\, Norris\, MT 59745\, USA\nvocalist\, keyboardist\, guitarist\, producer and disco man based out of Walkerville\, Montana. One half of Montana’s hard touring alt-pop/soul/dance act\, Desperate Electric\, Fuzzy B brings energy and vibrancy to every performance. Expect covers ranging from Frank Sinatra to Frank Ocean\, and originals.
URL:https://bozone.com/event/fuzzy-b-13/
LOCATION:Norris Hot Springs\, Route 84\, Norris\, United States
CATEGORIES:Music
GEO:45.6433024;-111.4569678
X-APPLE-STRUCTURED-LOCATION;VALUE=URI;X-ADDRESS=Norris Hot Springs Route 84 Norris United States;X-APPLE-RADIUS=500;X-TITLE=Route 84:geo:-111.4569678,45.6433024
END:VEVENT
BEGIN:VEVENT
DTSTART;TZID=America/Denver:20251221T200000
DTEND;TZID=America/Denver:20251221T200000
DTSTAMP:20260424T202752
CREATED:20251126T194836Z
LAST-MODIFIED:20251126T194836Z
UID:302628-1766347200-1766347200@bozone.com
SUMMARY:KneeJürk
DESCRIPTION:
URL:https://bozone.com/event/kneejurk/
LOCATION:Chico Hot Springs Saloon\, 163 Chico Rd\, Pray\, MT 59065\, Pray\, MT\, 59065\, United States
CATEGORIES:Music
GEO:45.3386251;-110.6922233
X-APPLE-STRUCTURED-LOCATION;VALUE=URI;X-ADDRESS=Chico Hot Springs Saloon 163 Chico Rd Pray MT 59065 Pray MT 59065 United States;X-APPLE-RADIUS=500;X-TITLE=163 Chico Rd\, Pray\, MT 59065:geo:-110.6922233,45.3386251
END:VEVENT
END:VCALENDAR