BEGIN:VCALENDAR
VERSION:2.0
PRODID:-//The BoZone - ECPv5.12.0//NONSGML v1.0//EN
CALSCALE:GREGORIAN
METHOD:PUBLISH
X-WR-CALNAME:The BoZone
X-ORIGINAL-URL:https://bozone.com
X-WR-CALDESC:Events for The BoZone
BEGIN:VTIMEZONE
TZID:America/Denver
BEGIN:DAYLIGHT
TZOFFSETFROM:-0700
TZOFFSETTO:-0600
TZNAME:MDT
DTSTART:20250309T090000
END:DAYLIGHT
BEGIN:STANDARD
TZOFFSETFROM:-0600
TZOFFSETTO:-0700
TZNAME:MST
DTSTART:20251102T080000
END:STANDARD
END:VTIMEZONE
BEGIN:VEVENT
DTSTART;TZID=America/Denver:20251220T140000
DTEND;TZID=America/Denver:20251220T140000
DTSTAMP:20260424T221149
CREATED:20251114T203238Z
LAST-MODIFIED:20251114T203238Z
UID:302052-1766239200-1766239200@bozone.com
SUMMARY:406Cirque's: A Circus Carol
DESCRIPTION:  \nFriday\, December 19 at 7:00 PM | Saturday\, December 20 at 2:00 PM & 7:00 PM  \nAt Petra Academy  \nTickets at: 406Cirque.com  \nContact: Naomi Shafer | events@406cirque.com \nBozeman\, MT – 406Cirque is thrilled to announce their 3rd annual beloved holiday spectacular: A Circus Carol! This dazzling circus adaptation of Charles Dickens’ timeless tale brings the spirit of the season to life like never before—told entirely through breathtaking circus arts! \nStep into a world where the Cratchit family spins on unicycles\, Jacob Marley descends from the rafters on aerial straps\, and Ebenezer Scrooge’s transformation unfolds through gravity-defying feats and heart-stirring artistry. This one-of-a-kind performance blends the wonder of Dickensian storytelling with the magic and mastery of world-class circus. \nAudiences are raving:  \n“The highlight of the Christmas season! We laughed\, we cried\, we cheered for the spectacular talent up on stage!” “Amazingly crafted and performed—it felt like a world-class production right here in Bozeman!”  \nBring the whole family for an unforgettable night of laughter\, heart\, and high-flying holiday cheer. Experience the show everyone will be talking about this Christmas.
URL:https://bozone.com/event/406cirques-a-circus-carol-2/
LOCATION:Petra Academy\, 100 Discovery Drive\, Bozeman\, United States
CATEGORIES:Arts & Theatre,Music
GEO:45.6550494;-111.0663275
X-APPLE-STRUCTURED-LOCATION;VALUE=URI;X-ADDRESS=Petra Academy 100 Discovery Drive Bozeman United States;X-APPLE-RADIUS=500;X-TITLE=100 Discovery Drive:geo:-111.0663275,45.6550494
END:VEVENT
BEGIN:VEVENT
DTSTART;TZID=America/Denver:20251220T140000
DTEND;TZID=America/Denver:20251220T140000
DTSTAMP:20260424T221149
CREATED:20251124T131900Z
LAST-MODIFIED:20251124T131900Z
UID:302223-1766239200-1766239200@bozone.com
SUMMARY:Jazz in the Library– Flamenco Club
DESCRIPTION:Join us on the 2nd floor magazine corner for the stirring sounds of acoustic music from 2-4 PM. Each week hear different performers and groups including: Alex Robilotta\, Craig Hall\, Flamenco Club\, Bozambique\, and others.\nDecember 6 – Eric Barnes\, Aaron Johnson\, and Michael Testagrossa. \nDecember 13 – Alex Robilotta and Isaac Winemiller \nDecember 20 – Flamenco Club
URL:https://bozone.com/event/jazz-in-the-library-flamenco-club/
LOCATION:Bozeman Public Library\, 626 East Main Street\, Bozeman\, MT\, 59715\, United States
CATEGORIES:Music
GEO:45.6785823;-111.0270991
X-APPLE-STRUCTURED-LOCATION;VALUE=URI;X-ADDRESS=Bozeman Public Library 626 East Main Street Bozeman MT 59715 United States;X-APPLE-RADIUS=500;X-TITLE=626 East Main Street:geo:-111.0270991,45.6785823
END:VEVENT
BEGIN:VEVENT
DTSTART;TZID=America/Denver:20251220T140000
DTEND;TZID=America/Denver:20251220T140000
DTSTAMP:20260424T221150
CREATED:20251128T024029Z
LAST-MODIFIED:20251128T024029Z
UID:302952-1766239200-1766239200@bozone.com
SUMMARY:Cory Johnson
DESCRIPTION:
URL:https://bozone.com/event/cory-johnson-16/
LOCATION:Sage Lodge – S of Livingston\, 55 Sage Lodge Drive\, Pray\, MT\, 59065\, United States
CATEGORIES:Music
GEO:45.3597459;-110.7195062
X-APPLE-STRUCTURED-LOCATION;VALUE=URI;X-ADDRESS=Sage Lodge – S of Livingston 55 Sage Lodge Drive Pray MT 59065 United States;X-APPLE-RADIUS=500;X-TITLE=55 Sage Lodge Drive:geo:-110.7195062,45.3597459
END:VEVENT
BEGIN:VEVENT
DTSTART;TZID=America/Denver:20251220T160000
DTEND;TZID=America/Denver:20251220T170000
DTSTAMP:20260424T221150
CREATED:20251128T023901Z
LAST-MODIFIED:20251128T023901Z
UID:302949-1766246400-1766250000@bozone.com
SUMMARY:Lena Schiffer
DESCRIPTION:
URL:https://bozone.com/event/lena-schiffer-32/
LOCATION:Sage Lodge – S of Livingston\, 55 Sage Lodge Drive\, Pray\, MT\, 59065\, United States
CATEGORIES:Music
GEO:45.3597459;-110.7195062
X-APPLE-STRUCTURED-LOCATION;VALUE=URI;X-ADDRESS=Sage Lodge – S of Livingston 55 Sage Lodge Drive Pray MT 59065 United States;X-APPLE-RADIUS=500;X-TITLE=55 Sage Lodge Drive:geo:-110.7195062,45.3597459
END:VEVENT
BEGIN:VEVENT
DTSTART;TZID=America/Denver:20251220T180000
DTEND;TZID=America/Denver:20251220T180000
DTSTAMP:20260424T221150
CREATED:20251220T193519Z
LAST-MODIFIED:20251220T193519Z
UID:303563-1766253600-1766253600@bozone.com
SUMMARY:Charles Wolf Drimal
DESCRIPTION:Charles Wolf Drimal is a Bozeman based singer songwriter and the frontman\nof the indie folk rock band known as RAVEN RŌSHI. His lyrics and sound are\ninspired by the mystique of the raven\, the liberated mind of a Zen master\n(roshi)\, wild landscapes\, a lineage of lovers\, social renegades\,\nmischievous mountain sages\, and flamenco shredders. Drawing influences from\nLeonard Cohen\, Robert Hunter\, and Townes Van Zandt\, his performance\ndelivers an original chill vibe with cathartic undertones.
URL:https://bozone.com/event/charles-wolf-drimal-3/
LOCATION:Valhalla Meadery\, 875 Bridger Drive Unit B\, Bozeman\, MT\, 59715\, United States
CATEGORIES:Music
GEO:45.7034876;-111.0248629
X-APPLE-STRUCTURED-LOCATION;VALUE=URI;X-ADDRESS=Valhalla Meadery 875 Bridger Drive Unit B Bozeman MT 59715 United States;X-APPLE-RADIUS=500;X-TITLE=875 Bridger Drive Unit B:geo:-111.0248629,45.7034876
END:VEVENT
BEGIN:VEVENT
DTSTART;TZID=America/Denver:20251220T190000
DTEND;TZID=America/Denver:20251220T190000
DTSTAMP:20260424T221150
CREATED:20251114T203319Z
LAST-MODIFIED:20251114T203319Z
UID:302048-1766257200-1766257200@bozone.com
SUMMARY:406Cirque's: A Circus Carol
DESCRIPTION:  \nFriday\, December 19 at 7:00 PM | Saturday\, December 20 at 2:00 PM & 7:00 PM  \nAt Petra Academy  \nTickets at: 406Cirque.com  \nContact: Naomi Shafer | events@406cirque.com \nBozeman\, MT – 406Cirque is thrilled to announce their 3rd annual beloved holiday spectacular: A Circus Carol! This dazzling circus adaptation of Charles Dickens’ timeless tale brings the spirit of the season to life like never before—told entirely through breathtaking circus arts! \nStep into a world where the Cratchit family spins on unicycles\, Jacob Marley descends from the rafters on aerial straps\, and Ebenezer Scrooge’s transformation unfolds through gravity-defying feats and heart-stirring artistry. This one-of-a-kind performance blends the wonder of Dickensian storytelling with the magic and mastery of world-class circus. \nAudiences are raving:  \n“The highlight of the Christmas season! We laughed\, we cried\, we cheered for the spectacular talent up on stage!” “Amazingly crafted and performed—it felt like a world-class production right here in Bozeman!”  \nBring the whole family for an unforgettable night of laughter\, heart\, and high-flying holiday cheer. Experience the show everyone will be talking about this Christmas.
URL:https://bozone.com/event/406cirques-a-circus-carol-3/
LOCATION:Petra Academy\, 100 Discovery Drive\, Bozeman\, United States
CATEGORIES:Arts & Theatre,Music
GEO:45.6550494;-111.0663275
X-APPLE-STRUCTURED-LOCATION;VALUE=URI;X-ADDRESS=Petra Academy 100 Discovery Drive Bozeman United States;X-APPLE-RADIUS=500;X-TITLE=100 Discovery Drive:geo:-111.0663275,45.6550494
END:VEVENT
BEGIN:VEVENT
DTSTART;TZID=America/Denver:20251220T190000
DTEND;TZID=America/Denver:20251220T190000
DTSTAMP:20260424T221150
CREATED:20251124T141550Z
LAST-MODIFIED:20251124T141550Z
UID:302195-1766257200-1766257200@bozone.com
SUMMARY:Marie Smith Jazz Group live at The Cikan House
DESCRIPTION:Reservations recommended:$30 donation | Venmo: Craig-Hall-13 | Craig@craighallmusic.com \nThis exceptional performance hosted at the exclusive venue\, The Cikan House\, brings together a curated ensemble of premier jazz musicians from across the state. A bold\, beautiful fusion of styles and shared passion\, delivering a one-night-only experience of world-class artistry. \nCraig Hall | Guitar\nScott Jeppesen | Sax\nRob Tapper | Trombone\nTommy Sciple | Bass\nAdam Greenberg | Drums\nMarie Smith | Vocals \nhttps://www.facebook.com/share/1VvekJJLRm/
URL:https://bozone.com/event/marie-smith-jazz-group-live-at-the-cikan-house/
LOCATION:The Cikan House\, 31 Hitching Post Rd\, Bozeman\, MT\, 59715\, United States
CATEGORIES:Music
GEO:45.6362878;-111.0283553
X-APPLE-STRUCTURED-LOCATION;VALUE=URI;X-ADDRESS=The Cikan House 31 Hitching Post Rd Bozeman MT 59715 United States;X-APPLE-RADIUS=500;X-TITLE=31 Hitching Post Rd:geo:-111.0283553,45.6362878
END:VEVENT
BEGIN:VEVENT
DTSTART;TZID=America/Denver:20251220T200000
DTEND;TZID=America/Denver:20251220T200000
DTSTAMP:20260424T221150
CREATED:20250929T022253Z
LAST-MODIFIED:20251029T214734Z
UID:298921-1766260800-1766260800@bozone.com
SUMMARY:- SOLD OUT -Patterson Hood- SOLD OUT -
DESCRIPTION:Patterson Hood (Night 2)\n\nSaturday\, December 20\nhttps://www.livefromthedivide.com/events/patterson-hood-night-2
URL:https://bozone.com/event/patterson-hood-2/
LOCATION:LFTD – Live From The Divide @ Empire Theater: Livingston\, 102 N 2nd Street\, Livingston\, MT\, 59049\, United States
CATEGORIES:Music
GEO:45.6859207;-111.0268428
X-APPLE-STRUCTURED-LOCATION;VALUE=URI;X-ADDRESS=LFTD – Live From The Divide @ Empire Theater: Livingston 102 N 2nd Street Livingston MT 59049 United States;X-APPLE-RADIUS=500;X-TITLE=102 N 2nd Street:geo:-111.0268428,45.6859207
END:VEVENT
BEGIN:VEVENT
DTSTART;TZID=America/Denver:20251220T200000
DTEND;TZID=America/Denver:20251220T200000
DTSTAMP:20260424T221150
CREATED:20251126T215644Z
LAST-MODIFIED:20251126T215644Z
UID:302703-1766260800-1766260800@bozone.com
SUMMARY:Jackson Holte Trio
DESCRIPTION:20 Jackson Holte Trio
URL:https://bozone.com/event/jackson-holte-trio-2/
LOCATION:Old Saloon – Emigrant\, 210 Railroad Lane\, Emigrant\, MT\, 59027\, United States
CATEGORIES:Music
GEO:45.369298;-110.734056
X-APPLE-STRUCTURED-LOCATION;VALUE=URI;X-ADDRESS=Old Saloon – Emigrant 210 Railroad Lane Emigrant MT 59027 United States;X-APPLE-RADIUS=500;X-TITLE=210 Railroad Lane:geo:-110.734056,45.369298
END:VEVENT
BEGIN:VEVENT
DTSTART;TZID=America/Denver:20251220T200000
DTEND;TZID=America/Denver:20251220T200000
DTSTAMP:20260424T221150
CREATED:20251126T220629Z
LAST-MODIFIED:20251126T220629Z
UID:302725-1766260800-1766260800@bozone.com
SUMMARY:Kailey Marie Band
DESCRIPTION:20 Kailey Marie Band
URL:https://bozone.com/event/kailey-marie-band-6/
LOCATION:The Westerner – Gallatin Gateway\, 304 Mill St\, Gallatin Gateway\, MT\, 59730\, United States
CATEGORIES:Music
GEO:45.5907797;-111.2029969
X-APPLE-STRUCTURED-LOCATION;VALUE=URI;X-ADDRESS=The Westerner – Gallatin Gateway 304 Mill St Gallatin Gateway MT 59730 United States;X-APPLE-RADIUS=500;X-TITLE=304 Mill St:geo:-111.2029969,45.5907797
END:VEVENT
BEGIN:VEVENT
DTSTART;TZID=America/Denver:20251220T200000
DTEND;TZID=America/Denver:20251220T200000
DTSTAMP:20260424T221150
CREATED:20251130T015358Z
LAST-MODIFIED:20251130T015358Z
UID:303211-1766260800-1766260800@bozone.com
SUMMARY:The Clint Reimann Band
DESCRIPTION:The Clint Reimann Band\nThe Jump \nSaturday\, December 20\, 2025 8-11 PM \n\nThe Clint Reimann Band has been shaking the dust off Great Falls and is now sweeping across Montana in a full-force storm of honky-tonk heat and country grit. These rising stars bring an energy we haven’t seen around here since 1889—raw\, rowdy\, and impossible to sit still through. Let’s give them a proper Gallatin County welcome this Saturday from 8–11 PM at your favorite country saloon\, The Jump!
URL:https://bozone.com/event/the-clint-reimann-band/
LOCATION:The Jump\, 75770 Gallatin Rd\, Gallatin Gateway\, MT\, 59730\, United States
CATEGORIES:Music
GEO:45.58333;-111.1969895
X-APPLE-STRUCTURED-LOCATION;VALUE=URI;X-ADDRESS=The Jump 75770 Gallatin Rd Gallatin Gateway MT 59730 United States;X-APPLE-RADIUS=500;X-TITLE=75770 Gallatin Rd:geo:-111.1969895,45.58333
END:VEVENT
BEGIN:VEVENT
DTSTART;TZID=America/Denver:20251220T210000
DTEND;TZID=America/Denver:20251220T210000
DTSTAMP:20260424T221150
CREATED:20250728T190956Z
LAST-MODIFIED:20250728T190956Z
UID:294411-1766264400-1766264400@bozone.com
SUMMARY:Trent Brooks Band
DESCRIPTION:December 19/20 Trent Brooks Band
URL:https://bozone.com/event/trent-brooks-band-9/2025-12-20/
LOCATION:Chico Hot Springs Saloon\, 163 Chico Rd\, Pray\, MT 59065\, Pray\, MT\, 59065\, United States
CATEGORIES:Music
GEO:45.3386251;-110.6922233
X-APPLE-STRUCTURED-LOCATION;VALUE=URI;X-ADDRESS=Chico Hot Springs Saloon 163 Chico Rd Pray MT 59065 Pray MT 59065 United States;X-APPLE-RADIUS=500;X-TITLE=163 Chico Rd\, Pray\, MT 59065:geo:-110.6922233,45.3386251
END:VEVENT
BEGIN:VEVENT
DTSTART;TZID=America/Denver:20251220T210000
DTEND;TZID=America/Denver:20251220T210000
DTSTAMP:20260424T221151
CREATED:20251126T021259Z
LAST-MODIFIED:20251126T021259Z
UID:302424-1766264400-1766264400@bozone.com
SUMMARY:Buffalo Burrows
DESCRIPTION:LIVE MUSIC: BUFFALO BURROWS CHRISTMAS PJ PARTY\n\nSaturday\, December 20\, 2025\n9:00 PM  10:00 PM\n\n\nThe Waypoint
URL:https://bozone.com/event/buffalo-burrows-12/
LOCATION:The Big Sky Waypoint\, 50 Ousel Falls Road\, Big Sky\, MT\, 59716\, United States
CATEGORIES:Music
GEO:45.2600817;-111.3084077
X-APPLE-STRUCTURED-LOCATION;VALUE=URI;X-ADDRESS=The Big Sky Waypoint 50 Ousel Falls Road Big Sky MT 59716 United States;X-APPLE-RADIUS=500;X-TITLE=50 Ousel Falls Road:geo:-111.3084077,45.2600817
END:VEVENT
BEGIN:VEVENT
DTSTART;TZID=America/Denver:20251220T210000
DTEND;TZID=America/Denver:20251220T210000
DTSTAMP:20260424T221151
CREATED:20251126T033109Z
LAST-MODIFIED:20251126T033109Z
UID:302464-1766264400-1766264400@bozone.com
SUMMARY:Chris Bohenek
DESCRIPTION:12/20 Chris Bohenek
URL:https://bozone.com/event/chris-bohenek/
LOCATION:The Filling Station\, 2005 N. Rouse Avenue\, Bozeman\, United States
CATEGORIES:Music
GEO:45.6988202;-111.0319631
X-APPLE-STRUCTURED-LOCATION;VALUE=URI;X-ADDRESS=The Filling Station 2005 N. Rouse Avenue Bozeman United States;X-APPLE-RADIUS=500;X-TITLE=2005 N. Rouse Avenue:geo:-111.0319631,45.6988202
END:VEVENT
BEGIN:VEVENT
DTSTART;TZID=America/Denver:20251220T210000
DTEND;TZID=America/Denver:20251220T210000
DTSTAMP:20260424T221151
CREATED:20251126T034601Z
LAST-MODIFIED:20251126T034601Z
UID:302492-1766264400-1766264400@bozone.com
SUMMARY:Jazz Cabbage
DESCRIPTION:12/20 Jazz Cabbage
URL:https://bozone.com/event/jazz-cabbage-5/
LOCATION:Haufbrau\, 22 S 8th Avenue\, Bozeman\, United States
CATEGORIES:Music
GEO:45.6786147;-111.047506
X-APPLE-STRUCTURED-LOCATION;VALUE=URI;X-ADDRESS=Haufbrau 22 S 8th Avenue Bozeman United States;X-APPLE-RADIUS=500;X-TITLE=22 S 8th Avenue:geo:-111.047506,45.6786147
END:VEVENT
BEGIN:VEVENT
DTSTART;TZID=America/Denver:20251220T210000
DTEND;TZID=America/Denver:20251220T210000
DTSTAMP:20260424T221151
CREATED:20251126T041438Z
LAST-MODIFIED:20251126T041438Z
UID:302518-1766264400-1766264400@bozone.com
SUMMARY:Aaron Golay & The Original Sin
DESCRIPTION:Aaron Golay & The Original Sin\nAmericana\, Roots Rock\n12/20/25\n09:00 PM\nThe Murray Bar\nhttps://www.aarongolay.com/\naaron_golay_music/
URL:https://bozone.com/event/aaron-golay-the-original-sin-8/
LOCATION:Murray Bar – Livingston\, 201 W Park St\, Livingston\, United States
CATEGORIES:Music
GEO:45.661755;-110.562305
X-APPLE-STRUCTURED-LOCATION;VALUE=URI;X-ADDRESS=Murray Bar – Livingston 201 W Park St Livingston United States;X-APPLE-RADIUS=500;X-TITLE=201 W Park St:geo:-110.562305,45.661755
END:VEVENT
BEGIN:VEVENT
DTSTART;TZID=America/Denver:20251220T210000
DTEND;TZID=America/Denver:20251220T210000
DTSTAMP:20260424T221151
CREATED:20251126T213903Z
LAST-MODIFIED:20251126T213903Z
UID:302674-1766264400-1766264400@bozone.com
SUMMARY:The Red Neck Troubadour show
DESCRIPTION:20th- The Red Neck Troubadour show
URL:https://bozone.com/event/the-red-neck-troubadour-show/
LOCATION:Bozeman Taproom\, MT\, United States
CATEGORIES:Music
GEO:45.6805431;-111.0325509
END:VEVENT
BEGIN:VEVENT
DTSTART;TZID=America/Denver:20251220T210000
DTEND;TZID=America/Denver:20251220T210000
DTSTAMP:20260424T221151
CREATED:20251127T205612Z
LAST-MODIFIED:20251127T205612Z
UID:302846-1766264400-1766264400@bozone.com
SUMMARY:The Love Darts
DESCRIPTION:19/20- The Love Darts
URL:https://bozone.com/event/the-love-darts-10/
LOCATION:Eagles Bar\, 316 E Main Street\, Bozeman\, MT\, 59715\, United States
CATEGORIES:Music
GEO:45.6790336;-111.0324891
X-APPLE-STRUCTURED-LOCATION;VALUE=URI;X-ADDRESS=Eagles Bar 316 E Main Street Bozeman MT 59715 United States;X-APPLE-RADIUS=500;X-TITLE=316 E Main Street:geo:-111.0324891,45.6790336
END:VEVENT
END:VCALENDAR