BEGIN:VCALENDAR
VERSION:2.0
PRODID:-//The BoZone - ECPv5.12.0//NONSGML v1.0//EN
CALSCALE:GREGORIAN
METHOD:PUBLISH
X-WR-CALNAME:The BoZone
X-ORIGINAL-URL:https://bozone.com
X-WR-CALDESC:Events for The BoZone
BEGIN:VTIMEZONE
TZID:America/Denver
BEGIN:DAYLIGHT
TZOFFSETFROM:-0700
TZOFFSETTO:-0600
TZNAME:MDT
DTSTART:20250309T090000
END:DAYLIGHT
BEGIN:STANDARD
TZOFFSETFROM:-0600
TZOFFSETTO:-0700
TZNAME:MST
DTSTART:20251102T080000
END:STANDARD
END:VTIMEZONE
BEGIN:VEVENT
DTSTART;TZID=America/Denver:20251217T180000
DTEND;TZID=America/Denver:20251217T180000
DTSTAMP:20260425T043856
CREATED:20251027T184438Z
LAST-MODIFIED:20251027T184438Z
UID:300813-1765994400-1765994400@bozone.com
SUMMARY:Kins Gwen
DESCRIPTION:
URL:https://bozone.com/event/kins-gwen/
LOCATION:MAP Brewing\, 510 Manley Road\, Bozeman\, United States
CATEGORIES:Music
GEO:45.7033151;-111.0401931
X-APPLE-STRUCTURED-LOCATION;VALUE=URI;X-ADDRESS=MAP Brewing 510 Manley Road Bozeman United States;X-APPLE-RADIUS=500;X-TITLE=510 Manley Road:geo:-111.0401931,45.7033151
END:VEVENT
BEGIN:VEVENT
DTSTART;TZID=America/Denver:20251217T200000
DTEND;TZID=America/Denver:20251217T200000
DTSTAMP:20260425T043856
CREATED:20251126T041246Z
LAST-MODIFIED:20251126T041246Z
UID:302516-1766001600-1766001600@bozone.com
SUMMARY:Open Jam
DESCRIPTION:Open Jam\nOpen Jam\n12/17/25\n08:00 PM\nThe Murray Bar
URL:https://bozone.com/event/open-jam-24/
LOCATION:Murray Bar – Livingston\, 201 W Park St\, Livingston\, United States
CATEGORIES:Music
GEO:45.661755;-110.562305
X-APPLE-STRUCTURED-LOCATION;VALUE=URI;X-ADDRESS=Murray Bar – Livingston 201 W Park St Livingston United States;X-APPLE-RADIUS=500;X-TITLE=201 W Park St:geo:-110.562305,45.661755
END:VEVENT
BEGIN:VEVENT
DTSTART;TZID=America/Denver:20251217T200000
DTEND;TZID=America/Denver:20251217T200000
DTSTAMP:20260425T043856
CREATED:20251127T205520Z
LAST-MODIFIED:20251127T205520Z
UID:302844-1766001600-1766001600@bozone.com
SUMMARY:Mathias
DESCRIPTION:17th- Mathias
URL:https://bozone.com/event/mathias-36/
LOCATION:Eagles Bar\, 316 E Main Street\, Bozeman\, MT\, 59715\, United States
CATEGORIES:Music
GEO:45.6790336;-111.0324891
X-APPLE-STRUCTURED-LOCATION;VALUE=URI;X-ADDRESS=Eagles Bar 316 E Main Street Bozeman MT 59715 United States;X-APPLE-RADIUS=500;X-TITLE=316 E Main Street:geo:-111.0324891,45.6790336
END:VEVENT
BEGIN:VEVENT
DTSTART;TZID=America/Denver:20251217T200000
DTEND;TZID=America/Denver:20251217T200000
DTSTAMP:20260425T043856
CREATED:20251130T020743Z
LAST-MODIFIED:20251130T020743Z
UID:303224-1766001600-1766001600@bozone.com
SUMMARY:Sometimes a Legend
DESCRIPTION:Sometimes a Legend\n\nWednesday\, December 17\, 2025\nStarting at 8:00pm
URL:https://bozone.com/event/sometimes-a-legend/
LOCATION:Tips Up – Big Sky\, 76 Town Center Ave\, Big Sky\, MT\, 59716\, United States
CATEGORIES:Music
GEO:45.2599334;-111.3070373
X-APPLE-STRUCTURED-LOCATION;VALUE=URI;X-ADDRESS=Tips Up – Big Sky 76 Town Center Ave Big Sky MT 59716 United States;X-APPLE-RADIUS=500;X-TITLE=76 Town Center Ave:geo:-111.3070373,45.2599334
END:VEVENT
END:VCALENDAR