BEGIN:VCALENDAR
VERSION:2.0
PRODID:-//The BoZone - ECPv5.12.0//NONSGML v1.0//EN
CALSCALE:GREGORIAN
METHOD:PUBLISH
X-WR-CALNAME:The BoZone
X-ORIGINAL-URL:https://bozone.com
X-WR-CALDESC:Events for The BoZone
BEGIN:VTIMEZONE
TZID:America/Denver
BEGIN:DAYLIGHT
TZOFFSETFROM:-0700
TZOFFSETTO:-0600
TZNAME:MDT
DTSTART:20250309T090000
END:DAYLIGHT
BEGIN:STANDARD
TZOFFSETFROM:-0600
TZOFFSETTO:-0700
TZNAME:MST
DTSTART:20251102T080000
END:STANDARD
END:VTIMEZONE
BEGIN:VEVENT
DTSTART;TZID=America/Denver:20251214T110000
DTEND;TZID=America/Denver:20251214T130000
DTSTAMP:20260425T141354
CREATED:20251128T023529Z
LAST-MODIFIED:20251128T030951Z
UID:302934-1765710000-1765717200@bozone.com
SUMMARY:Mathias
DESCRIPTION:
URL:https://bozone.com/event/mathias-38/
LOCATION:Sage Lodge – S of Livingston\, 55 Sage Lodge Drive\, Pray\, MT\, 59065\, United States
CATEGORIES:Music
GEO:45.3597459;-110.7195062
X-APPLE-STRUCTURED-LOCATION;VALUE=URI;X-ADDRESS=Sage Lodge – S of Livingston 55 Sage Lodge Drive Pray MT 59065 United States;X-APPLE-RADIUS=500;X-TITLE=55 Sage Lodge Drive:geo:-110.7195062,45.3597459
END:VEVENT
BEGIN:VEVENT
DTSTART;TZID=America/Denver:20251214T140000
DTEND;TZID=America/Denver:20251214T160000
DTSTAMP:20260425T141354
CREATED:20251126T042849Z
LAST-MODIFIED:20251126T042849Z
UID:302549-1765720800-1765728000@bozone.com
SUMMARY:West Dakota Stutter
DESCRIPTION:
URL:https://bozone.com/event/west-dakota-stutter-30/
LOCATION:Studio Wheelhouse\, 10 Evergreen Drive\, Suite B\, Bozeman\, MT\, 59715\, United States
CATEGORIES:Music
GEO:45.6956768;-111.0351487
X-APPLE-STRUCTURED-LOCATION;VALUE=URI;X-ADDRESS=Studio Wheelhouse 10 Evergreen Drive Suite B Bozeman MT 59715 United States;X-APPLE-RADIUS=500;X-TITLE=10 Evergreen Drive\, Suite B:geo:-111.0351487,45.6956768
END:VEVENT
BEGIN:VEVENT
DTSTART;TZID=America/Denver:20251214T143000
DTEND;TZID=America/Denver:20251214T143000
DTSTAMP:20260425T141354
CREATED:20251026T190425Z
LAST-MODIFIED:20251026T190425Z
UID:300659-1765722600-1765722600@bozone.com
SUMMARY:Bozeman Symphony's Holiday Spectacular
DESCRIPTION:https://www.bozemansymphony.org/holiday-spectacular-2025 \n\n\n\n\nHoliday Spectacular\n\n\n\n\n\n\n\n\n\n\n\n\n\n\n\nFriday\, December 12\, 2025 – 7:30 pm \nSaturday\, December 13\, 2025 – 2:30 pm & 7:30 pm \nSunday\, December 14\, 2025 – 2:30 pm \n\n\n\n\n\n\n\n\nPerformed at Willson Auditorium
URL:https://bozone.com/event/bozeman-symphonys-holiday-spectacular-4/
LOCATION:Willson Auditorium\, 404 W Main\, Bozeman\, MT\, 59715\, United States
CATEGORIES:Music
GEO:45.678736;-111.042606
X-APPLE-STRUCTURED-LOCATION;VALUE=URI;X-ADDRESS=Willson Auditorium 404 W Main Bozeman MT 59715 United States;X-APPLE-RADIUS=500;X-TITLE=404 W Main:geo:-111.042606,45.678736
END:VEVENT
BEGIN:VEVENT
DTSTART;TZID=America/Denver:20251214T180000
DTEND;TZID=America/Denver:20251214T180000
DTSTAMP:20260425T141354
CREATED:20251128T022108Z
LAST-MODIFIED:20251128T022108Z
UID:302929-1765735200-1765735200@bozone.com
SUMMARY:Seth Anderson // Prints // Three Penny Riot // Battle Stations
DESCRIPTION:Seth Anderson // Prints // Three Penny Riot // Battle Stations\n\n\n\n\n\n\n\n\n\n\nBy Whistle Pig Music\n\n\n\n\n\n\n\nGallatin Labor Temple\nDec 14 from 6pm to 10:30pm MST\n\n\n\n\n\nSeth Anderson is a singer-songwriter from Calgary\, Alberta with roots in punk rock.\n\n\n\n\n\n\n\n\nSeth Anderson // Prints // Three Penny Riot // Battle Stations\nWhistle Pig Music and Labor Temple Sober Sunday series presents \nSeth Anderson (Calgary) with three local punk bands. Seth is a singer-songwriter with roots in punk rock. His new album These Exact Days\, These Peaceful Nights has been critically applauded on CBC Radio.
URL:https://bozone.com/event/seth-anderson-prints-three-penny-riot-battle-stations/
LOCATION:Gallatin Labor Temple\, 422 E. Mendenhall\, Bozeman\, MT\, 59715\, United States
CATEGORIES:Music
GEO:45.6802113;-111.0312258
X-APPLE-STRUCTURED-LOCATION;VALUE=URI;X-ADDRESS=Gallatin Labor Temple 422 E. Mendenhall Bozeman MT 59715 United States;X-APPLE-RADIUS=500;X-TITLE=422 E. Mendenhall:geo:-111.0312258,45.6802113
END:VEVENT
BEGIN:VEVENT
DTSTART;TZID=America/Denver:20251214T190000
DTEND;TZID=America/Denver:20251214T190000
DTSTAMP:20260425T141354
CREATED:20251025T014529Z
LAST-MODIFIED:20251025T014529Z
UID:300244-1765738800-1765738800@bozone.com
SUMMARY:Jampoke
DESCRIPTION:Jampoke is a Mountain Jam-band collective born from the dorms of Montana State University in Bozeman\, MT. With roots stretching across Colorado\, Idaho\, and Oregon\, the band’s fusion of soulful Americana storytelling and electric jam-rock improvisation makes for a show you don’t want to miss.\nTheir debut album\, Walk Into The Trees\, features 11 original compositions delivered with emotional depth and instrumental flair. The album debuted with an electric performance at Pine Creek Lodge in Livingston\, MT. Jampoke continues to build a grassroots following throughout the Rocky Mountains\, fueled by energetic live shows.
URL:https://bozone.com/event/jampoke-9/
LOCATION:Bozeman Hot Springs\, 81123 Gallatin Road\, Bozeman\, MT\, 59718\, United States
CATEGORIES:Music
GEO:45.6604005;-111.1877192
X-APPLE-STRUCTURED-LOCATION;VALUE=URI;X-ADDRESS=Bozeman Hot Springs 81123 Gallatin Road Bozeman MT 59718 United States;X-APPLE-RADIUS=500;X-TITLE=81123 Gallatin Road:geo:-111.1877192,45.6604005
END:VEVENT
BEGIN:VEVENT
DTSTART;TZID=America/Denver:20251214T210000
DTEND;TZID=America/Denver:20251214T210000
DTSTAMP:20260425T141354
CREATED:20251126T032845Z
LAST-MODIFIED:20251126T032845Z
UID:302461-1765746000-1765746000@bozone.com
SUMMARY:Jerry Joseph and the Jackmormons
DESCRIPTION:12/14 Jerry Joseph and the Jackmormons
URL:https://bozone.com/event/jerry-joseph-and-the-jackmormons/
LOCATION:The Filling Station\, 2005 N. Rouse Avenue\, Bozeman\, United States
CATEGORIES:Music
GEO:45.6988202;-111.0319631
X-APPLE-STRUCTURED-LOCATION;VALUE=URI;X-ADDRESS=The Filling Station 2005 N. Rouse Avenue Bozeman United States;X-APPLE-RADIUS=500;X-TITLE=2005 N. Rouse Avenue:geo:-111.0319631,45.6988202
END:VEVENT
END:VCALENDAR