BEGIN:VCALENDAR
VERSION:2.0
PRODID:-//The BoZone - ECPv5.12.0//NONSGML v1.0//EN
CALSCALE:GREGORIAN
METHOD:PUBLISH
X-WR-CALNAME:The BoZone
X-ORIGINAL-URL:https://bozone.com
X-WR-CALDESC:Events for The BoZone
BEGIN:VTIMEZONE
TZID:America/Denver
BEGIN:DAYLIGHT
TZOFFSETFROM:-0700
TZOFFSETTO:-0600
TZNAME:MDT
DTSTART:20250309T090000
END:DAYLIGHT
BEGIN:STANDARD
TZOFFSETFROM:-0600
TZOFFSETTO:-0700
TZNAME:MST
DTSTART:20251102T080000
END:STANDARD
END:VTIMEZONE
BEGIN:VEVENT
DTSTART;TZID=America/Denver:20251213T140000
DTEND;TZID=America/Denver:20251213T140000
DTSTAMP:20260425T153813
CREATED:20251124T131924Z
LAST-MODIFIED:20251124T131924Z
UID:302221-1765634400-1765634400@bozone.com
SUMMARY:Jazz in the Library- Alex Robilotta and Isaac Winemiller
DESCRIPTION:Join us on the 2nd floor magazine corner for the stirring sounds of acoustic music from 2-4 PM. Each week hear different performers and groups including: Alex Robilotta\, Craig Hall\, Flamenco Club\, Bozambique\, and others.\nDecember 6 – Eric Barnes\, Aaron Johnson\, and Michael Testagrossa. \nDecember 13 – Alex Robilotta and Isaac Winemiller \nDecember 20 – Flamenco Club
URL:https://bozone.com/event/jazz-in-the-library-alex-robilotta-and-isaac-winemiller/
LOCATION:Bozeman Public Library\, 626 East Main Street\, Bozeman\, MT\, 59715\, United States
CATEGORIES:Music
GEO:45.6785823;-111.0270991
X-APPLE-STRUCTURED-LOCATION;VALUE=URI;X-ADDRESS=Bozeman Public Library 626 East Main Street Bozeman MT 59715 United States;X-APPLE-RADIUS=500;X-TITLE=626 East Main Street:geo:-111.0270991,45.6785823
END:VEVENT
BEGIN:VEVENT
DTSTART;TZID=America/Denver:20251213T143000
DTEND;TZID=America/Denver:20251213T170000
DTSTAMP:20260425T153813
CREATED:20251026T190347Z
LAST-MODIFIED:20251026T190347Z
UID:300657-1765636200-1765645200@bozone.com
SUMMARY:Bozeman Symphony's Holiday Spectacular
DESCRIPTION:https://www.bozemansymphony.org/holiday-spectacular-2025 \n\n\n\n\nHoliday Spectacular\n\n\n\n\n\n\n\n\n\n\n\n\n\n\n\nFriday\, December 12\, 2025 – 7:30 pm \nSaturday\, December 13\, 2025 – 2:30 pm & 7:30 pm \nSunday\, December 14\, 2025 – 2:30 pm \n\n\n\n\n\n\n\n\nPerformed at Willson Auditorium
URL:https://bozone.com/event/bozeman-symphonys-holiday-spectacular-2/
LOCATION:Willson Auditorium\, 404 W Main\, Bozeman\, MT\, 59715\, United States
CATEGORIES:Music
GEO:45.678736;-111.042606
X-APPLE-STRUCTURED-LOCATION;VALUE=URI;X-ADDRESS=Willson Auditorium 404 W Main Bozeman MT 59715 United States;X-APPLE-RADIUS=500;X-TITLE=404 W Main:geo:-111.042606,45.678736
END:VEVENT
BEGIN:VEVENT
DTSTART;TZID=America/Denver:20251213T160000
DTEND;TZID=America/Denver:20251213T170000
DTSTAMP:20260425T153813
CREATED:20251128T023745Z
LAST-MODIFIED:20251128T023745Z
UID:302937-1765641600-1765645200@bozone.com
SUMMARY:Paul Lee Kupfer
DESCRIPTION:
URL:https://bozone.com/event/paul-lee-kupfer-5/
LOCATION:Sage Lodge – S of Livingston\, 55 Sage Lodge Drive\, Pray\, MT\, 59065\, United States
CATEGORIES:Music
GEO:45.3597459;-110.7195062
X-APPLE-STRUCTURED-LOCATION;VALUE=URI;X-ADDRESS=Sage Lodge – S of Livingston 55 Sage Lodge Drive Pray MT 59065 United States;X-APPLE-RADIUS=500;X-TITLE=55 Sage Lodge Drive:geo:-110.7195062,45.3597459
END:VEVENT
BEGIN:VEVENT
DTSTART;TZID=America/Denver:20251213T180000
DTEND;TZID=America/Denver:20251213T180000
DTSTAMP:20260425T153813
CREATED:20251126T175420Z
LAST-MODIFIED:20251126T175420Z
UID:302593-1765648800-1765648800@bozone.com
SUMMARY:Reid Hill - Solo Songwriter  
DESCRIPTION:Reid Hill – Solo Songwriter  \n6:00 PM – 8:00 PM
URL:https://bozone.com/event/reid-hill-solo-songwriter/
LOCATION:Valhalla Meadery\, 875 Bridger Drive Unit B\, Bozeman\, MT\, 59715\, United States
CATEGORIES:Music
GEO:45.7034876;-111.0248629
X-APPLE-STRUCTURED-LOCATION;VALUE=URI;X-ADDRESS=Valhalla Meadery 875 Bridger Drive Unit B Bozeman MT 59715 United States;X-APPLE-RADIUS=500;X-TITLE=875 Bridger Drive Unit B:geo:-111.0248629,45.7034876
END:VEVENT
BEGIN:VEVENT
DTSTART;TZID=America/Denver:20251213T190000
DTEND;TZID=America/Denver:20251213T190000
DTSTAMP:20260425T153813
CREATED:20251128T222558Z
LAST-MODIFIED:20251128T222558Z
UID:303102-1765652400-1765652400@bozone.com
SUMMARY:Colter John
DESCRIPTION:Colter John (1)\nDec 13\, 2025\, 7:00 PM – 9:30 PM\nNorris Hot Springs\, 42 MT-84\, Norris\, MT 59745\, USA\nBorn and raised in Southwest Montana\, where the inspiration to play music began\, artist Colter John spent much of his musical career playing in bands throughout the Pacific Northwest and in Western Montana before returning home to Madison County.
URL:https://bozone.com/event/colter-john-9/
LOCATION:Norris Hot Springs\, Route 84\, Norris\, United States
CATEGORIES:Music
GEO:45.6433024;-111.4569678
X-APPLE-STRUCTURED-LOCATION;VALUE=URI;X-ADDRESS=Norris Hot Springs Route 84 Norris United States;X-APPLE-RADIUS=500;X-TITLE=Route 84:geo:-111.4569678,45.6433024
END:VEVENT
BEGIN:VEVENT
DTSTART;TZID=America/Denver:20251213T193000
DTEND;TZID=America/Denver:20251213T193000
DTSTAMP:20260425T153814
CREATED:20251026T190402Z
LAST-MODIFIED:20251026T190402Z
UID:300658-1765654200-1765654200@bozone.com
SUMMARY:Bozeman Symphony's Holiday Spectacular
DESCRIPTION:https://www.bozemansymphony.org/holiday-spectacular-2025 \n\n\n\n\nHoliday Spectacular\n\n\n\n\n\n\n\n\n\n\n\n\n\n\n\nFriday\, December 12\, 2025 – 7:30 pm \nSaturday\, December 13\, 2025 – 2:30 pm & 7:30 pm \nSunday\, December 14\, 2025 – 2:30 pm \n\n\n\n\n\n\n\n\nPerformed at Willson Auditorium
URL:https://bozone.com/event/bozeman-symphonys-holiday-spectacular-3/
LOCATION:Willson Auditorium\, 404 W Main\, Bozeman\, MT\, 59715\, United States
CATEGORIES:Music
GEO:45.678736;-111.042606
X-APPLE-STRUCTURED-LOCATION;VALUE=URI;X-ADDRESS=Willson Auditorium 404 W Main Bozeman MT 59715 United States;X-APPLE-RADIUS=500;X-TITLE=404 W Main:geo:-111.042606,45.678736
END:VEVENT
BEGIN:VEVENT
DTSTART;TZID=America/Denver:20251213T193000
DTEND;TZID=America/Denver:20251213T193000
DTSTAMP:20260425T153814
CREATED:20251126T042634Z
LAST-MODIFIED:20251126T042634Z
UID:302543-1765654200-1765654200@bozone.com
SUMMARY:West Dakota Stutter
DESCRIPTION:
URL:https://bozone.com/event/west-dakota-stutter-29/
LOCATION:Owl Lounge – Livingston\, 110 N 2nd\, Livingston\, United States
CATEGORIES:Music
GEO:45.6610609;-110.5615331
X-APPLE-STRUCTURED-LOCATION;VALUE=URI;X-ADDRESS=Owl Lounge – Livingston 110 N 2nd Livingston United States;X-APPLE-RADIUS=500;X-TITLE=110 N 2nd:geo:-110.5615331,45.6610609
END:VEVENT
BEGIN:VEVENT
DTSTART;TZID=America/Denver:20251213T200000
DTEND;TZID=America/Denver:20251213T200000
DTSTAMP:20260425T153814
CREATED:20251124T131147Z
LAST-MODIFIED:20251124T131147Z
UID:302235-1765656000-1765656000@bozone.com
SUMMARY:Puttin' on The Hits Karaoke
DESCRIPTION:Montana’s best Karaoke night!
URL:https://bozone.com/event/puttin-on-the-hits-karaoke-5/
LOCATION:The Jump\, 75770 Gallatin Rd\, Gallatin Gateway\, MT\, 59730\, United States
CATEGORIES:Music
GEO:45.58333;-111.1969895
X-APPLE-STRUCTURED-LOCATION;VALUE=URI;X-ADDRESS=The Jump 75770 Gallatin Rd Gallatin Gateway MT 59730 United States;X-APPLE-RADIUS=500;X-TITLE=75770 Gallatin Rd:geo:-111.1969895,45.58333
END:VEVENT
BEGIN:VEVENT
DTSTART;TZID=America/Denver:20251213T200000
DTEND;TZID=America/Denver:20251213T200000
DTSTAMP:20260425T153814
CREATED:20251126T035505Z
LAST-MODIFIED:20251126T035505Z
UID:302510-1765656000-1765656000@bozone.com
SUMMARY:FunkyMoto
DESCRIPTION:Dec 13 FunkyMoto \nATTIC
URL:https://bozone.com/event/funkymoto/
LOCATION:The Attic – Livingston\, 110 N Main Street\, Livingston\, MT\, 59047\, United States
CATEGORIES:Music
GEO:45.6618949;-110.5601138
X-APPLE-STRUCTURED-LOCATION;VALUE=URI;X-ADDRESS=The Attic – Livingston 110 N Main Street Livingston MT 59047 United States;X-APPLE-RADIUS=500;X-TITLE=110 N Main Street:geo:-110.5601138,45.6618949
END:VEVENT
BEGIN:VEVENT
DTSTART;TZID=America/Denver:20251213T200000
DTEND;TZID=America/Denver:20251213T200000
DTSTAMP:20260425T153814
CREATED:20251126T215531Z
LAST-MODIFIED:20251126T215531Z
UID:302700-1765656000-1765656000@bozone.com
SUMMARY:Kailey Marie Trio
DESCRIPTION:13 Kailey Marie Trio
URL:https://bozone.com/event/kailey-marie-trio-4/
LOCATION:Old Saloon – Emigrant\, 210 Railroad Lane\, Emigrant\, MT\, 59027\, United States
CATEGORIES:Music
GEO:45.369298;-110.734056
X-APPLE-STRUCTURED-LOCATION;VALUE=URI;X-ADDRESS=Old Saloon – Emigrant 210 Railroad Lane Emigrant MT 59027 United States;X-APPLE-RADIUS=500;X-TITLE=210 Railroad Lane:geo:-110.734056,45.369298
END:VEVENT
BEGIN:VEVENT
DTSTART;TZID=America/Denver:20251213T200000
DTEND;TZID=America/Denver:20251213T200000
DTSTAMP:20260425T153814
CREATED:20251126T220535Z
LAST-MODIFIED:20251126T220535Z
UID:302723-1765656000-1765656000@bozone.com
SUMMARY:Kyle Hunter & The Mountain Standard
DESCRIPTION:13 Kyle Hunter & The Mountain Standard
URL:https://bozone.com/event/kyle-hunter-the-mountain-standard-2/
LOCATION:The Westerner – Gallatin Gateway\, 304 Mill St\, Gallatin Gateway\, MT\, 59730\, United States
CATEGORIES:Music
GEO:45.5907797;-111.2029969
X-APPLE-STRUCTURED-LOCATION;VALUE=URI;X-ADDRESS=The Westerner – Gallatin Gateway 304 Mill St Gallatin Gateway MT 59730 United States;X-APPLE-RADIUS=500;X-TITLE=304 Mill St:geo:-111.2029969,45.5907797
END:VEVENT
BEGIN:VEVENT
DTSTART;TZID=America/Denver:20251213T210000
DTEND;TZID=America/Denver:20251213T210000
DTSTAMP:20260425T153814
CREATED:20250728T190913Z
LAST-MODIFIED:20250728T190913Z
UID:294409-1765659600-1765659600@bozone.com
SUMMARY:Shakedown Country
DESCRIPTION:December 12/13 Shakedown Country.. Country Western
URL:https://bozone.com/event/shakedown-country/2025-12-13/
LOCATION:Chico Hot Springs Saloon\, 163 Chico Rd\, Pray\, MT 59065\, Pray\, MT\, 59065\, United States
CATEGORIES:Music
GEO:45.3386251;-110.6922233
X-APPLE-STRUCTURED-LOCATION;VALUE=URI;X-ADDRESS=Chico Hot Springs Saloon 163 Chico Rd Pray MT 59065 Pray MT 59065 United States;X-APPLE-RADIUS=500;X-TITLE=163 Chico Rd\, Pray\, MT 59065:geo:-110.6922233,45.3386251
END:VEVENT
BEGIN:VEVENT
DTSTART;TZID=America/Denver:20251213T210000
DTEND;TZID=America/Denver:20251213T210000
DTSTAMP:20260425T153814
CREATED:20251126T020842Z
LAST-MODIFIED:20251126T020902Z
UID:302422-1765659600-1765659600@bozone.com
SUMMARY:Scratchin Gravel
DESCRIPTION:Dec\n13\n\n\n\n\nSaturday LIVE MUSIc: SCRATCHIN’ GRAVEL\n\n\n\n\n\n\n\nEnjoy live music from your favorite local artists every Saturday at 9 PM at The Waypoint.
URL:https://bozone.com/event/scratchin-gravel-20/
LOCATION:The Big Sky Waypoint\, 50 Ousel Falls Road\, Big Sky\, MT\, 59716\, United States
CATEGORIES:Music
GEO:45.2600817;-111.3084077
X-APPLE-STRUCTURED-LOCATION;VALUE=URI;X-ADDRESS=The Big Sky Waypoint 50 Ousel Falls Road Big Sky MT 59716 United States;X-APPLE-RADIUS=500;X-TITLE=50 Ousel Falls Road:geo:-111.3084077,45.2600817
END:VEVENT
BEGIN:VEVENT
DTSTART;TZID=America/Denver:20251213T210000
DTEND;TZID=America/Denver:20251213T210000
DTSTAMP:20260425T153814
CREATED:20251126T032941Z
LAST-MODIFIED:20251126T032941Z
UID:302473-1765659600-1765659600@bozone.com
SUMMARY:Jerry Joseph and the Jackmormons
DESCRIPTION:
URL:https://bozone.com/event/jerry-joseph-and-the-jackmormons-2/
LOCATION:The Filling Station\, 2005 N. Rouse Avenue\, Bozeman\, United States
CATEGORIES:Music
GEO:45.6988202;-111.0319631
X-APPLE-STRUCTURED-LOCATION;VALUE=URI;X-ADDRESS=The Filling Station 2005 N. Rouse Avenue Bozeman United States;X-APPLE-RADIUS=500;X-TITLE=2005 N. Rouse Avenue:geo:-111.0319631,45.6988202
END:VEVENT
BEGIN:VEVENT
DTSTART;TZID=America/Denver:20251213T210000
DTEND;TZID=America/Denver:20251213T210000
DTSTAMP:20260425T153814
CREATED:20251126T034446Z
LAST-MODIFIED:20251126T034446Z
UID:302489-1765659600-1765659600@bozone.com
SUMMARY:Shake and Bake
DESCRIPTION:12/13 Shake and Bake
URL:https://bozone.com/event/shake-and-bake-2/
LOCATION:Haufbrau\, 22 S 8th Avenue\, Bozeman\, United States
CATEGORIES:Music
GEO:45.6786147;-111.047506
X-APPLE-STRUCTURED-LOCATION;VALUE=URI;X-ADDRESS=Haufbrau 22 S 8th Avenue Bozeman United States;X-APPLE-RADIUS=500;X-TITLE=22 S 8th Avenue:geo:-111.047506,45.6786147
END:VEVENT
BEGIN:VEVENT
DTSTART;TZID=America/Denver:20251213T210000
DTEND;TZID=America/Denver:20251213T210000
DTSTAMP:20260425T153814
CREATED:20251126T041216Z
LAST-MODIFIED:20251126T041216Z
UID:302515-1765659600-1765659600@bozone.com
SUMMARY:Band of Drifters Trio
DESCRIPTION:Band of Drifters Trio\nHonky Tonk\, Country-Folk\n12/13/25\n09:00 PM\nThe Murray Bar\nwww.bandofdrifters.com\n@bandofdrifters
URL:https://bozone.com/event/band-of-drifters-trio-5/
LOCATION:Murray Bar – Livingston\, 201 W Park St\, Livingston\, United States
CATEGORIES:Music
GEO:45.661755;-110.562305
X-APPLE-STRUCTURED-LOCATION;VALUE=URI;X-ADDRESS=Murray Bar – Livingston 201 W Park St Livingston United States;X-APPLE-RADIUS=500;X-TITLE=201 W Park St:geo:-110.562305,45.661755
END:VEVENT
BEGIN:VEVENT
DTSTART;TZID=America/Denver:20251213T210000
DTEND;TZID=America/Denver:20251213T210000
DTSTAMP:20260425T153815
CREATED:20251126T213646Z
LAST-MODIFIED:20251126T213646Z
UID:302672-1765659600-1765659600@bozone.com
SUMMARY:John Oosterhuis
DESCRIPTION:13th- John Oosterhuis
URL:https://bozone.com/event/john-oosterhuis-3/
LOCATION:Bozeman Taproom\, MT\, United States
CATEGORIES:Music
GEO:45.6805431;-111.0325509
END:VEVENT
BEGIN:VEVENT
DTSTART;TZID=America/Denver:20251213T210000
DTEND;TZID=America/Denver:20251213T210000
DTSTAMP:20260425T153815
CREATED:20251127T205446Z
LAST-MODIFIED:20251127T205446Z
UID:302843-1765659600-1765659600@bozone.com
SUMMARY:The Disruptors
DESCRIPTION:12/13- The Disruptors
URL:https://bozone.com/event/the-disruptors-9/
LOCATION:Eagles Bar\, 316 E Main Street\, Bozeman\, MT\, 59715\, United States
CATEGORIES:Music
GEO:45.6790336;-111.0324891
X-APPLE-STRUCTURED-LOCATION;VALUE=URI;X-ADDRESS=Eagles Bar 316 E Main Street Bozeman MT 59715 United States;X-APPLE-RADIUS=500;X-TITLE=316 E Main Street:geo:-111.0324891,45.6790336
END:VEVENT
BEGIN:VEVENT
DTSTART;TZID=America/Denver:20251213T210000
DTEND;TZID=America/Denver:20251213T210000
DTSTAMP:20260425T153815
CREATED:20251128T045629Z
LAST-MODIFIED:20251128T045629Z
UID:303008-1765659600-1765659600@bozone.com
SUMMARY:Latin Night
DESCRIPTION:Latin Night\n\nSat\, Dec 13\, 2025-9:00 pm\nThe Grey Dog Bar
URL:https://bozone.com/event/latin-night-4/
LOCATION:Grey Dog Bar\, 34 N Bozeman Ave\, Bozeman\, MT\, 58715\, United States
CATEGORIES:Music
GEO:45.6800908;-111.0342181
X-APPLE-STRUCTURED-LOCATION;VALUE=URI;X-ADDRESS=Grey Dog Bar 34 N Bozeman Ave Bozeman MT 58715 United States;X-APPLE-RADIUS=500;X-TITLE=34 N Bozeman Ave:geo:-111.0342181,45.6800908
END:VEVENT
END:VCALENDAR