BEGIN:VCALENDAR
VERSION:2.0
PRODID:-//The BoZone - ECPv5.12.0//NONSGML v1.0//EN
CALSCALE:GREGORIAN
METHOD:PUBLISH
X-WR-CALNAME:The BoZone
X-ORIGINAL-URL:https://bozone.com
X-WR-CALDESC:Events for The BoZone
BEGIN:VTIMEZONE
TZID:America/Denver
BEGIN:DAYLIGHT
TZOFFSETFROM:-0700
TZOFFSETTO:-0600
TZNAME:MDT
DTSTART:20250309T090000
END:DAYLIGHT
BEGIN:STANDARD
TZOFFSETFROM:-0600
TZOFFSETTO:-0700
TZNAME:MST
DTSTART:20251102T080000
END:STANDARD
END:VTIMEZONE
BEGIN:VEVENT
DTSTART;TZID=America/Denver:20251211T180000
DTEND;TZID=America/Denver:20251211T180000
DTSTAMP:20260425T215321
CREATED:20251126T232612Z
LAST-MODIFIED:20251126T232612Z
UID:302750-1765476000-1765476000@bozone.com
SUMMARY:Marcedes Carroll
DESCRIPTION:Three Forks Music Night with Marcedes Carroll – No Cover!\nDec 11\, 2025
URL:https://bozone.com/event/marcedes-carroll-30/
LOCATION:Bridger Pub & Grill – 3 Forks\, 10751 Hwy 287\, Three Forks\, MT\, 59752\, United States
CATEGORIES:Music
GEO:45.9254352;-111.5972093
X-APPLE-STRUCTURED-LOCATION;VALUE=URI;X-ADDRESS=Bridger Pub & Grill – 3 Forks 10751 Hwy 287 Three Forks MT 59752 United States;X-APPLE-RADIUS=500;X-TITLE=10751 Hwy 287:geo:-111.5972093,45.9254352
END:VEVENT
BEGIN:VEVENT
DTSTART;TZID=America/Denver:20251211T190000
DTEND;TZID=America/Denver:20251211T190000
DTSTAMP:20260425T215321
CREATED:20251025T015323Z
LAST-MODIFIED:20251025T015323Z
UID:300291-1765479600-1765479600@bozone.com
SUMMARY:Bending Towards the Light...a Jazz Nativity
DESCRIPTION:It’s back!After a wildly popular Premiere in 2023\, Bending Toward the Light…a Jazz Nativity will be performed December 4th\, 7th\, and 11th in the beautiful sanctuary of Hope Lutheran church with its pitch perfect acoustics. The Directed by Beth Ann Kennedy in collaboration with Montana State University\, featuring Ryan Matzinger and the MSU One o’clock Concert Jazz Ensemble\, Jeni Fleming\, Katherine Kramer\, Jake Fleming\, The Big Sky Voces\, a choir of 50 under the direction of Maren Haynes Marchesini and many wonderful\, Montana singers\, musicians and dancers. By the end of Bending Towards the Light you know you’ve been through something wonderful. Purchase tickets now at www.jazznativity.org/bozeman\nfor questions call 406.640.0300 \n\n\n\nThu Dec 4\, 2025 7:00 PM – 8:30 PM\nSunday\, December 7th at 4:00 PM\nThursday\, December 11th at 7:00 PM\n\n\n\n\nDecember 4th Show\nTicketsDecember 7th Show\nTicketsDecember 11th Show Tickets
URL:https://bozone.com/event/bending-towards-the-light-a-jazz-nativity-3/
LOCATION:Hope Lutheran Church\, 2152 Graf St\, Bozeman\, United States
CATEGORIES:Arts & Theatre,Music
GEO:45.6481929;-111.0659188
X-APPLE-STRUCTURED-LOCATION;VALUE=URI;X-ADDRESS=Hope Lutheran Church 2152 Graf St Bozeman United States;X-APPLE-RADIUS=500;X-TITLE=2152 Graf St:geo:-111.0659188,45.6481929
END:VEVENT
BEGIN:VEVENT
DTSTART;TZID=America/Denver:20251211T190000
DTEND;TZID=America/Denver:20251211T190000
DTSTAMP:20260425T215321
CREATED:20251026T183912Z
LAST-MODIFIED:20251026T183912Z
UID:300642-1765479600-1765479600@bozone.com
SUMMARY:Ryan Acker
DESCRIPTION:
URL:https://bozone.com/event/ryan-acker-21/
LOCATION:Bozeman Hot Springs\, 81123 Gallatin Road\, Bozeman\, MT\, 59718\, United States
CATEGORIES:Music
GEO:45.6604005;-111.1877192
X-APPLE-STRUCTURED-LOCATION;VALUE=URI;X-ADDRESS=Bozeman Hot Springs 81123 Gallatin Road Bozeman MT 59718 United States;X-APPLE-RADIUS=500;X-TITLE=81123 Gallatin Road:geo:-111.1877192,45.6604005
END:VEVENT
BEGIN:VEVENT
DTSTART;TZID=America/Denver:20251211T193000
DTEND;TZID=America/Denver:20251211T193000
DTSTAMP:20260425T215322
CREATED:20251126T203235Z
LAST-MODIFIED:20251126T203235Z
UID:302647-1765481400-1765481400@bozone.com
SUMMARY:Downbeat Swing Dancing
DESCRIPTION:Thursday Night Social Dancing\n\n\n\n\n\n\n\n\n\n\n\nJoin us\, every Thursday night\, at La Brasserie for a free dance lesson and social dance. \n\n\n7:30 – 8:00PM: Free Lesson \n\n\n8:00 – 9:30PM: Social Dance \n\n\nNo partner needed \n\n\n31 S. Willson Ave\, Bozeman\, MT 59715
URL:https://bozone.com/event/downbeat-swing-dancing-2/
LOCATION:La Brasserie\, 31 S Willson\, Bozeman\, MT\, 59715\, United States
CATEGORIES:Classes,Miscellanea,Music
GEO:45.6785474;-111.0390433
X-APPLE-STRUCTURED-LOCATION;VALUE=URI;X-ADDRESS=La Brasserie 31 S Willson Bozeman MT 59715 United States;X-APPLE-RADIUS=500;X-TITLE=31 S Willson:geo:-111.0390433,45.6785474
END:VEVENT
BEGIN:VEVENT
DTSTART;TZID=America/Denver:20251211T200000
DTEND;TZID=America/Denver:20251211T200000
DTSTAMP:20260425T215322
CREATED:20251126T213359Z
LAST-MODIFIED:20251126T213528Z
UID:302679-1765483200-1765483200@bozone.com
SUMMARY:Open Mic
DESCRIPTION:11th- Open Mic
URL:https://bozone.com/event/11th-open-mic/
LOCATION:Bozeman Taproom\, MT\, United States
CATEGORIES:Music
GEO:45.6805431;-111.0325509
END:VEVENT
BEGIN:VEVENT
DTSTART;TZID=America/Denver:20251211T200000
DTEND;TZID=America/Denver:20251211T200000
DTSTAMP:20260425T215322
CREATED:20251126T215443Z
LAST-MODIFIED:20251126T215443Z
UID:302698-1765483200-1765483200@bozone.com
SUMMARY:Kyle Brenner
DESCRIPTION:11 Kyle Brenner
URL:https://bozone.com/event/kyle-brenner-5/
LOCATION:Old Saloon – Emigrant\, 210 Railroad Lane\, Emigrant\, MT\, 59027\, United States
CATEGORIES:Music
GEO:45.369298;-110.734056
X-APPLE-STRUCTURED-LOCATION;VALUE=URI;X-ADDRESS=Old Saloon – Emigrant 210 Railroad Lane Emigrant MT 59027 United States;X-APPLE-RADIUS=500;X-TITLE=210 Railroad Lane:geo:-110.734056,45.369298
END:VEVENT
BEGIN:VEVENT
DTSTART;TZID=America/Denver:20251211T210000
DTEND;TZID=America/Denver:20251211T210000
DTSTAMP:20260425T215322
CREATED:20250927T030944Z
LAST-MODIFIED:20251127T203337Z
UID:298104-1765486800-1765486800@bozone.com
SUMMARY:Eagles Karaoke
DESCRIPTION:
URL:https://bozone.com/event/karaoke-4/
LOCATION:Eagles Bar\, 316 E Main Street\, Bozeman\, MT\, 59715\, United States
CATEGORIES:Music
GEO:45.6790336;-111.0324891
X-APPLE-STRUCTURED-LOCATION;VALUE=URI;X-ADDRESS=Eagles Bar 316 E Main Street Bozeman MT 59715 United States;X-APPLE-RADIUS=500;X-TITLE=316 E Main Street:geo:-111.0324891,45.6790336
END:VEVENT
BEGIN:VEVENT
DTSTART;TZID=America/Denver:20251211T210000
DTEND;TZID=America/Denver:20251211T210000
DTSTAMP:20260425T215322
CREATED:20251126T032727Z
LAST-MODIFIED:20251126T032727Z
UID:302458-1765486800-1765486800@bozone.com
SUMMARY:Joe Bozeman
DESCRIPTION:12/11 Joe Bozeman
URL:https://bozone.com/event/joe-bozeman-5/
LOCATION:The Filling Station\, 2005 N. Rouse Avenue\, Bozeman\, United States
CATEGORIES:Music
GEO:45.6988202;-111.0319631
X-APPLE-STRUCTURED-LOCATION;VALUE=URI;X-ADDRESS=The Filling Station 2005 N. Rouse Avenue Bozeman United States;X-APPLE-RADIUS=500;X-TITLE=2005 N. Rouse Avenue:geo:-111.0319631,45.6988202
END:VEVENT
BEGIN:VEVENT
DTSTART;TZID=America/Denver:20251211T210000
DTEND;TZID=America/Denver:20251211T210000
DTSTAMP:20260425T215322
CREATED:20251126T034353Z
LAST-MODIFIED:20251126T034353Z
UID:302487-1765486800-1765486800@bozone.com
SUMMARY:Acoustic Dilly
DESCRIPTION:12/11 Acoustic Dilly
URL:https://bozone.com/event/acoustic-dilly/
LOCATION:Haufbrau\, 22 S 8th Avenue\, Bozeman\, United States
CATEGORIES:Music
GEO:45.6786147;-111.047506
X-APPLE-STRUCTURED-LOCATION;VALUE=URI;X-ADDRESS=Haufbrau 22 S 8th Avenue Bozeman United States;X-APPLE-RADIUS=500;X-TITLE=22 S 8th Avenue:geo:-111.047506,45.6786147
END:VEVENT
BEGIN:VEVENT
DTSTART;TZID=America/Denver:20251211T213000
DTEND;TZID=America/Denver:20251211T213000
DTSTAMP:20260425T215322
CREATED:20250827T022445Z
LAST-MODIFIED:20251028T234418Z
UID:296752-1765488600-1765488600@bozone.com
SUMMARY:American Thursday Karaoke
DESCRIPTION:
URL:https://bozone.com/event/american-thursday-karaoke/
LOCATION:American Legion – Bozeman\, 225 E Main St.\, Bozeman\, MT\, 59715\, United States
CATEGORIES:Music
GEO:45.6796356;-111.0334576
X-APPLE-STRUCTURED-LOCATION;VALUE=URI;X-ADDRESS=American Legion – Bozeman 225 E Main St. Bozeman MT 59715 United States;X-APPLE-RADIUS=500;X-TITLE=225 E Main St.:geo:-111.0334576,45.6796356
END:VEVENT
END:VCALENDAR