BEGIN:VCALENDAR
VERSION:2.0
PRODID:-//The BoZone - ECPv5.12.0//NONSGML v1.0//EN
CALSCALE:GREGORIAN
METHOD:PUBLISH
X-WR-CALNAME:The BoZone
X-ORIGINAL-URL:https://bozone.com
X-WR-CALDESC:Events for The BoZone
BEGIN:VTIMEZONE
TZID:America/Denver
BEGIN:DAYLIGHT
TZOFFSETFROM:-0700
TZOFFSETTO:-0600
TZNAME:MDT
DTSTART:20250309T090000
END:DAYLIGHT
BEGIN:STANDARD
TZOFFSETFROM:-0600
TZOFFSETTO:-0700
TZNAME:MST
DTSTART:20251102T080000
END:STANDARD
END:VTIMEZONE
BEGIN:VEVENT
DTSTART;TZID=America/Denver:20250411T180000
DTEND;TZID=America/Denver:20250411T180000
DTSTAMP:20260422T191029
CREATED:20250110T150809Z
LAST-MODIFIED:20250110T150809Z
UID:280282-1744394400-1744394400@bozone.com
SUMMARY:Brendan Nolan
DESCRIPTION:Solo acoustic blues and classic rock on six string and dobro slide guitars.
URL:https://bozone.com/event/brendan-nolan-55-2025-04-11/
LOCATION:Grand Hotel – Big Timber\, 139 McLeod Street Big Timber\, Montana 5901\, Road Trip (inside Montana)\, United States
CATEGORIES:Music
GEO:45.8344751;-109.9543243
X-APPLE-STRUCTURED-LOCATION;VALUE=URI;X-ADDRESS=Grand Hotel – Big Timber 139 McLeod Street Big Timber Montana 5901 Road Trip (inside Montana) United States;X-APPLE-RADIUS=500;X-TITLE=139 McLeod Street Big Timber\, Montana 5901:geo:-109.9543243,45.8344751
END:VEVENT
BEGIN:VEVENT
DTSTART;TZID=America/Denver:20250411T193000
DTEND;TZID=America/Denver:20250411T193000
DTSTAMP:20260422T191029
CREATED:20250308T223018Z
LAST-MODIFIED:20250308T223018Z
UID:284605-1744399800-1744399800@bozone.com
SUMMARY:Bluegrass with Soaked and Toasted
DESCRIPTION:At the Elks Lodge in Livingston\, second Friday of every month. Music starts at 7:30. Hard driving\, fast picking\, silly and fun.
URL:https://bozone.com/event/bluegrass-with-soaked-and-toasted/2025-04-11/
LOCATION:Elks Lodge – Livingston\, 130 S 2nd Street\, Livingston\, MT\, United States
CATEGORIES:Music
GEO:45.6604067;-110.5612702
X-APPLE-STRUCTURED-LOCATION;VALUE=URI;X-ADDRESS=Elks Lodge – Livingston 130 S 2nd Street Livingston MT United States;X-APPLE-RADIUS=500;X-TITLE=130 S 2nd Street:geo:-110.5612702,45.6604067
END:VEVENT
BEGIN:VEVENT
DTSTART;TZID=America/Denver:20250411T200000
DTEND;TZID=America/Denver:20250411T200000
DTSTAMP:20260422T191029
CREATED:20250128T063400Z
LAST-MODIFIED:20250128T063400Z
UID:286180-1744401600-1744401600@bozone.com
SUMMARY:Satsong
DESCRIPTION:April 10\n\n\n\n\n\n\n\n\n\n\n\n\n\n\n\n\n\n\n\n\n\n\n\n\n\n\n\n\nhttps://www.livefromthedivide.com/events/satsang-night-1
URL:https://bozone.com/event/satsong-2025-04-11/
LOCATION:LFTD – Live From The Divide @ Empire Theater: Livingston\, 102 N 2nd Street\, Livingston\, MT\, 59049\, United States
CATEGORIES:Music
GEO:45.6859207;-111.0268428
X-APPLE-STRUCTURED-LOCATION;VALUE=URI;X-ADDRESS=LFTD – Live From The Divide @ Empire Theater: Livingston 102 N 2nd Street Livingston MT 59049 United States;X-APPLE-RADIUS=500;X-TITLE=102 N 2nd Street:geo:-111.0268428,45.6859207
END:VEVENT
END:VCALENDAR