BEGIN:VCALENDAR
VERSION:2.0
PRODID:-//The BoZone - ECPv5.12.0//NONSGML v1.0//EN
CALSCALE:GREGORIAN
METHOD:PUBLISH
X-WR-CALNAME:The BoZone
X-ORIGINAL-URL:https://bozone.com
X-WR-CALDESC:Events for The BoZone
BEGIN:VTIMEZONE
TZID:America/Denver
BEGIN:DAYLIGHT
TZOFFSETFROM:-0700
TZOFFSETTO:-0600
TZNAME:MDT
DTSTART:20240310T090000
END:DAYLIGHT
BEGIN:STANDARD
TZOFFSETFROM:-0600
TZOFFSETTO:-0700
TZNAME:MST
DTSTART:20241103T080000
END:STANDARD
END:VTIMEZONE
BEGIN:VEVENT
DTSTART;TZID=America/Denver:20241002T180000
DTEND;TZID=America/Denver:20241002T200000
DTSTAMP:20260425T123846
CREATED:20240625T142546Z
LAST-MODIFIED:20240625T142546Z
UID:268759-1727892000-1727899200@bozone.com
SUMMARY:The 49er Family Karaoke
DESCRIPTION:Wednesdays  6pm – 8pm\n49er Diner\, Bar & Casino\, 404 E Park St\, Livingston\, MT 59047\, USA (map)\n\nFamily fun every Wednesday night.  \nBring the kids along to sing!\nMore info 406-222-8204
URL:https://bozone.com/event/the-49er-family-karaoke-2024-10-02/
LOCATION:49Er Diner – Livingston\, 404 E Park\, Livingston\, MT\, 59047\, United States
CATEGORIES:Miscellanea,Music
GEO:45.664146;-110.557182
X-APPLE-STRUCTURED-LOCATION;VALUE=URI;X-ADDRESS=49Er Diner – Livingston 404 E Park Livingston MT 59047 United States;X-APPLE-RADIUS=500;X-TITLE=404 E Park:geo:-110.557182,45.664146
END:VEVENT
BEGIN:VEVENT
DTSTART;TZID=America/Denver:20241002T200000
DTEND;TZID=America/Denver:20241002T170000
DTSTAMP:20260425T123847
CREATED:20240928T211144Z
LAST-MODIFIED:20240928T211144Z
UID:271342-1727899200-1727888400@bozone.com
SUMMARY:The Local Honeys
DESCRIPTION:https://www.livefromthedivide.com/events/the-local-honeys-early-show\nhttps://www.livefromthedivide.com/events/the-local-honeys-late-show
URL:https://bozone.com/event/the-local-honeys-2024-10-02/
LOCATION:LFTD – Live From The Divide @ Empire Theater: Livingston\, 102 N 2nd Street\, Livingston\, MT\, 59049\, United States
CATEGORIES:Music
GEO:45.6859207;-111.0268428
X-APPLE-STRUCTURED-LOCATION;VALUE=URI;X-ADDRESS=LFTD – Live From The Divide @ Empire Theater: Livingston 102 N 2nd Street Livingston MT 59049 United States;X-APPLE-RADIUS=500;X-TITLE=102 N 2nd Street:geo:-111.0268428,45.6859207
END:VEVENT
END:VCALENDAR