BEGIN:VCALENDAR
VERSION:2.0
PRODID:-//The BoZone - ECPv5.12.0//NONSGML v1.0//EN
CALSCALE:GREGORIAN
METHOD:PUBLISH
X-WR-CALNAME:The BoZone
X-ORIGINAL-URL:https://bozone.com
X-WR-CALDESC:Events for The BoZone
BEGIN:VTIMEZONE
TZID:America/Denver
BEGIN:DAYLIGHT
TZOFFSETFROM:-0700
TZOFFSETTO:-0600
TZNAME:MDT
DTSTART:20240310T090000
END:DAYLIGHT
BEGIN:STANDARD
TZOFFSETFROM:-0600
TZOFFSETTO:-0700
TZNAME:MST
DTSTART:20241103T080000
END:STANDARD
END:VTIMEZONE
BEGIN:VEVENT
DTSTART;TZID=America/Denver:20240816T183000
DTEND;TZID=America/Denver:20240816T203000
DTSTAMP:20260420T122233
CREATED:20240623T210009Z
LAST-MODIFIED:20240623T210009Z
UID:264727-1723833000-1723840200@bozone.com
SUMMARY:Celtic Music Fridays
DESCRIPTION:
URL:https://bozone.com/event/celtic-music-fridays-2024-08-16/
LOCATION:MT\, United States
CATEGORIES:Music
END:VEVENT
END:VCALENDAR