BEGIN:VCALENDAR
VERSION:2.0
PRODID:-//The BoZone - ECPv5.12.0//NONSGML v1.0//EN
CALSCALE:GREGORIAN
METHOD:PUBLISH
X-WR-CALNAME:The BoZone
X-ORIGINAL-URL:https://bozone.com
X-WR-CALDESC:Events for The BoZone
BEGIN:VTIMEZONE
TZID:America/Denver
BEGIN:DAYLIGHT
TZOFFSETFROM:-0700
TZOFFSETTO:-0600
TZNAME:MDT
DTSTART:20240310T090000
END:DAYLIGHT
BEGIN:STANDARD
TZOFFSETFROM:-0600
TZOFFSETTO:-0700
TZNAME:MST
DTSTART:20241103T080000
END:STANDARD
END:VTIMEZONE
BEGIN:VEVENT
DTSTART;TZID=America/Denver:20240731T113000
DTEND;TZID=America/Denver:20240731T133000
DTSTAMP:20260422T230647
CREATED:20240518T162556Z
LAST-MODIFIED:20240629T153450Z
UID:261887-1722425400-1722432600@bozone.com
SUMMARY:Lunch On The Lawn
DESCRIPTION:Live Music Lineup: \n\n\nJuly 10: Emma and the Ledge (Lunch on the Lawn)\nand Plurb (Open Mic Night) \nJuly 17: West Dakota Stutter (Lunch on the Lawn)\nand Group Hug (Open Mic Night) \nJuly 24: Estelle and the North Black Band (Lunch on the Lawn)\nand Trio Grand (Open Mic Night) \nJuly 31: Little Jane & the Pistol Whips (Lunch on the Lawn)\nand STiLGONE (Open Mic Night) \n  \nWEDNESDAYS\n11:30 AM – 1:30 PM\nJULY 10-31\nA highly anticipated summertime tradition\, this popular community event features live music\, local food vendors\, and activities for the kids. Take a break from the workday\, soak up the sun\, grab a bite to eat\, listen to some fabulous tunes\, and watch the kids dance and play. \nLunch On The Lawn is free and open to the community. Bring the whole family\, your blankets and lawn chairs\, and join us for some summer fun while sharing in one of the amazing events that makes Bozeman such an extraordinary community.
URL:https://bozone.com/event/lunch-on-the-lawn-2024-07-31/
LOCATION:Emerson Center Lawn\, 111 S Grand Ave\, Bozeman\, 59715
CATEGORIES:Music
GEO:45.6778137;-111.0406994
X-APPLE-STRUCTURED-LOCATION;VALUE=URI;X-ADDRESS=Emerson Center Lawn 111 S Grand Ave Bozeman 59715;X-APPLE-RADIUS=500;X-TITLE=111 S Grand Ave:geo:-111.0406994,45.6778137
END:VEVENT
BEGIN:VEVENT
DTSTART;TZID=America/Denver:20240731T160000
DTEND;TZID=America/Denver:20240731T190000
DTSTAMP:20260422T230648
CREATED:20240428T195855Z
LAST-MODIFIED:20240428T195855Z
UID:261106-1722441600-1722452400@bozone.com
SUMMARY:Manhattan Farmers Market
DESCRIPTION:As of January 1st\, 2020\, the Gallatin Conservation District officially took over the Manhattan Farmers Market management. Gallatin Conservation District staff joined the market as vendors in 2018 and 2019 to promote the district’s landowner resources and educational opportunities and to provide fun\, environmentally-focused activities for anyone who stops by. We are incredibly grateful to Pat Figgins for her 15 years of dedication to the Manhattan Farmers Market and we are looking forward to upholding her legacy with her guidance. \nDonate to the Manhattan Farmers Market fund \n2024 Market                                     Interested in vending?\nDates: Wednesdays\, June 12- Sept 11                                                 Vendor Guidelines \nHours: 4 – 7 pm                                                                                       Reserved/Non-Reserved Vendor Form \nLocation: Railroad Park\, Manhattan MT                                          Questions? Call 406-282-4350 or email \n(W Main & S Broadway)                                                                          manhattanfarmersmarket1@gmail.com
URL:https://bozone.com/event/manhattan-farmers-market-2024-07-31/
LOCATION:Railroad Park – Manhattan\, Frontage Rd\, Manhattan\, MT\, 59741\, United States
CATEGORIES:Miscellanea,Music
GEO:45.8600615;-111.3397717
X-APPLE-STRUCTURED-LOCATION;VALUE=URI;X-ADDRESS=Railroad Park – Manhattan Frontage Rd Manhattan MT 59741 United States;X-APPLE-RADIUS=500;X-TITLE=Frontage Rd:geo:-111.3397717,45.8600615
END:VEVENT
BEGIN:VEVENT
DTSTART;TZID=America/Denver:20240731T163000
DTEND;TZID=America/Denver:20240731T193000
DTSTAMP:20260422T230648
CREATED:20240422T013915Z
LAST-MODIFIED:20240625T211249Z
UID:259822-1722443400-1722454200@bozone.com
SUMMARY:Livingston Farmers' Market
DESCRIPTION:6/26 GIVE-A-HOOT | The Cross Pollinators \n7/3 Kristin Janis from Savvy the Band \n7/10 Wes Urbaniak and the Mountain Folk \n7/17 Cayden Leonard Memorial Bike Rodeo | Cleo Toll \n7/24 HEALTHY SOILS DAY | Doc Tari \n7/31 Cindy Hicks and Highway 89 \n8/7 ART AT THE MARKET (National Farmers Market Week) | Tamela \n8/15 EAT LOCAL DAY |  \n8/21 The Teccas \n8/28 COMMUNITY HEALTH DAY | The Trebl Makers \n9/4 COMMUNITY HEALTH DAY | The Trebl Makers \n9/11 All By My Lonesome \n9/18. LAST MARKET |
URL:https://bozone.com/event/livingston-farmers-market-2024-07-31/
LOCATION:Miles Band Shell Park – Livingston\, 229 River Drive\, Livingston\, MT\, 59047\, United States
CATEGORIES:Miscellanea,Music
GEO:45.6549619;-110.5562166
X-APPLE-STRUCTURED-LOCATION;VALUE=URI;X-ADDRESS=Miles Band Shell Park – Livingston 229 River Drive Livingston MT 59047 United States;X-APPLE-RADIUS=500;X-TITLE=229 River Drive:geo:-110.5562166,45.6549619
END:VEVENT
BEGIN:VEVENT
DTSTART;TZID=America/Denver:20240731T170000
DTEND;TZID=America/Denver:20240731T200000
DTSTAMP:20260422T230648
CREATED:20240518T162846Z
LAST-MODIFIED:20240629T153729Z
UID:261891-1722445200-1722456000@bozone.com
SUMMARY:Community Open Mic Night
DESCRIPTION:Live Music Lineup: \n\n\nJuly 10: Emma and the Ledge (Lunch on the Lawn)\nand Plurb (Open Mic Night) \nJuly 17: West Dakota Stutter (Lunch on the Lawn)\nand Group Hug (Open Mic Night) \nJuly 24: Estelle and the North Black Band (Lunch on the Lawn)\nand Trio Grand (Open Mic Night) \nJuly 31: Little Jane & the Pistol Whips (Lunch on the Lawn)\nand STiLGONE (Open Mic Night) \nCOMMUNITY OPEN MIC NIGHT\nWEDNESDAYS\, JULY 10-31\n5:00 PM – 8:00 PM\nWe’re back and building on the success of last summer by bringing Bozeman\, Community Night! This incredible event will feature: an open mic night\, a headlining closing band\, delicious food vendors\, and incredible local artists. \nDo you have a talent that needs to be showcased? This is your opportunity to take center on the Emerson’s fabulous outdoor stage and show the Bozeman community what you’ve got! \nCommunity Night is free and open to the public. Join your friends and family on the Emerson lawn for 4-weeks this summer. Bring your blankets and lawn chairs\, grab a bit to eat\, pick up a gift from a local artist\, and dance the night away. \nSIGN UP FOR OPEN MIC NIGHT \nCommunity Open Mic Night
URL:https://bozone.com/event/community-open-mic-night-2024-07-31/
LOCATION:Emerson Center Lawn\, 111 S Grand Ave\, Bozeman\, 59715
CATEGORIES:Arts & Theatre,Miscellanea,Music
GEO:45.6778137;-111.0406994
X-APPLE-STRUCTURED-LOCATION;VALUE=URI;X-ADDRESS=Emerson Center Lawn 111 S Grand Ave Bozeman 59715;X-APPLE-RADIUS=500;X-TITLE=111 S Grand Ave:geo:-111.0406994,45.6778137
END:VEVENT
BEGIN:VEVENT
DTSTART;TZID=America/Denver:20240731T180000
DTEND;TZID=America/Denver:20240731T200000
DTSTAMP:20260422T230648
CREATED:20240625T142546Z
LAST-MODIFIED:20240625T142546Z
UID:272921-1722448800-1722456000@bozone.com
SUMMARY:The 49er Family Karaoke
DESCRIPTION:Wednesdays  6pm – 8pm\n49er Diner\, Bar & Casino\, 404 E Park St\, Livingston\, MT 59047\, USA (map)\n\nFamily fun every Wednesday night.  \nBring the kids along to sing!\nMore info 406-222-8204
URL:https://bozone.com/event/the-49er-family-karaoke-2024-07-31/
LOCATION:49Er Diner – Livingston\, 404 E Park\, Livingston\, MT\, 59047\, United States
CATEGORIES:Miscellanea,Music
GEO:45.664146;-110.557182
X-APPLE-STRUCTURED-LOCATION;VALUE=URI;X-ADDRESS=49Er Diner – Livingston 404 E Park Livingston MT 59047 United States;X-APPLE-RADIUS=500;X-TITLE=404 E Park:geo:-110.557182,45.664146
END:VEVENT
BEGIN:VEVENT
DTSTART;TZID=America/Denver:20240731T183000
DTEND;TZID=America/Denver:20240731T200000
DTSTAMP:20260422T230648
CREATED:20240714T224123Z
LAST-MODIFIED:20240714T224123Z
UID:266405-1722450600-1722456000@bozone.com
SUMMARY:Open Jam
DESCRIPTION:
URL:https://bozone.com/event/open-jam-2024-07-31/
LOCATION:Grey Dog Bar\, 34 N Bozeman Ave\, Bozeman\, MT\, 58715\, United States
CATEGORIES:Music
GEO:45.6800908;-111.0342181
X-APPLE-STRUCTURED-LOCATION;VALUE=URI;X-ADDRESS=Grey Dog Bar 34 N Bozeman Ave Bozeman MT 58715 United States;X-APPLE-RADIUS=500;X-TITLE=34 N Bozeman Ave:geo:-111.0342181,45.6800908
END:VEVENT
END:VCALENDAR