BEGIN:VCALENDAR
VERSION:2.0
PRODID:-//The BoZone - ECPv5.12.0//NONSGML v1.0//EN
CALSCALE:GREGORIAN
METHOD:PUBLISH
X-WR-CALNAME:The BoZone
X-ORIGINAL-URL:https://bozone.com
X-WR-CALDESC:Events for The BoZone
BEGIN:VTIMEZONE
TZID:America/Denver
BEGIN:DAYLIGHT
TZOFFSETFROM:-0700
TZOFFSETTO:-0600
TZNAME:MDT
DTSTART:20240310T090000
END:DAYLIGHT
BEGIN:STANDARD
TZOFFSETFROM:-0600
TZOFFSETTO:-0700
TZNAME:MST
DTSTART:20241103T080000
END:STANDARD
END:VTIMEZONE
BEGIN:VEVENT
DTSTART;TZID=America/Denver:20240706T090000
DTEND;TZID=America/Denver:20240706T120000
DTSTAMP:20260422T122903
CREATED:20240428T195355Z
LAST-MODIFIED:20240428T195355Z
UID:261092-1720256400-1720267200@bozone.com
SUMMARY:Gallatin Valley Farmer’s Market
DESCRIPTION:STARTING 6.15.24 – THROUGH 9.14.24\nGallatin County Fairgrounds | Haynes Pavilion\n9:00 am — 12:00 pm\n901 North Black Avenue\, Bozeman\, MT 59715 \n\n\n6.15 First Summer Market\nWe will see you all this summer for our first market of the season on Saturday\, 06.15.23 from 9 am to noon at the fairgrounds. \n07.13 & 07.20 GVFM MARKET CLOSED\nThere will be no market on Saturday July 13th or 20th due to the Big Sky Country State Fair being held at the Gallatin County Fairgrounds.
URL:https://bozone.com/event/gallatin-valley-farmers-market-2024-07-06/
LOCATION:GCF – Gallatin County Fairgrounds – GCF\, 901 N Black\, Bozeman\, United States
CATEGORIES:Miscellanea,Music
GEO:45.6885954;-111.0358461
X-APPLE-STRUCTURED-LOCATION;VALUE=URI;X-ADDRESS=GCF – Gallatin County Fairgrounds – GCF 901 N Black Bozeman United States;X-APPLE-RADIUS=500;X-TITLE=901 N Black:geo:-111.0358461,45.6885954
END:VEVENT
BEGIN:VEVENT
DTSTART;TZID=America/Denver:20240706T150000
DTEND;TZID=America/Denver:20240706T170000
DTSTAMP:20260422T122904
CREATED:20240427T215456Z
LAST-MODIFIED:20240427T215456Z
UID:260670-1720278000-1720285200@bozone.com
SUMMARY:The Rob & Loli Show
DESCRIPTION:The Rob & Loli Show
URL:https://bozone.com/event/the-rob-loli-show-2024-07-06/
LOCATION:Bale of Hay Saloon – Virginia City\, 344 W Wallace St\, Virginia City\, MT\, 59755\, United States
CATEGORIES:Music
GEO:39.3095135;-119.6499793
X-APPLE-STRUCTURED-LOCATION;VALUE=URI;X-ADDRESS=Bale of Hay Saloon – Virginia City 344 W Wallace St Virginia City MT 59755 United States;X-APPLE-RADIUS=500;X-TITLE=344 W Wallace St:geo:-119.6499793,39.3095135
END:VEVENT
BEGIN:VEVENT
DTSTART;TZID=America/Denver:20240706T210000
DTEND;TZID=America/Denver:20240706T210000
DTSTAMP:20260422T122904
CREATED:20240210T203345Z
LAST-MODIFIED:20240210T203345Z
UID:253348-1720299600-1720299600@bozone.com
SUMMARY:BrickHouse Band
DESCRIPTION:Funk & Soul
URL:https://bozone.com/event/brickhouse-band-2024-07-06/
LOCATION:Chico Hot Springs Saloon\, 163 Chico Rd\, Pray\, MT 59065\, Pray\, MT\, 59065\, United States
CATEGORIES:Music
GEO:45.3386251;-110.6922233
X-APPLE-STRUCTURED-LOCATION;VALUE=URI;X-ADDRESS=Chico Hot Springs Saloon 163 Chico Rd Pray MT 59065 Pray MT 59065 United States;X-APPLE-RADIUS=500;X-TITLE=163 Chico Rd\, Pray\, MT 59065:geo:-110.6922233,45.3386251
END:VEVENT
BEGIN:VEVENT
DTSTART;TZID=America/Denver:20240706T210000
DTEND;TZID=America/Denver:20240706T210000
DTSTAMP:20260422T122904
CREATED:20240626T022038Z
LAST-MODIFIED:20240626T022038Z
UID:265456-1720299600-1720299600@bozone.com
SUMMARY:Jukebox
DESCRIPTION:5/6- jukebox
URL:https://bozone.com/event/jukebox-2024-07-06/
LOCATION:Eagles Bar\, 316 E Main Street\, Bozeman\, MT\, 59715\, United States
CATEGORIES:Music
GEO:45.6790336;-111.0324891
X-APPLE-STRUCTURED-LOCATION;VALUE=URI;X-ADDRESS=Eagles Bar 316 E Main Street Bozeman MT 59715 United States;X-APPLE-RADIUS=500;X-TITLE=316 E Main Street:geo:-111.0324891,45.6790336
END:VEVENT
END:VCALENDAR