BEGIN:VCALENDAR
VERSION:2.0
PRODID:-//The BoZone - ECPv5.12.0//NONSGML v1.0//EN
CALSCALE:GREGORIAN
METHOD:PUBLISH
X-WR-CALNAME:The BoZone
X-ORIGINAL-URL:https://bozone.com
X-WR-CALDESC:Events for The BoZone
BEGIN:VTIMEZONE
TZID:America/Denver
BEGIN:DAYLIGHT
TZOFFSETFROM:-0700
TZOFFSETTO:-0600
TZNAME:MDT
DTSTART:20240310T090000
END:DAYLIGHT
BEGIN:STANDARD
TZOFFSETFROM:-0600
TZOFFSETTO:-0700
TZNAME:MST
DTSTART:20241103T080000
END:STANDARD
END:VTIMEZONE
BEGIN:VEVENT
DTSTART;TZID=America/Denver:20240704T160000
DTEND;TZID=America/Denver:20240704T200000
DTSTAMP:20260423T052856
CREATED:20240625T194119Z
LAST-MODIFIED:20240625T194119Z
UID:265272-1720108800-1720123200@bozone.com
SUMMARY:Follow Yer' Nose Blown-In BBQ
DESCRIPTION:FOLLOW YER’ NOSE BBQBLOWN-IN BBQ SERIES!\n\n\nJoin us this summer for BBQ!!! \n​ \nLOCATED AT TRACKSIDE BEER & WINE BAR (212 W PARK ST.) \n​ \nJune 27 (Thursday) \nJuly 26 (Friday) \nAugust 30 (Friday) \nSeptember 27 (Friday)
URL:https://bozone.com/event/follow-yer-nose-blown-in-bbq-2024-07-04/
LOCATION:Trackside Beer & Wine Bar – Livingston\, 212 West Park Street\, Livingston\, MT\, 59047\, United States
CATEGORIES:Miscellanea,Music
GEO:45.6617668;-110.563065
X-APPLE-STRUCTURED-LOCATION;VALUE=URI;X-ADDRESS=Trackside Beer & Wine Bar – Livingston 212 West Park Street Livingston MT 59047 United States;X-APPLE-RADIUS=500;X-TITLE=212 West Park Street:geo:-110.563065,45.6617668
END:VEVENT
BEGIN:VEVENT
DTSTART;TZID=America/Denver:20240704T180000
DTEND;TZID=America/Denver:20240704T200000
DTSTAMP:20260423T052856
CREATED:20240427T221851Z
LAST-MODIFIED:20240427T221851Z
UID:260701-1720116000-1720123200@bozone.com
SUMMARY:Montana Exit
DESCRIPTION:Montana Exit\n\nMadison County’s own Montana Exit!
URL:https://bozone.com/event/montana-exit-2024-07-04/
LOCATION:Bale of Hay Saloon – Virginia City\, 344 W Wallace St\, Virginia City\, MT\, 59755\, United States
CATEGORIES:Music
GEO:39.3095135;-119.6499793
X-APPLE-STRUCTURED-LOCATION;VALUE=URI;X-ADDRESS=Bale of Hay Saloon – Virginia City 344 W Wallace St Virginia City MT 59755 United States;X-APPLE-RADIUS=500;X-TITLE=344 W Wallace St:geo:-119.6499793,39.3095135
END:VEVENT
BEGIN:VEVENT
DTSTART;TZID=America/Denver:20240704T183000
DTEND;TZID=America/Denver:20240704T203000
DTSTAMP:20260423T052857
CREATED:20240530T020900Z
LAST-MODIFIED:20240530T020900Z
UID:263391-1720117800-1720125000@bozone.com
SUMMARY:Weston Lewis
DESCRIPTION:Weston Lewis\nThursday\, June 20⋅6:30 – 8:30pm\nMonthly on the third Thursday\n\n07/04/2024
URL:https://bozone.com/event/weston-lewis-2-2024-07-04/
LOCATION:Red Tractor Pizza\, 1007 W Main St\, Bozeman\, MT\, 59715\, United States
CATEGORIES:Music
GEO:45.6796038;-111.0507294
X-APPLE-STRUCTURED-LOCATION;VALUE=URI;X-ADDRESS=Red Tractor Pizza 1007 W Main St Bozeman MT 59715 United States;X-APPLE-RADIUS=500;X-TITLE=1007 W Main St:geo:-111.0507294,45.6796038
END:VEVENT
BEGIN:VEVENT
DTSTART;TZID=America/Denver:20240704T190000
DTEND;TZID=America/Denver:20240704T190000
DTSTAMP:20260423T052857
CREATED:20240428T023120Z
LAST-MODIFIED:20240512T232505Z
UID:260825-1720119600-1720119600@bozone.com
SUMMARY:Valley View Rodeo
DESCRIPTION:Montana’s Newest Weekly Rodeo Series in Bozeman\, Montana\, provides an open rodeo platform for amateurs and pros alike. Experience the thrill of the Wild West as cowboys and cowgirls showcase their skills in gripping competitions. From bull riding to barrel racing\, Valley View Rodeo promises an unforgettable and authentic experience of Montana’s rich rodeo heritage and the cowboy way of life. \n2024 SCHEDULE \nJUNE: 6\, 13\, 20\, 21\, 27 \nJULY: 4*\, 25\, 26 \nAUGUST: 1\, 15\, 22\, 23\, 29* \nSHORT-GO FINALS: AUGUST 30* \n*Stick around for live entertainment from 9:00 PM – 11:00 PM following the rodeo July 4th\, August 29th\, and August 30th! \n  \nPERFORMANCE TIMES \n(OPEN RODEO/NO LIVE ENTERTAINMENT AFTER RODEO) \nJUNE 6\, 13\, 27; JULY 4; AUGUST 1\, 15\, 29\,30 \nGATES OPEN: 3:30 PM \nSLACK: 4:00 PM \nPERFORMANCE: 7:00 PM – 9:00 PM \n\nPERFORMANCE TIMES \n(OPEN RODEO/WITH LIVE ENTERTAINMENT AFTER RODEO) \nJULY 4; AUGUST 29\, 30 \nGATES OPEN: 3:30 PM \nSLACK: 4:00 PM \nPERFORMANCE: 7:00 PM – 9:00 PM \nLIVE ENTERTAINMENT: 9:00 PM – 11:00 PM \n\nJUNE NRA PERFORMANCE TIMES \nJune 20th: \n5:30 PM Gates Open \n7:00 PM-9:00 PM Rodeo Performance \nNO SLACK \n\nJune 21st: \n10:30 AM Gates Open \n11:00 AM Slack Starts \n7:00 PM-9:00 PM Rodeo Performance \n\nJULY NRA PERFORMANCE TIMES \nJuly 25th \n10:30 AM Gates Open \n11:00 AM Slack Starts \n7:00 PM-9:00 PM Rodeo Performance \n\nJuly 26th \n5:30 PM Gates Open \n7:00 PM-9:00 PM Rodeo Performance \nNO SLACK \n\nAUGUST NRA PERFORMANCE TIMES \nAugust 22nd: \n5:30 PM Gates Open \n7:00 PM-9:00 PM Rodeo Performance \nNO SLACK \nAugust 23rd: \n10:30 AM Gates Open \n11:00 AM Slack Starts \n7:00 PM-9:00 PM Rodeo Performance \n\nFood and a full bar are available onsite. Food trucks change weekly. \nFor additional information and to purchase tickets\, visit ValleyViewRodeo.com.
URL:https://bozone.com/event/valley-view-rodeo-2024-07-04/
LOCATION:GCF – Gallatin County Fairgrounds – GCF\, 901 N Black\, Bozeman\, United States
CATEGORIES:Miscellanea,Music,Sporting Events
GEO:45.6885954;-111.0358461
X-APPLE-STRUCTURED-LOCATION;VALUE=URI;X-ADDRESS=GCF – Gallatin County Fairgrounds – GCF 901 N Black Bozeman United States;X-APPLE-RADIUS=500;X-TITLE=901 N Black:geo:-111.0358461,45.6885954
END:VEVENT
BEGIN:VEVENT
DTSTART;TZID=America/Denver:20240704T190000
DTEND;TZID=America/Denver:20240704T190000
DTSTAMP:20260423T052857
CREATED:20240428T163132Z
LAST-MODIFIED:20240428T163132Z
UID:264414-1720119600-1720119600@bozone.com
SUMMARY:Vintage Swing Dancing
DESCRIPTION:  \nVintage Swing Dancing \nVintage Swing Social Join the Downbeat Vintage Swing Society for our weekly vintage swing social\, now at La Brasserie! We host an introductory swing lesson every week to get you on the dance floor\, followed by a social to dance and drink Blend’s awesome wine. \n 
URL:https://bozone.com/event/vintage-swing-dancing-2024-07-04/
LOCATION:La Brasserie\, 31 S Willson\, Bozeman\, MT\, 59715\, United States
CATEGORIES:Classes,Miscellanea,Music
GEO:45.6785474;-111.0390433
X-APPLE-STRUCTURED-LOCATION;VALUE=URI;X-ADDRESS=La Brasserie 31 S Willson Bozeman MT 59715 United States;X-APPLE-RADIUS=500;X-TITLE=31 S Willson:geo:-111.0390433,45.6785474
END:VEVENT
BEGIN:VEVENT
DTSTART;TZID=America/Denver:20240704T193000
DTEND;TZID=America/Denver:20240704T193000
DTSTAMP:20260423T052857
CREATED:20240529T005522Z
LAST-MODIFIED:20240529T005522Z
UID:263008-1720121400-1720121400@bozone.com
SUMMARY:Vintage Dance at Blend
DESCRIPTION:Thursdays\n\n7:30pm \n Vintage Dance at Blend\n\n\n\nBlend A Bozeman Winery\, 31 S Willson Ave\, Bozeman\, MT 59715\, \n\nBeginner-friendly swing lesson at 7:30pm – no partner or experience needed\nOpen social dancing 8:00pm-close\nFREE!
URL:https://bozone.com/event/vintage-dance-at-blend-2024-07-04/
LOCATION:La Brasserie\, 31 S Willson\, Bozeman\, MT\, 59715\, United States
CATEGORIES:Classes,Music
GEO:45.6785474;-111.0390433
X-APPLE-STRUCTURED-LOCATION;VALUE=URI;X-ADDRESS=La Brasserie 31 S Willson Bozeman MT 59715 United States;X-APPLE-RADIUS=500;X-TITLE=31 S Willson:geo:-111.0390433,45.6785474
END:VEVENT
BEGIN:VEVENT
DTSTART;TZID=America/Denver:20240704T200000
DTEND;TZID=America/Denver:20240704T200000
DTSTAMP:20260423T052857
CREATED:20240613T204107Z
LAST-MODIFIED:20240613T204107Z
UID:264192-1720123200-1720123200@bozone.com
SUMMARY:Livingston RoundUp Rodeo - SOLD OUT -
DESCRIPTION:https://livingstonroundup.com/ \n  \nThe Livingston Roundup Rodeo has been a popular local event in this area since 1924. We host the best PRCA rodeo contestants and audience members from around the United States and Canada. Our locals love to attend the rodeo and we appreciate their support of the Livingston Roundup Rodeo.
URL:https://bozone.com/event/livingston-roundup-rodeo-2024-07-04/
LOCATION:Park County Fairgrounds – Livingston\, 46 View Vista\, Livingston\, United States
CATEGORIES:Arts & Theatre,Miscellanea,Music,Sporting Events
GEO:37.3807304;-120.7233796
X-APPLE-STRUCTURED-LOCATION;VALUE=URI;X-ADDRESS=Park County Fairgrounds – Livingston 46 View Vista Livingston United States;X-APPLE-RADIUS=500;X-TITLE=46 View Vista:geo:-120.7233796,37.3807304
END:VEVENT
END:VCALENDAR