BEGIN:VCALENDAR
VERSION:2.0
PRODID:-//The BoZone - ECPv5.12.0//NONSGML v1.0//EN
CALSCALE:GREGORIAN
METHOD:PUBLISH
X-WR-CALNAME:The BoZone
X-ORIGINAL-URL:https://bozone.com
X-WR-CALDESC:Events for The BoZone
BEGIN:VTIMEZONE
TZID:America/Denver
BEGIN:DAYLIGHT
TZOFFSETFROM:-0700
TZOFFSETTO:-0600
TZNAME:MDT
DTSTART:20240310T090000
END:DAYLIGHT
BEGIN:STANDARD
TZOFFSETFROM:-0600
TZOFFSETTO:-0700
TZNAME:MST
DTSTART:20241103T080000
END:STANDARD
END:VTIMEZONE
BEGIN:VEVENT
DTSTART;TZID=America/Denver:20240703T160000
DTEND;TZID=America/Denver:20240703T190000
DTSTAMP:20260423T071422
CREATED:20240428T195855Z
LAST-MODIFIED:20240428T195855Z
UID:261102-1720022400-1720033200@bozone.com
SUMMARY:Manhattan Farmers Market
DESCRIPTION:As of January 1st\, 2020\, the Gallatin Conservation District officially took over the Manhattan Farmers Market management. Gallatin Conservation District staff joined the market as vendors in 2018 and 2019 to promote the district’s landowner resources and educational opportunities and to provide fun\, environmentally-focused activities for anyone who stops by. We are incredibly grateful to Pat Figgins for her 15 years of dedication to the Manhattan Farmers Market and we are looking forward to upholding her legacy with her guidance. \nDonate to the Manhattan Farmers Market fund \n2024 Market                                     Interested in vending?\nDates: Wednesdays\, June 12- Sept 11                                                 Vendor Guidelines \nHours: 4 – 7 pm                                                                                       Reserved/Non-Reserved Vendor Form \nLocation: Railroad Park\, Manhattan MT                                          Questions? Call 406-282-4350 or email \n(W Main & S Broadway)                                                                          manhattanfarmersmarket1@gmail.com
URL:https://bozone.com/event/manhattan-farmers-market-2024-07-03/
LOCATION:Railroad Park – Manhattan\, Frontage Rd\, Manhattan\, MT\, 59741\, United States
CATEGORIES:Miscellanea,Music
GEO:45.8600615;-111.3397717
X-APPLE-STRUCTURED-LOCATION;VALUE=URI;X-ADDRESS=Railroad Park – Manhattan Frontage Rd Manhattan MT 59741 United States;X-APPLE-RADIUS=500;X-TITLE=Frontage Rd:geo:-111.3397717,45.8600615
END:VEVENT
BEGIN:VEVENT
DTSTART;TZID=America/Denver:20240703T163000
DTEND;TZID=America/Denver:20240703T193000
DTSTAMP:20260423T071422
CREATED:20240422T013915Z
LAST-MODIFIED:20240625T211237Z
UID:259818-1720024200-1720035000@bozone.com
SUMMARY:Livingston Farmers' Market
DESCRIPTION:6/26 GIVE-A-HOOT | The Cross Pollinators \n7/3 Kristin Janis from Savvy the Band \n7/10 Wes Urbaniak and the Mountain Folk \n7/17 Cayden Leonard Memorial Bike Rodeo | Cleo Toll \n7/24 HEALTHY SOILS DAY | Doc Tari \n7/31 Cindy Hicks and Highway 89 \n8/7 ART AT THE MARKET (National Farmers Market Week) | Tamela \n8/15 EAT LOCAL DAY |  \n8/21 The Teccas \n8/28 COMMUNITY HEALTH DAY | The Trebl Makers \n9/4 COMMUNITY HEALTH DAY | The Trebl Makers \n9/11 All By My Lonesome \n9/18. LAST MARKET |
URL:https://bozone.com/event/livingston-farmers-market-2024-07-03/
LOCATION:Miles Band Shell Park – Livingston\, 229 River Drive\, Livingston\, MT\, 59047\, United States
CATEGORIES:Miscellanea,Music
GEO:45.6549619;-110.5562166
X-APPLE-STRUCTURED-LOCATION;VALUE=URI;X-ADDRESS=Miles Band Shell Park – Livingston 229 River Drive Livingston MT 59047 United States;X-APPLE-RADIUS=500;X-TITLE=229 River Drive:geo:-110.5562166,45.6549619
END:VEVENT
BEGIN:VEVENT
DTSTART;TZID=America/Denver:20240703T200000
DTEND;TZID=America/Denver:20240703T200000
DTSTAMP:20260423T071422
CREATED:20240613T204107Z
LAST-MODIFIED:20240613T204107Z
UID:264191-1720036800-1720036800@bozone.com
SUMMARY:Livingston RoundUp Rodeo - SOLD OUT -
DESCRIPTION:https://livingstonroundup.com/ \n  \nThe Livingston Roundup Rodeo has been a popular local event in this area since 1924. We host the best PRCA rodeo contestants and audience members from around the United States and Canada. Our locals love to attend the rodeo and we appreciate their support of the Livingston Roundup Rodeo.
URL:https://bozone.com/event/livingston-roundup-rodeo-2024-07-03/
LOCATION:Park County Fairgrounds – Livingston\, 46 View Vista\, Livingston\, United States
CATEGORIES:Arts & Theatre,Miscellanea,Music,Sporting Events
GEO:37.3807304;-120.7233796
X-APPLE-STRUCTURED-LOCATION;VALUE=URI;X-ADDRESS=Park County Fairgrounds – Livingston 46 View Vista Livingston United States;X-APPLE-RADIUS=500;X-TITLE=46 View Vista:geo:-120.7233796,37.3807304
END:VEVENT
END:VCALENDAR