BEGIN:VCALENDAR
VERSION:2.0
PRODID:-//The BoZone - ECPv5.12.0//NONSGML v1.0//EN
CALSCALE:GREGORIAN
METHOD:PUBLISH
X-WR-CALNAME:The BoZone
X-ORIGINAL-URL:https://bozone.com
X-WR-CALDESC:Events for The BoZone
BEGIN:VTIMEZONE
TZID:America/Denver
BEGIN:DAYLIGHT
TZOFFSETFROM:-0700
TZOFFSETTO:-0600
TZNAME:MDT
DTSTART:20260308T090000
END:DAYLIGHT
BEGIN:STANDARD
TZOFFSETFROM:-0600
TZOFFSETTO:-0700
TZNAME:MST
DTSTART:20261101T080000
END:STANDARD
END:VTIMEZONE
BEGIN:VEVENT
DTSTART;TZID=America/Denver:20260115T173000
DTEND;TZID=America/Denver:20260115T173000
DTSTAMP:20260420T204511
CREATED:20251228T161516Z
LAST-MODIFIED:20251228T161516Z
UID:304230-1768498200-1768498200@bozone.com
SUMMARY:Film Screening of Guardians of Yellowstone: The Yellowstone Cougar Project
DESCRIPTION:GUARDIANS OF YELLOWSTONE\n\nThursday\, January 15\, 2026\n5:30 PM  7:30 PM\n\n\nThe Waypoint 50 Ousel Falls RoadBig Sky\, MT\, 59716United States (map)\n\n\n\n\n\n\n\n\n\nJoin us for a film screening of Guardians of Yellowstone: The Yellowstone Cougar Project and a panel discussion with Yellowstone’s Senior Wildlife Biologist Dan Stahler PhD\, filmmakers\, and members of the cougar team. For over 35 years\, a dedicated team of biologists has quietly shaped one of the most enduring and impactful wildlife research programs in America. Produced by the fStop Foundation in partnership with Yellowstone Forever and Yellowstone National Park\, this film reveals the hidden world of Yellowstone’s cougars – from their powerful presence to the science and people working to understand them. \n\n\n6:00pm: Pre-film reception \n\n\n7:00pm Film Screening \n\n\n8:00pm Film Panel and Q+A with the fStop Foundation Film Makers and Members of Yellowstone Cougar Project Team\, including Yellowstone National Park Lead Wildlife Biologist Dan Stahler\, PhD. \n\n\n$13 | BUY TICKETS
URL:https://bozone.com/event/film-screening-of-guardians-of-yellowstone-the-yellowstone-cougar-project/
LOCATION:The Big Sky Waypoint\, 50 Ousel Falls Road\, Big Sky\, MT\, 59716\, United States
CATEGORIES:Miscellanea,Movies
GEO:45.2600817;-111.3084077
X-APPLE-STRUCTURED-LOCATION;VALUE=URI;X-ADDRESS=The Big Sky Waypoint 50 Ousel Falls Road Big Sky MT 59716 United States;X-APPLE-RADIUS=500;X-TITLE=50 Ousel Falls Road:geo:-111.3084077,45.2600817
END:VEVENT
BEGIN:VEVENT
DTSTART;TZID=America/Denver:20260115T190000
DTEND;TZID=America/Denver:20260115T190000
DTSTAMP:20260420T204511
CREATED:20251128T014042Z
LAST-MODIFIED:20251128T014042Z
UID:302895-1768503600-1768503600@bozone.com
SUMMARY:Arc’teryx Backcountry Skiing Film Festival
DESCRIPTION:15Jan\nUpcoming \nArc’teryx Backcountry Skiing Film Festival\n\n Crawford Theater\nThursday\, 7:00 pm – 9:00 pm\n\nMontana Backcountry Alliance\, in partnership with Arc’teryx Equipment\, is thrilled to announce our 2026 film festival. Thursday\, January 15 Doors open at 6:00PM  |  Screenings…
URL:https://bozone.com/event/arcteryx-backcountry-skiing-film-festival/
LOCATION:Emerson Center for Arts and Culture\, MT\, United States
CATEGORIES:Movies
GEO:46.8796822;-110.3625658
END:VEVENT
END:VCALENDAR