BEGIN:VCALENDAR
VERSION:2.0
PRODID:-//The BoZone - ECPv5.12.0//NONSGML v1.0//EN
CALSCALE:GREGORIAN
METHOD:PUBLISH
X-WR-CALNAME:The BoZone
X-ORIGINAL-URL:https://bozone.com
X-WR-CALDESC:Events for The BoZone
BEGIN:VTIMEZONE
TZID:America/Denver
BEGIN:DAYLIGHT
TZOFFSETFROM:-0700
TZOFFSETTO:-0600
TZNAME:MDT
DTSTART:20260308T090000
END:DAYLIGHT
BEGIN:STANDARD
TZOFFSETFROM:-0600
TZOFFSETTO:-0700
TZNAME:MST
DTSTART:20261101T080000
END:STANDARD
END:VTIMEZONE
BEGIN:VEVENT
DTSTART;TZID=America/Denver:20260114T190000
DTEND;TZID=America/Denver:20260114T190000
DTSTAMP:20260420T222833
CREATED:20251220T201908Z
LAST-MODIFIED:20251220T203551Z
UID:303567-1768417200-1768417200@bozone.com
SUMMARY:BFS Film: “It Was Just an Accident”
DESCRIPTION:This January\, the Bozeman Film Society presents a collection of critically acclaimed international films that have won prestigious Cannes Film Festival Awards and are nominated for Golden Globe Awards. The Winter Film Series will be held on consecutive Wednesday’s downtown at The Rialto Theater\, with the opening film 7 PM on January 14th. Directed by Jafar Panahi\, an acclaimed dissident Iranian filmmaker\, and titled “It Was Just an Accident\,” this Palme d’Or-winning film delves into the consequences of a single\, unintended act\, presented in a restrained and deeply human narrative. Panahi’s direction offers no easy answers\, only the weight of consequence. The film is rated PG13 and is presented in Persian with subtitles. \nThe next film in the series is “Sentimental Values\,” the Cannes Grand Prix winner. Directed by Joachim Trier and starring Stellan Skarsgård\, Renate Reinsve\, and Elle Fanning\, the film follows Gustav\, an estranged father and once-celebrated director who is eager to reclaim his former glory. Gustav reconnects with his daughters\, Nora and Agnes\, and offers Nora the lead role in his new film. However\, she refuses and learns that the part has been given to a Hollywood star\, which further escalates the situation. The film screens on Wednesday\, January 21 at 7 PM. Rated R. In Norwegian\, Swedish\, and English. \nBrazilian film\, “The Secret Agent”\, follows on Wednesday\, January 28th. Starring Cannes Best Actor Wagner Moura\, and Directed by Best Director Kleber Mendonça Filho\, this world-class political thriller is precise as a razor and expansive as a novel. Dazzlingly filmed in ultra-saturated widescreen\, in 1977 Brazil\, a man is on the run from government hitmen. Hiding out under an alias in Recife\, he becomes enmeshed in a nefarious web of rampant surveillance and official corruption. 6:45 PM showtime. Rated R. In Portuguese. \nSingle tickets and Winter Series passes are available at the door and www.bozemanfilmsociety.org. Doors open 30 minutes before showtime. GA Tickets $10-$14 (plus fees). “Keep ‘em flickering!”
URL:https://bozone.com/event/film-screening-it-was-just-an-accident/
LOCATION:The Rialto\, 10 West Main street\, Bozeman\, MT\, 59715\, United States
CATEGORIES:Movies
GEO:45.6791025;-111.0375983
X-APPLE-STRUCTURED-LOCATION;VALUE=URI;X-ADDRESS=The Rialto 10 West Main street Bozeman MT 59715 United States;X-APPLE-RADIUS=500;X-TITLE=10 West Main street:geo:-111.0375983,45.6791025
END:VEVENT
END:VCALENDAR