BEGIN:VCALENDAR
VERSION:2.0
PRODID:-//The BoZone - ECPv5.12.0//NONSGML v1.0//EN
CALSCALE:GREGORIAN
METHOD:PUBLISH
X-WR-CALNAME:The BoZone
X-ORIGINAL-URL:https://bozone.com
X-WR-CALDESC:Events for The BoZone
BEGIN:VTIMEZONE
TZID:America/Denver
BEGIN:DAYLIGHT
TZOFFSETFROM:-0700
TZOFFSETTO:-0600
TZNAME:MDT
DTSTART:20250309T090000
END:DAYLIGHT
BEGIN:STANDARD
TZOFFSETFROM:-0600
TZOFFSETTO:-0700
TZNAME:MST
DTSTART:20251102T080000
END:STANDARD
END:VTIMEZONE
BEGIN:VEVENT
DTSTART;TZID=America/Denver:20251223T190000
DTEND;TZID=America/Denver:20251223T190000
DTSTAMP:20260423T030415
CREATED:20251128T213548Z
LAST-MODIFIED:20251128T213548Z
UID:303071-1766516400-1766516400@bozone.com
SUMMARY:LFS Presents THE POLAR EXPRESS
DESCRIPTION:LFS PRESENTS THE POLAR EXPRESS\n\nTuesday\, December 23\, 2025\n7:00 PM  9:00 PM\n\n\n\n\n\n\n\n\nThe Livingston Film Series is delighted to present a free screening of THE POLAR EXPRESS on 12/23 in the Dulcie Theatre at the Shane Lalani Center for the Arts in Livingston. Magic will abound\, so be sure not to miss out! \n\nTHE POLAR EXPRESS follows Billy (Hayden McFarland)\, who longs to believe in Santa Claus but finds it difficult to do so in the face of his family’s insistence that it’s all just a myth. Everything changes on Christmas Eve\, when a mysterious train visits Billy in the middle of the night\, promising to take him and a group of other children to the North Pole for a visit with Santa. The train’s conductor (Tom Hanks) and passengers help turn Billy’s crisis of faith into a journey of self-discovery.
URL:https://bozone.com/event/lfs-presents-the-polar-express/
LOCATION:Shane Lalani Center for the Arts – Livingston\, 415 E. Lewis St.\, Livingston\, MT\, 59047\, United States
CATEGORIES:Movies
GEO:45.6628503;-110.5552274
X-APPLE-STRUCTURED-LOCATION;VALUE=URI;X-ADDRESS=Shane Lalani Center for the Arts – Livingston 415 E. Lewis St. Livingston MT 59047 United States;X-APPLE-RADIUS=500;X-TITLE=415 E. Lewis St.:geo:-110.5552274,45.6628503
END:VEVENT
END:VCALENDAR