BEGIN:VCALENDAR
VERSION:2.0
PRODID:-//The BoZone - ECPv5.12.0//NONSGML v1.0//EN
CALSCALE:GREGORIAN
METHOD:PUBLISH
X-WR-CALNAME:The BoZone
X-ORIGINAL-URL:https://bozone.com
X-WR-CALDESC:Events for The BoZone
BEGIN:VTIMEZONE
TZID:America/Denver
BEGIN:DAYLIGHT
TZOFFSETFROM:-0700
TZOFFSETTO:-0600
TZNAME:MDT
DTSTART:20250309T090000
END:DAYLIGHT
BEGIN:STANDARD
TZOFFSETFROM:-0600
TZOFFSETTO:-0700
TZNAME:MST
DTSTART:20251102T080000
END:STANDARD
END:VTIMEZONE
BEGIN:VEVENT
DTSTART;TZID=America/Denver:20251218T190000
DTEND;TZID=America/Denver:20251218T190000
DTSTAMP:20260425T160733
CREATED:20250422T234450Z
LAST-MODIFIED:20251028T021213Z
UID:287921-1766084400-1766084400@bozone.com
SUMMARY:Mountainfilm Festival
DESCRIPTION:Mountainfilm Festival\nJoin us for an unforgettable evening at the Mountainfilm Festival\, where films\, people\, stories\, and ideas come together to celebrate the indomitable spirit of adventure\, courage\, and cultural connection. \nMountainfilm is renowned for showcasing films that embody core values of embracing adventure\, preserving environments\, connecting cultures\, and celebrating the courageous efforts that drive change. This year’s films promise to inspire\, challenge\, and uplift as they highlight the beauty of the natural world and the resilience of the human spirit. \nMountainfilm on Tour:\nFollowing the main festival\, Mountainfilm on Tour hits the road to bring the most inspiring short films to communities worldwide. Hosted by organizations\, outdoor retailers\, schools\, universities\, theaters\, and individuals\, Mountainfilm on Tour has been inspiring audiences since 1999\, extending the festival’s reach and impact far beyond the original event. \nDecember 18\, 2025 \nDoors open at 6 PM\, Screening begins at 7 PM \nWaypoint\, Big Sky\, MT \nFor more information on the Mountainfilm Festival and tour\, visit www.mountainfilm.org. \nDon’t miss your chance to experience this global celebration of adventure\, culture\, and courage.
URL:https://bozone.com/event/mountainfilm-festival/
LOCATION:The Big Sky Waypoint\, 50 Ousel Falls Road\, Big Sky\, MT\, 59716\, United States
CATEGORIES:Movies
GEO:45.2600817;-111.3084077
X-APPLE-STRUCTURED-LOCATION;VALUE=URI;X-ADDRESS=The Big Sky Waypoint 50 Ousel Falls Road Big Sky MT 59716 United States;X-APPLE-RADIUS=500;X-TITLE=50 Ousel Falls Road:geo:-111.3084077,45.2600817
END:VEVENT
BEGIN:VEVENT
DTSTART;TZID=America/Denver:20251218T190000
DTEND;TZID=America/Denver:20251218T190000
DTSTAMP:20260425T160733
CREATED:20251126T200648Z
LAST-MODIFIED:20251126T200648Z
UID:302634-1766084400-1766084400@bozone.com
SUMMARY:BOZ DOC Series
DESCRIPTION:Thu18\n\n\n\n\nDecember 18 @ 7:00 pm – 9:00 pm\nSeason 11 – Screening #6\nEmerson Center for the Arts and Culture 111 S. Grand Ave.\, Bozeman\, MT\, United States\n\n\nThe Bozeman Doc Series continues on Thursday\, December 18th\, at 7pm at the Emerson. Film to be announced.
URL:https://bozone.com/event/boz-doc-series/
LOCATION:Emerson Center for Arts and Culture\, MT\, United States
CATEGORIES:Movies
GEO:46.8796822;-110.3625658
END:VEVENT
END:VCALENDAR