BEGIN:VCALENDAR
VERSION:2.0
PRODID:-//The BoZone - ECPv5.12.0//NONSGML v1.0//EN
CALSCALE:GREGORIAN
METHOD:PUBLISH
X-WR-CALNAME:The BoZone
X-ORIGINAL-URL:https://bozone.com
X-WR-CALDESC:Events for The BoZone
BEGIN:VTIMEZONE
TZID:America/Denver
BEGIN:DAYLIGHT
TZOFFSETFROM:-0700
TZOFFSETTO:-0600
TZNAME:MDT
DTSTART:20250309T090000
END:DAYLIGHT
BEGIN:STANDARD
TZOFFSETFROM:-0600
TZOFFSETTO:-0700
TZNAME:MST
DTSTART:20251102T080000
END:STANDARD
END:VTIMEZONE
BEGIN:VEVENT
DTSTART;TZID=America/Denver:20250827T193000
DTEND;TZID=America/Denver:20250827T193000
DTSTAMP:20260422T200630
CREATED:20250827T035258Z
LAST-MODIFIED:20250827T035258Z
UID:296799-1756323000-1756323000@bozone.com
SUMMARY:Tinworks presents: The Librarians
DESCRIPTION:Wednesday\, August 27 at 7:30 pm\, Tinworks presents the award-winning documentary The Librarians\, which follows the story of librarians who unite to combat book banning\, defending intellectual freedom on democracy’s frontlines amid unprecedented censorship. \nThe film will be followed by a post-screening conversation with Director and Producer Kim A Snyder\, Executive Producer Alison Benson\, and Montana Library Association’s Kirk Vreisman\, moderated by Montana State Senator Cora Neumann. \nThis event is at the Rialto. Doors and cash bar at 6:30pm. Screening begins at 7:30pm. Tickets are $10 and space is limited. Reserve your spot today. \nTICKETS (https://secure.qgiv.com/for/ceven/event/thelibrarians/)\nhttps://www.tinworksart.org/events/free-movie-night-august
URL:https://bozone.com/event/tinworks-presents-the-librarians/
LOCATION:The Rialto\, 10 West Main street\, Bozeman\, MT\, 59715\, United States
CATEGORIES:Lectures,Miscellanea,Movies
GEO:45.6791025;-111.0375983
X-APPLE-STRUCTURED-LOCATION;VALUE=URI;X-ADDRESS=The Rialto 10 West Main street Bozeman MT 59715 United States;X-APPLE-RADIUS=500;X-TITLE=10 West Main street:geo:-111.0375983,45.6791025
END:VEVENT
END:VCALENDAR