BEGIN:VCALENDAR
VERSION:2.0
PRODID:-//The BoZone - ECPv5.12.0//NONSGML v1.0//EN
CALSCALE:GREGORIAN
METHOD:PUBLISH
X-WR-CALNAME:The BoZone
X-ORIGINAL-URL:https://bozone.com
X-WR-CALDESC:Events for The BoZone
BEGIN:VTIMEZONE
TZID:America/Denver
BEGIN:DAYLIGHT
TZOFFSETFROM:-0700
TZOFFSETTO:-0600
TZNAME:MDT
DTSTART:20240310T090000
END:DAYLIGHT
BEGIN:STANDARD
TZOFFSETFROM:-0600
TZOFFSETTO:-0700
TZNAME:MST
DTSTART:20241103T080000
END:STANDARD
END:VTIMEZONE
BEGIN:VEVENT
DTSTART;TZID=America/Denver:20240518T190000
DTEND;TZID=America/Denver:20240518T190000
DTSTAMP:20260421T090838
CREATED:20240421T212827Z
LAST-MODIFIED:20240421T212827Z
UID:259692-1716058800-1716058800@bozone.com
SUMMARY:Past Concerts on the Big Screen
DESCRIPTION:
URL:https://bozone.com/event/past-concerts-on-the-big-screen-2024-05-18/
LOCATION:The Big Sky Waypoint\, 50 Ousel Falls Road\, Big Sky\, MT\, 59716\, United States
CATEGORIES:Movies,Music
GEO:45.2600817;-111.3084077
X-APPLE-STRUCTURED-LOCATION;VALUE=URI;X-ADDRESS=The Big Sky Waypoint 50 Ousel Falls Road Big Sky MT 59716 United States;X-APPLE-RADIUS=500;X-TITLE=50 Ousel Falls Road:geo:-111.3084077,45.2600817
END:VEVENT
END:VCALENDAR