BEGIN:VCALENDAR
VERSION:2.0
PRODID:-//The BoZone - ECPv5.12.0//NONSGML v1.0//EN
CALSCALE:GREGORIAN
METHOD:PUBLISH
X-WR-CALNAME:The BoZone
X-ORIGINAL-URL:https://bozone.com
X-WR-CALDESC:Events for The BoZone
BEGIN:VTIMEZONE
TZID:America/Denver
BEGIN:DAYLIGHT
TZOFFSETFROM:-0700
TZOFFSETTO:-0600
TZNAME:MDT
DTSTART:20260308T090000
END:DAYLIGHT
BEGIN:STANDARD
TZOFFSETFROM:-0600
TZOFFSETTO:-0700
TZNAME:MST
DTSTART:20261101T080000
END:STANDARD
END:VTIMEZONE
BEGIN:VEVENT
DTSTART;TZID=America/Denver:20260407T080000
DTEND;TZID=America/Denver:20260407T210000
DTSTAMP:20260422T082018
CREATED:20260225T044234Z
LAST-MODIFIED:20260328T020254Z
UID:312079-1775548800-1775595600@bozone.com
SUMMARY:Rush Hour Resistance
DESCRIPTION:Rush Hour Resistance – Every Tuesday – Gallatin County Courthouse 8-9am\n\n\n\nEnjoy a heartwarming morning protest every Tuesday at the Gallatin County Courthouse with the grassroots organized Rush Hour Resistance! Meet from 8-9am with your favorite protest sign\, a flag or just come wave at the passing commuters!\n\n\n\n\n\n\n\nWHEN \n\n\n\n\n\n\n\n\n\n\n\n\nTuesdays: 8:00 am – 9:00 pm\n\n\n\n\n\n\n\n\n\n\n\n\n\n\nWHERE \n\n\n\n\n\n\n\n\n\n\n\n\nGallatin County Courthouse311 West Main Street\, Bozeman\n\n\n\n\n\n\n\n\n\n\n\n\n\n\n\n\n\n\n\n\n\n\n\n\n\nNeed a weekly rush hour pick-me-up? Join the cheery\, welcoming\, grassroots crew from Rush Hour Resistance! They meet every Tuesday morning from 8-9am in front of the Gallatin County Courthouse to greet Bozeman commuters with waves and protest signs. Grab your cuppa Joe and get a lift to start your week with a great community and positive honks from passing motorists! \nIf you would like inspiration for a protest sign\, here ya go! \n\nHold ICE Responsible For Their Murders!\nJustice for Renee Nicole Good!\nHands Off Venezuela’s Oil!\nDon’t Let ICE Target Working People!\nStop the Billionaire Takeover!\nTax the Rich!\nOur Economy Works for Everyone\, Not Just the 1%!\nPeople over Profits!\nHands Off Our Unions!\nFair Wages\, Not Billionaire Bonuses!\nFund Our Schools\, Not Their Yachts!\nHealthcare and Housing for All!\nProtect Social Security and Medicaid!\nEnd Wealth Inequality Now!\nWe are the Many\, They are the Few!\nGreed is Not Good!\nLabor is better than Billionaires\nPatriots Support Labor\nFair Wages Now!\nHonk if You Love Workers’ Rights!\nWorkers’ Rights are Human Rights!\nProfit Over People is a Failure!
URL:https://bozone.com/event/rush-hour-resistance-9/
LOCATION:Gallatin County Courthouse\, 311 W Main Street\, Bozeman\, United States
CATEGORIES:Miscellanea
GEO:45.6796561;-111.0418263
X-APPLE-STRUCTURED-LOCATION;VALUE=URI;X-ADDRESS=Gallatin County Courthouse 311 W Main Street Bozeman United States;X-APPLE-RADIUS=500;X-TITLE=311 W Main Street:geo:-111.0418263,45.6796561
END:VEVENT
BEGIN:VEVENT
DTSTART;TZID=America/Denver:20260407T090000
DTEND;TZID=America/Denver:20260407T120000
DTSTAMP:20260422T082018
CREATED:20260225T043706Z
LAST-MODIFIED:20260328T014105Z
UID:312074-1775552400-1775563200@bozone.com
SUMMARY:Gallatin County Commission Public Meeting
DESCRIPTION:Gallatin County Commission Public Meeting\n9am -12pm\nWeekly on Tuesday\nGallatin County Courthouse
URL:https://bozone.com/event/gallatin-county-commission-public-meeting-9/
LOCATION:Gallatin County Courthouse\, 311 W Main Street\, Bozeman\, United States
CATEGORIES:Miscellanea
GEO:45.6796561;-111.0418263
X-APPLE-STRUCTURED-LOCATION;VALUE=URI;X-ADDRESS=Gallatin County Courthouse 311 W Main Street Bozeman United States;X-APPLE-RADIUS=500;X-TITLE=311 W Main Street:geo:-111.0418263,45.6796561
END:VEVENT
BEGIN:VEVENT
DTSTART;TZID=America/Denver:20260407T110000
DTEND;TZID=America/Denver:20260407T120000
DTSTAMP:20260422T082019
CREATED:20260327T030726Z
LAST-MODIFIED:20260327T030726Z
UID:313926-1775559600-1775563200@bozone.com
SUMMARY:Eat to Thrive
DESCRIPTION:Eat to Thrive\nTuesday\, April 07: 11:00am – 12:00pm\n BPL – The Kitchen Table\nAge group:   Adults\nevent type:  Health & Wellness\, Creative Labs\nKaren Mitchell will lead a live cooking demo where food meets function—learn anti-inflammatory recipes and practical nutrition tips you can use every day.
URL:https://bozone.com/event/eat-to-thrive-2/
LOCATION:Bozeman Public Library\, 626 East Main Street\, Bozeman\, MT\, 59715\, United States
CATEGORIES:Miscellanea
GEO:45.6785823;-111.0270991
X-APPLE-STRUCTURED-LOCATION;VALUE=URI;X-ADDRESS=Bozeman Public Library 626 East Main Street Bozeman MT 59715 United States;X-APPLE-RADIUS=500;X-TITLE=626 East Main Street:geo:-111.0270991,45.6785823
END:VEVENT
BEGIN:VEVENT
DTSTART;TZID=America/Denver:20260407T170000
DTEND;TZID=America/Denver:20260407T183000
DTSTAMP:20260422T082019
CREATED:20260204T185050Z
LAST-MODIFIED:20260204T221641Z
UID:307979-1775581200-1775586600@bozone.com
SUMMARY:IdeaLab: CTRL+ALT+CREATE: Towering Trig!
DESCRIPTION:Join us in the IdeaLab for some hands-on high-tech crafting using the principles of computing. This week\, we’re deploying the Micro:bit plus a dash of trigonometry to measure the height of the museum building. The sky’s the limit!\nTwo sessions to choose from: Tuesday April 7 or Thursday April 9\n$25 per participant. For creative kids in grades 4 to 8. \n\nTUESDAY\, APRIL 7\, 2026\n5:00 PM 6:30 PM\nAMERICAN COMPUTER & ROBOTICS MUSEUM\n\nNOTE: This class uses a Micro:Bit microcontroller. Already have a Micro:Bit from a previous session? Great\, bring it along! Need to get one? You can purchase one for $25 at check-out or at the museum when you arrive for class.
URL:https://bozone.com/event/idealab-ctrlaltcreate-towering-trig/
LOCATION:American Computer and Robotics Museum\, 2023 Stadium Drive #1A\, Bozeman\, MT\, 59715\, United States
CATEGORIES:Classes,Miscellanea
GEO:45.6592776;-111.0549925
X-APPLE-STRUCTURED-LOCATION;VALUE=URI;X-ADDRESS=American Computer and Robotics Museum 2023 Stadium Drive #1A Bozeman MT 59715 United States;X-APPLE-RADIUS=500;X-TITLE=2023 Stadium Drive #1A:geo:-111.0549925,45.6592776
END:VEVENT
BEGIN:VEVENT
DTSTART;TZID=America/Denver:20260407T170000
DTEND;TZID=America/Denver:20260407T180000
DTSTAMP:20260422T082019
CREATED:20260224T041804Z
LAST-MODIFIED:20260224T041804Z
UID:311727-1775581200-1775584800@bozone.com
SUMMARY:Newcomer Orientation
DESCRIPTION:5:00 pm – 6:00 pm \nNewcomer Orientation
URL:https://bozone.com/event/newcomer-orientation-2/
LOCATION:Bozeman Dharma Center\, 1019 E Main\, Bozeman\, MT\, 59715\, United States
CATEGORIES:Miscellanea
GEO:45.6803554;-111.0229517
X-APPLE-STRUCTURED-LOCATION;VALUE=URI;X-ADDRESS=Bozeman Dharma Center 1019 E Main Bozeman MT 59715 United States;X-APPLE-RADIUS=500;X-TITLE=1019 E Main:geo:-111.0229517,45.6803554
END:VEVENT
BEGIN:VEVENT
DTSTART;TZID=America/Denver:20260407T170000
DTEND;TZID=America/Denver:20260407T180000
DTSTAMP:20260422T082019
CREATED:20260328T024225Z
LAST-MODIFIED:20260328T024225Z
UID:314263-1775581200-1775584800@bozone.com
SUMMARY:Turn the Page Book Club
DESCRIPTION:Turn the Page Book Club – March Selection\nDate: April 7\, 2026\nTime: 5:00 pm – 6:00 pm\nVenue: Bozeman Public Library\, Aspen Room\nLocation: 626 East Main Street\, BozemanOrganizer: Bozeman RisingCategory: Book Club\, Community Gathering\, Education\nThe Turn the Page Book Club’s March selection is Copaganda: How Police and the Media Manipulate Our News by Alec Karakatsanis. The next meeting to discuss this book will be Tuesday\, April 7th from 5-6p in the Aspen Room at the Bozeman Public Library. \nMore Info
URL:https://bozone.com/event/turn-the-page-book-club/
LOCATION:Bozeman Public Library\, 626 East Main Street\, Bozeman\, MT\, 59715\, United States
CATEGORIES:Miscellanea
GEO:45.6785823;-111.0270991
X-APPLE-STRUCTURED-LOCATION;VALUE=URI;X-ADDRESS=Bozeman Public Library 626 East Main Street Bozeman MT 59715 United States;X-APPLE-RADIUS=500;X-TITLE=626 East Main Street:geo:-111.0270991,45.6785823
END:VEVENT
BEGIN:VEVENT
DTSTART;TZID=America/Denver:20260407T173000
DTEND;TZID=America/Denver:20260407T173000
DTSTAMP:20260422T082019
CREATED:20260327T030818Z
LAST-MODIFIED:20260327T030818Z
UID:313928-1775583000-1775583000@bozone.com
SUMMARY:Nonfiction Writers Group
DESCRIPTION:Nonfiction Writers Group\nTuesday\, April 07: 5:30pm – 7:30pm\n BPL – Ponderosa Room\nAge group:   Adults\nevent type:  Book Clubs\, Arts & Culture\nNonfiction writers meet for support and feedback.
URL:https://bozone.com/event/nonfiction-writers-group-22/
LOCATION:Bozeman Public Library\, 626 East Main Street\, Bozeman\, MT\, 59715\, United States
CATEGORIES:Miscellanea
GEO:45.6785823;-111.0270991
X-APPLE-STRUCTURED-LOCATION;VALUE=URI;X-ADDRESS=Bozeman Public Library 626 East Main Street Bozeman MT 59715 United States;X-APPLE-RADIUS=500;X-TITLE=626 East Main Street:geo:-111.0270991,45.6785823
END:VEVENT
BEGIN:VEVENT
DTSTART;TZID=America/Denver:20260407T180000
DTEND;TZID=America/Denver:20260407T180000
DTSTAMP:20260422T082019
CREATED:20250529T223445Z
LAST-MODIFIED:20260225T151751Z
UID:290771-1775584800-1775584800@bozone.com
SUMMARY:Always Trivia
DESCRIPTION:
URL:https://bozone.com/event/always-trivia-5/
LOCATION:It Will Always Be That Way Lounge\, 111 E Oak St. Suite 1B\, Bozeman\, MT\, 59715\, United States
CATEGORIES:Miscellanea
GEO:45.6930354;-111.0344248
X-APPLE-STRUCTURED-LOCATION;VALUE=URI;X-ADDRESS=It Will Always Be That Way Lounge 111 E Oak St. Suite 1B Bozeman MT 59715 United States;X-APPLE-RADIUS=500;X-TITLE=111 E Oak St. Suite 1B:geo:-111.0344248,45.6930354
END:VEVENT
BEGIN:VEVENT
DTSTART;TZID=America/Denver:20260407T180000
DTEND;TZID=America/Denver:20260407T180000
DTSTAMP:20260422T082019
CREATED:20250826T033431Z
LAST-MODIFIED:20260328T034637Z
UID:296646-1775584800-1775584800@bozone.com
SUMMARY:Colombo's Trivia
DESCRIPTION:
URL:https://bozone.com/event/colombos-trivia-8/
LOCATION:Colombo’s Pizza\, 1003 West College Street\, Bozeman\, MT\, 59715\, United States
CATEGORIES:Miscellanea
GEO:45.6715037;-111.0509269
X-APPLE-STRUCTURED-LOCATION;VALUE=URI;X-ADDRESS=Colombo’s Pizza 1003 West College Street Bozeman MT 59715 United States;X-APPLE-RADIUS=500;X-TITLE=1003 West College Street:geo:-111.0509269,45.6715037
END:VEVENT
BEGIN:VEVENT
DTSTART;TZID=America/Denver:20260407T180000
DTEND;TZID=America/Denver:20260407T180000
DTSTAMP:20260422T082019
CREATED:20250826T033927Z
LAST-MODIFIED:20260225T151613Z
UID:296652-1775584800-1775584800@bozone.com
SUMMARY:406 Trivia
DESCRIPTION:
URL:https://bozone.com/event/406-trivia-5/
LOCATION:406 Brewing Co. – Manhattan\, 324 E Main St\, Manhattan\, MT\, 59741\, United States
CATEGORIES:Miscellanea
GEO:45.6930354;-111.0344248
X-APPLE-STRUCTURED-LOCATION;VALUE=URI;X-ADDRESS=406 Brewing Co. – Manhattan 324 E Main St Manhattan MT 59741 United States;X-APPLE-RADIUS=500;X-TITLE=324 E Main St:geo:-111.0344248,45.6930354
END:VEVENT
BEGIN:VEVENT
DTSTART;TZID=America/Denver:20260407T180000
DTEND;TZID=America/Denver:20260407T180000
DTSTAMP:20260422T082019
CREATED:20250928T144233Z
LAST-MODIFIED:20260327T022002Z
UID:298496-1775584800-1775584800@bozone.com
SUMMARY:Valhalla Open Mic  
DESCRIPTION:Open Mic  \n6:00 PM – 8:00 PM\n\nValhalla Meadery\n875 Bridger Drive Unit B\nBozeman\nUnited States
URL:https://bozone.com/event/valhalla-open-mic-6/
LOCATION:Valhalla Meadery\, 875 Bridger Drive Unit B\, Bozeman\, MT\, 59715\, United States
CATEGORIES:Miscellanea,Music
GEO:45.7034876;-111.0248629
X-APPLE-STRUCTURED-LOCATION;VALUE=URI;X-ADDRESS=Valhalla Meadery 875 Bridger Drive Unit B Bozeman MT 59715 United States;X-APPLE-RADIUS=500;X-TITLE=875 Bridger Drive Unit B:geo:-111.0248629,45.7034876
END:VEVENT
BEGIN:VEVENT
DTSTART;TZID=America/Denver:20260407T180000
DTEND;TZID=America/Denver:20260407T180000
DTSTAMP:20260422T082020
CREATED:20250928T202316Z
LAST-MODIFIED:20260327T001925Z
UID:298703-1775584800-1775584800@bozone.com
SUMMARY:Bozeman Backgammon Club
DESCRIPTION:Bozeman Backgammon Club\n\nThe best player is the one having the most fun!\nGute Laune. Every Tuesday. 6-8:30ish
URL:https://bozone.com/event/bozeman-backgammon-club-13/
LOCATION:Gute Laune Wurstbar above The Rialto\, 10 WEST MAIN STREET\, Bozeman\, MT\, 59715\, United States
CATEGORIES:Miscellanea
GEO:45.6790349;-111.0376605
X-APPLE-STRUCTURED-LOCATION;VALUE=URI;X-ADDRESS=Gute Laune Wurstbar above The Rialto 10 WEST MAIN STREET Bozeman MT 59715 United States;X-APPLE-RADIUS=500;X-TITLE=10 WEST MAIN STREET:geo:-111.0376605,45.6790349
END:VEVENT
BEGIN:VEVENT
DTSTART;TZID=America/Denver:20260407T180000
DTEND;TZID=America/Denver:20260407T180000
DTSTAMP:20260422T082020
CREATED:20250929T025907Z
LAST-MODIFIED:20260328T141732Z
UID:299012-1775584800-1775584800@bozone.com
SUMMARY:Last Best Trivia!
DESCRIPTION:
URL:https://bozone.com/event/last-best-trivia-9/
LOCATION:Last Best Place Brewing Co.\, 605 N. 7th Ave\, Bozeman\, MT\, 59715\, United States
CATEGORIES:Miscellanea
GEO:45.6857672;-111.0466208
X-APPLE-STRUCTURED-LOCATION;VALUE=URI;X-ADDRESS=Last Best Place Brewing Co. 605 N. 7th Ave Bozeman MT 59715 United States;X-APPLE-RADIUS=500;X-TITLE=605 N. 7th Ave:geo:-111.0466208,45.6857672
END:VEVENT
BEGIN:VEVENT
DTSTART;TZID=America/Denver:20260407T180000
DTEND;TZID=America/Denver:20260407T180000
DTSTAMP:20260422T082020
CREATED:20251229T202143Z
LAST-MODIFIED:20260328T040839Z
UID:304934-1775584800-1775584800@bozone.com
SUMMARY:Outlaw Trivia
DESCRIPTION:Outlaw Brewing\n\n\n\n2876 North 27th Ave\nBozeman\, MT 59715 \n\n\n\nshow time\nTrivia 6pm – 8pm
URL:https://bozone.com/event/outlaw-trivia-5/
LOCATION:Outlaw Brewing\, 2876 N 27th\, Bozeman\, United States
CATEGORIES:Miscellanea
GEO:45.7085494;-111.0726172
X-APPLE-STRUCTURED-LOCATION;VALUE=URI;X-ADDRESS=Outlaw Brewing 2876 N 27th Bozeman United States;X-APPLE-RADIUS=500;X-TITLE=2876 N 27th:geo:-111.0726172,45.7085494
END:VEVENT
BEGIN:VEVENT
DTSTART;TZID=America/Denver:20260407T180000
DTEND;TZID=America/Denver:20260407T180000
DTSTAMP:20260422T082020
CREATED:20260225T223644Z
LAST-MODIFIED:20260328T140202Z
UID:312279-1775584800-1775584800@bozone.com
SUMMARY:KatabatBingo @ 6 & 7
DESCRIPTION:MUSIC BINGO!!!!\n\n\naEvery Tuesday through the Winter\, we’ll be hosting Music Bingo!!! \n“What is Music Bingo?”\, you ask? Well\, structured like your grandma’s Bingo\, but instead of listening to someone unenthusiastically announce a letter and number\, you hear a clip from a popular song. If you have that song on your card\, mark it off. \nAs always\, our Music Bingo is FREE TO PLAY (no cover or drink minimum) \nRounds at 6PM and 7PM\, 3 games per round (single line\, double line\, and blackout) \nWIN A GAME\, WIN A DRINK!!!!!!!!! \nThe music theme changes weekly\, so keep an eye on our Facebook Page for details!
URL:https://bozone.com/event/katabingo-15/
LOCATION:Katabatic Brewing Company – Livingston\, 117 W Park St.\, Livingston\, 59047\, United States
CATEGORIES:Miscellanea,Music
GEO:45.6618765;-110.5615964
X-APPLE-STRUCTURED-LOCATION;VALUE=URI;X-ADDRESS=Katabatic Brewing Company – Livingston 117 W Park St. Livingston 59047 United States;X-APPLE-RADIUS=500;X-TITLE=117 W Park St.:geo:-110.5615964,45.6618765
END:VEVENT
BEGIN:VEVENT
DTSTART;TZID=America/Denver:20260407T180000
DTEND;TZID=America/Denver:20260407T180000
DTSTAMP:20260422T082020
CREATED:20260323T145236Z
LAST-MODIFIED:20260323T145236Z
UID:313128-1775584800-1775584800@bozone.com
SUMMARY:Montana Conservation Voters: Congressional Candidate Forum
DESCRIPTION:Montana Conservation Voters invites members of the media to attend a Congressional Candidate Forum for Montana’s First Congressional District on Tuesday\, April 7\, at 6 p.m. at the Willson Auditorium\, 404 W Main St\, Bozeman\, MT 59715. \n  \nWho: All candidates running for MT-1 have been invited to participate in this event. As of Friday\, March 20\, the following candidates have confirmed their attendance. \n\n\nRyan Busse \n\n\nRussell Cleveland \n\n\nSam Forstag \n\n\nMatt Rains \n\n\n  \nThe candidates above have confirmed their participation\, but the invitation remains open to all candidates in the race. \n  \nWhen: 6 p.m\, Tuesday\, April 7\, 2026 \n  \nWhere: Willson Auditorium\, 404 W Main St\, Bozeman\, MT 59715 \n  \nWhy: With voters preparing to choose the next representative of Montana’s First Congressional District\, this forum offers the opportunity for Montanans to hear directly from candidates about their vision for the future of public lands\, conservation\, and democracy in the state.
URL:https://bozone.com/event/montana-conservation-voters-congressional-candidate-forum/
LOCATION:Willson Auditorium\, 404 W Main\, Bozeman\, MT\, 59715\, United States
CATEGORIES:Miscellanea
GEO:45.678736;-111.042606
X-APPLE-STRUCTURED-LOCATION;VALUE=URI;X-ADDRESS=Willson Auditorium 404 W Main Bozeman MT 59715 United States;X-APPLE-RADIUS=500;X-TITLE=404 W Main:geo:-111.042606,45.678736
END:VEVENT
BEGIN:VEVENT
DTSTART;TZID=America/Denver:20260407T180000
DTEND;TZID=America/Denver:20260407T180000
DTSTAMP:20260422T082020
CREATED:20260401T020302Z
LAST-MODIFIED:20260401T020550Z
UID:315548-1775584800-1775584800@bozone.com
SUMMARY:Beaver Film hosted by MT Freshwater Partners
DESCRIPTION:Beaver Week events hosted by Montana Freshwater Partners:\nApril 7th 6-8:00pm at the Shane Center-\nBeaver Film showing followed by panel discussion with local experts exploring opportunities and challenges living with beavers. \nApril 9th 12-1:00pm at Bozeman Trail Parking Lot- community beaver walk exploring a beaver complex on Fleshman Creek led by staff from MT Freshwater Partners and the National Wildlife Federation. \nEvents
URL:https://bozone.com/event/beaver-week-hosted-by-mt-freshwater-partners/
LOCATION:Shane Lalani Center for the Arts – Livingston\, 415 E. Lewis St.\, Livingston\, MT\, 59047\, United States
CATEGORIES:Miscellanea,Movies
GEO:45.6628503;-110.5552274
X-APPLE-STRUCTURED-LOCATION;VALUE=URI;X-ADDRESS=Shane Lalani Center for the Arts – Livingston 415 E. Lewis St. Livingston MT 59047 United States;X-APPLE-RADIUS=500;X-TITLE=415 E. Lewis St.:geo:-110.5552274,45.6628503
END:VEVENT
BEGIN:VEVENT
DTSTART;TZID=America/Denver:20260407T183000
DTEND;TZID=America/Denver:20260407T183000
DTSTAMP:20260422T082020
CREATED:20260329T022120Z
LAST-MODIFIED:20260329T022120Z
UID:314584-1775586600-1775586600@bozone.com
SUMMARY:Hoppin' Trivia Night
DESCRIPTION:Hoppin’ Trivia Night every Tuesday from 6:30pm-8:30pm
URL:https://bozone.com/event/hoppin-trivia-night/
LOCATION:Hop Lounge\, 93 Rowland Rd\, Bozeman\, MT\, 59718\, United States
CATEGORIES:Miscellanea
GEO:45.6699134;-111.135064
X-APPLE-STRUCTURED-LOCATION;VALUE=URI;X-ADDRESS=Hop Lounge 93 Rowland Rd Bozeman MT 59718 United States;X-APPLE-RADIUS=500;X-TITLE=93 Rowland Rd:geo:-111.135064,45.6699134
END:VEVENT
BEGIN:VEVENT
DTSTART;TZID=America/Denver:20260407T200000
DTEND;TZID=America/Denver:20260407T200000
DTSTAMP:20260422T082020
CREATED:20250827T121722Z
LAST-MODIFIED:20260328T171410Z
UID:296869-1775592000-1775592000@bozone.com
SUMMARY:Molly Bingo
DESCRIPTION:Tuesdays at 8pm
URL:https://bozone.com/event/molly-bingo-4/
LOCATION:Molly Brown\, 703 W Babcock\, Bozeman\, United States
CATEGORIES:Miscellanea
GEO:45.678596;-111.046924
X-APPLE-STRUCTURED-LOCATION;VALUE=URI;X-ADDRESS=Molly Brown 703 W Babcock Bozeman United States;X-APPLE-RADIUS=500;X-TITLE=703 W Babcock:geo:-111.046924,45.678596
END:VEVENT
END:VCALENDAR