BEGIN:VCALENDAR
VERSION:2.0
PRODID:-//The BoZone - ECPv5.12.0//NONSGML v1.0//EN
CALSCALE:GREGORIAN
METHOD:PUBLISH
X-WR-CALNAME:The BoZone
X-ORIGINAL-URL:https://bozone.com
X-WR-CALDESC:Events for The BoZone
BEGIN:VTIMEZONE
TZID:America/Denver
BEGIN:DAYLIGHT
TZOFFSETFROM:-0700
TZOFFSETTO:-0600
TZNAME:MDT
DTSTART:20250309T090000
END:DAYLIGHT
BEGIN:STANDARD
TZOFFSETFROM:-0600
TZOFFSETTO:-0700
TZNAME:MST
DTSTART:20251102T080000
END:STANDARD
END:VTIMEZONE
BEGIN:VEVENT
DTSTART;TZID=America/Denver:20250228T090000
DTEND;TZID=America/Denver:20250228T093000
DTSTAMP:20260423T132804
CREATED:20250110T150335Z
LAST-MODIFIED:20250110T150335Z
UID:280268-1740733200-1740735000@bozone.com
SUMMARY:MoR’s Virtual Fossil Fridays
DESCRIPTION:Love fossils? So do we! Join Outreach Program Manager Ashley Hall on Zoom on most Fridays to explore the evolutionary history of fascinating fossil specimens. Meet paleontologists from around the globe and discover how fossils reveal the story of life on Earth. Bring your curiosity and questions! \nJoin via Zoom\nMost Fridays\, 9 – 9:30 a.m. MST\nFree and open to the public \nhttps://museumoftherockies.org/calendar/virtual-fossil-fridays
URL:https://bozone.com/event/mors-virtual-fossil-fridays-2-2025-02-28/
LOCATION:Virtual Event\, Bozeman\, MT\, 59715\, United States
CATEGORIES:Classes,Lectures,Miscellanea
GEO:46.8796822;-110.3625658
END:VEVENT
BEGIN:VEVENT
DTSTART;TZID=America/Denver:20250228T090000
DTEND;TZID=America/Denver:20250228T093000
DTSTAMP:20260423T132804
CREATED:20250114T204509Z
LAST-MODIFIED:20250114T204509Z
UID:280403-1740733200-1740735000@bozone.com
SUMMARY:MOR's Virtual Fossil Friday
DESCRIPTION:Most Fridays\, 9 – 9:30 a.m. MST\nFree and open to the public via Zoom\nFebruary 7\, 14\, 21\, 28 \nLove fossils? So do we! Join Outreach Program Manager Ashley Hall on Zoom on most Fridays to explore the evolutionary history of fascinating fossil specimens. Meet paleontologists from around the globe and discover how fossils reveal the story of life on Earth. Bring your curiosity and questions! \n  \nVirtual Event \nFor more information: https://museumoftherockies.org/calendar/virtual-fossil-fridays
URL:https://bozone.com/event/mors-virtual-fossil-friday-2-2025-02-28/
LOCATION:Virtual Event\, Bozeman\, MT\, 59715\, United States
CATEGORIES:Miscellanea
GEO:46.8796822;-110.3625658
END:VEVENT
BEGIN:VEVENT
DTSTART;TZID=America/Denver:20250228T100000
DTEND;TZID=America/Denver:20250228T200000
DTSTAMP:20260423T132804
CREATED:20241227T141225Z
LAST-MODIFIED:20241227T141225Z
UID:278998-1740736800-1740772800@bozone.com
SUMMARY:Billings RV & Boat Show & Sale
DESCRIPTION:Billings RV & Boat Show & Sale\n\nDate: Feb 26 – Mar 02\, 2025\n\n\nThis is a place for RV and boat enthusiasts\, people interested in purchasing an RV or boat for the first time\, or anyone who plans on upgrading their current unit!\nThe most prominent dealers in Montana come together to feature all the best RV and boat manufacturers. There will be manufacturers onsite offering factory discounts. You can take advantage of exclusive\, incredibly “LOW SHOW” pricing. All the best RV and Boat Dealers are indoors\, offering show-goers prices that aren’t typically seen at the dealerships.\nThe savings featured are EXCLUSIVE to the Billings RV & Boat Show and Sale at the MetraPark Expo Center in Billings\, Montana! \nWednesday – Saturday: 10am-8pm\nSunday: 10am-5pm \n\n\nMORE INFO
URL:https://bozone.com/event/billings-rv-boat-show-sale-2025-02-28/
LOCATION:MetraPark – Billings\, 308 6th Avenue N - Billings\, Billings\, MT\, 59101\, United States
CATEGORIES:Miscellanea,Sporting Events
GEO:45.8003724;-108.4775763
X-APPLE-STRUCTURED-LOCATION;VALUE=URI;X-ADDRESS=MetraPark – Billings 308 6th Avenue N - Billings Billings MT 59101 United States;X-APPLE-RADIUS=500;X-TITLE=308 6th Avenue N - Billings:geo:-108.4775763,45.8003724
END:VEVENT
BEGIN:VEVENT
DTSTART;TZID=America/Denver:20250228T180000
DTEND;TZID=America/Denver:20250228T200000
DTSTAMP:20260423T132804
CREATED:20250126T005227Z
LAST-MODIFIED:20250130T205137Z
UID:280918-1740765600-1740772800@bozone.com
SUMMARY:IX Trivia
DESCRIPTION:
URL:https://bozone.com/event/trivia-3-2025-02-28/
LOCATION:Bar IX\, 311 East Main\, Bozeman\, MT\, 59715\, United States
CATEGORIES:Miscellanea
GEO:45.6795478;-111.0327157
X-APPLE-STRUCTURED-LOCATION;VALUE=URI;X-ADDRESS=Bar IX 311 East Main Bozeman MT 59715 United States;X-APPLE-RADIUS=500;X-TITLE=311 East Main:geo:-111.0327157,45.6795478
END:VEVENT
END:VCALENDAR