BEGIN:VCALENDAR
VERSION:2.0
PRODID:-//The BoZone - ECPv5.12.0//NONSGML v1.0//EN
CALSCALE:GREGORIAN
METHOD:PUBLISH
X-WR-CALNAME:The BoZone
X-ORIGINAL-URL:https://bozone.com
X-WR-CALDESC:Events for The BoZone
BEGIN:VTIMEZONE
TZID:America/Denver
BEGIN:DAYLIGHT
TZOFFSETFROM:-0700
TZOFFSETTO:-0600
TZNAME:MDT
DTSTART:20250309T090000
END:DAYLIGHT
BEGIN:STANDARD
TZOFFSETFROM:-0600
TZOFFSETTO:-0700
TZNAME:MST
DTSTART:20251102T080000
END:STANDARD
END:VTIMEZONE
BEGIN:VEVENT
DTSTART;TZID=America/Denver:20250226T100000
DTEND;TZID=America/Denver:20250226T150000
DTSTAMP:20260425T050438
CREATED:20250125T001153Z
LAST-MODIFIED:20250125T001153Z
UID:280533-1740564000-1740582000@bozone.com
SUMMARY:MSU Almost Spring Job & Internship Fair
DESCRIPTION:Tuesday\, February 25\, 2025\n\nBobcat Networking Reception Roam: 4 p.m. – 6 p.m. Your opportunity to connect with students prior to the Fair.\n\nWednesday\, February 26\, 2025\n\nVeterans Networking Coffee: 9 a.m. – 10 a.m.\nJob & Internship Fair Day: Fair 10 a.m. – 3 p.m.\n\nThursday\, February 27\, 2025\n\nOn-Campus Interviews: 8 a.m. – 5 p.m.
URL:https://bozone.com/event/msu-almost-spring-job-internship-fair-2025-02-26/
LOCATION:MSU – SUB\, 751 W Grant St.\, Bozeman\, MT\, 59715\, United States
CATEGORIES:Miscellanea
GEO:45.6667557;-111.04981
X-APPLE-STRUCTURED-LOCATION;VALUE=URI;X-ADDRESS=MSU – SUB 751 W Grant St. Bozeman MT 59715 United States;X-APPLE-RADIUS=500;X-TITLE=751 W Grant St.:geo:-111.04981,45.6667557
END:VEVENT
END:VCALENDAR