BEGIN:VCALENDAR
VERSION:2.0
PRODID:-//The BoZone - ECPv5.12.0//NONSGML v1.0//EN
CALSCALE:GREGORIAN
METHOD:PUBLISH
X-WR-CALNAME:The BoZone
X-ORIGINAL-URL:https://bozone.com
X-WR-CALDESC:Events for The BoZone
BEGIN:VTIMEZONE
TZID:America/Denver
BEGIN:DAYLIGHT
TZOFFSETFROM:-0700
TZOFFSETTO:-0600
TZNAME:MDT
DTSTART:20250309T090000
END:DAYLIGHT
BEGIN:STANDARD
TZOFFSETFROM:-0600
TZOFFSETTO:-0700
TZNAME:MST
DTSTART:20251102T080000
END:STANDARD
END:VTIMEZONE
BEGIN:VEVENT
DTSTART;TZID=America/Denver:20250215T090000
DTEND;TZID=America/Denver:20250215T120000
DTSTAMP:20260419T160717
CREATED:20241227T020528Z
LAST-MODIFIED:20241227T020528Z
UID:278835-1739610000-1739620800@bozone.com
SUMMARY:Bozeman Winter Farmers Market
DESCRIPTION:What began ten years ago as a small group of farmers huddled together outside selling their winter veggies is now a successful\, thriving market with a bounty of local vegetables and farm products. Our community’s demand for a direct producer-to-consumer experience has grown\, and with it has the Bozeman Winter Farmers’ Market. At this market\, you’ll find a lot more than traditional winter staples like potatoes and onions. Area farmers have worked hard to drastically increase the number of fresh greens and the variety of vegetables they can offer our Gallatin Valley community throughout the fall\, winter and spring. \nEXHIBIT BUILDING 4!! \n9am-12pm\n \n\nJanuary-4\,11\,18\,25 February-1\,8\,15 \nMarch-1\,8\,22\,29 April-5\,12\,19\,26 \nMay-3\,10\,17\, 24\, 31
URL:https://bozone.com/event/bozeman-winter-farmers-market-2025-02-15/
LOCATION:GCF – Gallatin County Fairgrounds – GCF\, 901 N Black\, Bozeman\, United States
CATEGORIES:Miscellanea
GEO:45.6885954;-111.0358461
X-APPLE-STRUCTURED-LOCATION;VALUE=URI;X-ADDRESS=GCF – Gallatin County Fairgrounds – GCF 901 N Black Bozeman United States;X-APPLE-RADIUS=500;X-TITLE=901 N Black:geo:-111.0358461,45.6885954
END:VEVENT
BEGIN:VEVENT
DTSTART;TZID=America/Denver:20250215T183000
DTEND;TZID=America/Denver:20250215T210000
DTSTAMP:20260419T160717
CREATED:20250110T000028Z
LAST-MODIFIED:20250110T000028Z
UID:280202-1739644200-1739653200@bozone.com
SUMMARY:The Chautauqua Winter Series
DESCRIPTION:THE ELLING HOUSE PRESENTS \nThe Chautauqua Winter Series \nThe Chautauqua tradition offers a thoughtful mix of conversation\, entertainment\, and appreciation of local artistic talents. \nSATURDAYS\nJanuary 18th\nFebruary 15th\nMarch 15th\nApril 19th \n6:30pm Meet & Greet\n7:30-9:00pm Performances \nAnyone interested in performing 1 or 2 songs or a 10-minute reading is invited to sign up by contacting Rank’s Mercantile at 406-843-5454 or ranksmerc@yahoo.com<mailto:ranksmerc@yahoo.com> \n(Donations Appreciated)\nThe Elling House is a small venue.  Seating is first come\, first served. \nElling House Arts & Humanities Center\n404 E. Idaho St\, Virginia City\, MT\n406-843-5454 Or 406-843-5507\nwww.ellinghouse.org
URL:https://bozone.com/event/the-chautauqua-winter-series-2025-02-15/
LOCATION:Elling House – Virginia City\, 404 E Idaho St\, Virginia City\, United States
CATEGORIES:Arts & Theatre,Miscellanea,Music
GEO:45.2934584;-111.9394641
X-APPLE-STRUCTURED-LOCATION;VALUE=URI;X-ADDRESS=Elling House – Virginia City 404 E Idaho St Virginia City United States;X-APPLE-RADIUS=500;X-TITLE=404 E Idaho St:geo:-111.9394641,45.2934584
END:VEVENT
END:VCALENDAR