BEGIN:VCALENDAR
VERSION:2.0
PRODID:-//The BoZone - ECPv5.12.0//NONSGML v1.0//EN
CALSCALE:GREGORIAN
METHOD:PUBLISH
X-WR-CALNAME:The BoZone
X-ORIGINAL-URL:https://bozone.com
X-WR-CALDESC:Events for The BoZone
BEGIN:VTIMEZONE
TZID:America/Denver
BEGIN:DAYLIGHT
TZOFFSETFROM:-0700
TZOFFSETTO:-0600
TZNAME:MDT
DTSTART:20240310T090000
END:DAYLIGHT
BEGIN:STANDARD
TZOFFSETFROM:-0600
TZOFFSETTO:-0700
TZNAME:MST
DTSTART:20241103T080000
END:STANDARD
END:VTIMEZONE
BEGIN:VEVENT
DTSTART;TZID=America/Denver:20241128T080000
DTEND;TZID=America/Denver:20241128T170000
DTSTAMP:20260423T063619
CREATED:20241125T014433Z
LAST-MODIFIED:20241125T014433Z
UID:277002-1732780800-1732813200@bozone.com
SUMMARY:Adventurous Scavenger Hunt - Bozeman's Booze-like Fun
DESCRIPTION:Adventurous Scavenger Hunt – Bozeman’s Booze-like Fun\n\n\n\n\n\nALL AGES\n\n\n\n\n\nMore information and scavenger hunts by Let’s Roam:\nhttps://www.letsroam.com/scavenger_hunt/bozeman-montana-scavenger-hunt\n\n\n\n\n\n\n\n\n\nGeneral Admission per player     $14.99
URL:https://bozone.com/event/adventurous-scavenger-hunt-bozemans-booze-like-fun-2024-11-28/
LOCATION:Downtown Bozeman\, Bozeman\, MT\, 59715\, United States
CATEGORIES:Miscellanea
GEO:45.6769979;-111.0429339
END:VEVENT
END:VCALENDAR