BEGIN:VCALENDAR
VERSION:2.0
PRODID:-//The BoZone - ECPv5.12.0//NONSGML v1.0//EN
CALSCALE:GREGORIAN
METHOD:PUBLISH
X-WR-CALNAME:The BoZone
X-ORIGINAL-URL:https://bozone.com
X-WR-CALDESC:Events for The BoZone
BEGIN:VTIMEZONE
TZID:America/Denver
BEGIN:DAYLIGHT
TZOFFSETFROM:-0700
TZOFFSETTO:-0600
TZNAME:MDT
DTSTART:20240310T090000
END:DAYLIGHT
BEGIN:STANDARD
TZOFFSETFROM:-0600
TZOFFSETTO:-0700
TZNAME:MST
DTSTART:20241103T080000
END:STANDARD
END:VTIMEZONE
BEGIN:VEVENT
DTSTART;TZID=America/Denver:20241109T090000
DTEND;TZID=America/Denver:20241109T120000
DTSTAMP:20260421T201205
CREATED:20240926T215102Z
LAST-MODIFIED:20240926T215102Z
UID:270623-1731142800-1731153600@bozone.com
SUMMARY:Winter Farmers' Market
DESCRIPTION:A Farmers’ Market almost every Saturday\, 9am-noon\, at the Fairgrounds! Free admission to pick up fresh veggies\, meats\, cheese\, coffee\, hot breakfast\, and more from your favorite local farmers every week! Visit https://www.bozemanwinterfarmersmarket.com for this year’s schedule and for more information!
URL:https://bozone.com/event/winter-farmers-market-2024-11-09/
LOCATION:GCF – Gallatin County Fairgrounds – GCF\, 901 N Black\, Bozeman\, United States
CATEGORIES:Miscellanea
GEO:45.6885954;-111.0358461
X-APPLE-STRUCTURED-LOCATION;VALUE=URI;X-ADDRESS=GCF – Gallatin County Fairgrounds – GCF 901 N Black Bozeman United States;X-APPLE-RADIUS=500;X-TITLE=901 N Black:geo:-111.0358461,45.6885954
END:VEVENT
BEGIN:VEVENT
DTSTART;TZID=America/Denver:20241109T130000
DTEND;TZID=America/Denver:20241109T130000
DTSTAMP:20260421T201205
CREATED:20240926T172244Z
LAST-MODIFIED:20240926T172244Z
UID:270551-1731157200-1731157200@bozone.com
SUMMARY:Tony n’ Tina’s Wedding
DESCRIPTION:Tony n’ Tina’s Wedding\nImmersive\, hilarious\, and unforgettable nuptials\n\n\n\n\n\n  \n\n\n\n\n\n\n\n\n\n\n\n\n\n\n\n\n“Just like a real wedding… only funnier.”\n–Chicago Tribune\n\n\n\n\n\n\n\n\n\n\n\n\n\n\n\nThe performance of “Tony and Tina’s Wedding” will be BSCT’s first foray into “dinner theater\,” an interactive evening with the audience participating as wedding guests. With the support of the Big Sky School District Lunch Ladies\, the crew is delighted to bring “Tony n’ Tina’s Wedding\,” a production that has been performed in more than 100 cities worldwide since its opening in 1988\, to the WMPAC on Nov. 8. \nActor John Hannahs—Lone Peak High School teacher and athletic director—leads the diverse group at the Warren Miller Performing Arts Center\, some business owners\, some bartenders\, others ski patrollers and retirees\, in a pumped-up cheer. While the countdown ensues\, actors employ various methods of managing their nerves. Some do push-ups\, others rehearse their lines facing a wall\, some chat excitedly\, while others are focused and quiet. \nBig Sky Community Theater has been gathering locals to the stage yearly since 2013 with the purpose of entertaining\, inspiring and enlightening audiences. Funded through Big Sky School District’s Adult Education Program\, the theater group comprises volunteer community members of all backgrounds and levels of stage experience. Maggie Luchini\, who has been in multiple productions\, finds BSCT a welcome setting for Big Sky community members. \n\n\n\n\n\n\n\n\n\nThe History of Tony n’ Tina’s Wedding: New Yorkers Nancy Cassaro and Mark Nassar invented the characters of Tony and Tina while studying drama at Hofstra University in the 1980s. As the idea grew\, Tony n’ Tina’s Wedding landed to a scrappy downtown Manhattan location in 1985. Becoming a commercial success\, it moved off-Broadway\, produced by another Hofstra alumnus\, Joe Corcoran. It ran for over 20 years to rave reviews\, and eventually turned into a worldwide phenomenon\, presented at over 150 cities worldwide – including numerous cities in the USA\, Canada\, Japan\, Germany\, the United Kingdom\, and Australia. \n\n\n\nGET TICKETS
URL:https://bozone.com/event/tony-n-tinas-wedding-2024-11-09/
LOCATION:Warren Miller Performing Arts Center – Big Sky\, 45465 Gallatin Road\, Gallatin Gateway\, MT\, 59730\, United States
CATEGORIES:Arts & Theatre,Miscellanea
GEO:45.2290489;-111.2522824
X-APPLE-STRUCTURED-LOCATION;VALUE=URI;X-ADDRESS=Warren Miller Performing Arts Center – Big Sky 45465 Gallatin Road Gallatin Gateway MT 59730 United States;X-APPLE-RADIUS=500;X-TITLE=45465 Gallatin Road:geo:-111.2522824,45.2290489
END:VEVENT
BEGIN:VEVENT
DTSTART;TZID=America/Denver:20241109T190000
DTEND;TZID=America/Denver:20241109T190000
DTSTAMP:20260421T201205
CREATED:20240926T172244Z
LAST-MODIFIED:20240926T172244Z
UID:270552-1731178800-1731178800@bozone.com
SUMMARY:Tony n’ Tina’s Wedding
DESCRIPTION:Tony n’ Tina’s Wedding\nImmersive\, hilarious\, and unforgettable nuptials\n\n\n\n\n\n  \n\n\n\n\n\n\n\n\n\n\n\n\n\n\n\n\n“Just like a real wedding… only funnier.”\n–Chicago Tribune\n\n\n\n\n\n\n\n\n\n\n\n\n\n\n\nThe performance of “Tony and Tina’s Wedding” will be BSCT’s first foray into “dinner theater\,” an interactive evening with the audience participating as wedding guests. With the support of the Big Sky School District Lunch Ladies\, the crew is delighted to bring “Tony n’ Tina’s Wedding\,” a production that has been performed in more than 100 cities worldwide since its opening in 1988\, to the WMPAC on Nov. 8. \nActor John Hannahs—Lone Peak High School teacher and athletic director—leads the diverse group at the Warren Miller Performing Arts Center\, some business owners\, some bartenders\, others ski patrollers and retirees\, in a pumped-up cheer. While the countdown ensues\, actors employ various methods of managing their nerves. Some do push-ups\, others rehearse their lines facing a wall\, some chat excitedly\, while others are focused and quiet. \nBig Sky Community Theater has been gathering locals to the stage yearly since 2013 with the purpose of entertaining\, inspiring and enlightening audiences. Funded through Big Sky School District’s Adult Education Program\, the theater group comprises volunteer community members of all backgrounds and levels of stage experience. Maggie Luchini\, who has been in multiple productions\, finds BSCT a welcome setting for Big Sky community members. \n\n\n\n\n\n\n\n\n\nThe History of Tony n’ Tina’s Wedding: New Yorkers Nancy Cassaro and Mark Nassar invented the characters of Tony and Tina while studying drama at Hofstra University in the 1980s. As the idea grew\, Tony n’ Tina’s Wedding landed to a scrappy downtown Manhattan location in 1985. Becoming a commercial success\, it moved off-Broadway\, produced by another Hofstra alumnus\, Joe Corcoran. It ran for over 20 years to rave reviews\, and eventually turned into a worldwide phenomenon\, presented at over 150 cities worldwide – including numerous cities in the USA\, Canada\, Japan\, Germany\, the United Kingdom\, and Australia. \n\n\n\nGET TICKETS
URL:https://bozone.com/event/tony-n-tinas-wedding-2024-11-09-2/
LOCATION:Warren Miller Performing Arts Center – Big Sky\, 45465 Gallatin Road\, Gallatin Gateway\, MT\, 59730\, United States
CATEGORIES:Arts & Theatre,Miscellanea
GEO:45.2290489;-111.2522824
X-APPLE-STRUCTURED-LOCATION;VALUE=URI;X-ADDRESS=Warren Miller Performing Arts Center – Big Sky 45465 Gallatin Road Gallatin Gateway MT 59730 United States;X-APPLE-RADIUS=500;X-TITLE=45465 Gallatin Road:geo:-111.2522824,45.2290489
END:VEVENT
END:VCALENDAR