BEGIN:VCALENDAR
VERSION:2.0
PRODID:-//The BoZone - ECPv5.12.0//NONSGML v1.0//EN
CALSCALE:GREGORIAN
METHOD:PUBLISH
X-WR-CALNAME:The BoZone
X-ORIGINAL-URL:https://bozone.com
X-WR-CALDESC:Events for The BoZone
BEGIN:VTIMEZONE
TZID:America/Denver
BEGIN:DAYLIGHT
TZOFFSETFROM:-0700
TZOFFSETTO:-0600
TZNAME:MDT
DTSTART:20240310T090000
END:DAYLIGHT
BEGIN:STANDARD
TZOFFSETFROM:-0600
TZOFFSETTO:-0700
TZNAME:MST
DTSTART:20241103T080000
END:STANDARD
END:VTIMEZONE
BEGIN:VEVENT
DTSTART;TZID=America/Denver:20241019T090000
DTEND;TZID=America/Denver:20241019T160000
DTSTAMP:20260422T230440
CREATED:20240815T201936Z
LAST-MODIFIED:20240815T201936Z
UID:268307-1729328400-1729353600@bozone.com
SUMMARY:Bozeman Made Fair 2024
DESCRIPTION:https://handmademontana.com/pages/bozeman-made-fair \nThe  Bozeman MADE fair is a modern handcrafted market featuring 195+ artists at the Brick Breeden Field House \nOCTOBER 18-19: FRIDAY $10 VIP 5 pm-8 pm; SATURDAY $5 Early Bird 9 am-10am\, FREE ENTRY 10 am-4 pm \nEnjoy shopping a curated collection of over 195+ skilled artisans and non-profits. There is something for everyone from affordable functional art to heirloom fine art pieces. \nBrick Breeden Fieldhouse\, Bozeman\, MT \nOCTOBER 18-19\, 2024\nFRIDAY: $10 VIP 5 PM-8 PM\nSATURDAY : $5 EARLY BIRD 9AM-10AM; FREE ENTRY 10AM-4PM\n \nVIP & Early Bird Passproceeds benefit a local non-profit. \nPlease bring a non-perishable food item to help support the Gallatin Valley Food Bank. \nVIP & EARLY BIRD PASS \n\nGet a jump start on your shopping and beat the crowds by purchasing a $10 VIP or $5 Early Bird Pass. \nWholesale market:\n\nAre you a buyer for a local retailer or online shop? This year handMADE Montana is extending a special invitation to wholesale buyers to connect with local & regional artists at the Bozeman Fall MADE fair event. Over half of our curated collection of artisans can do wholesale and offer their unique products for your retail space. Discover new makers and some fan favorites and tell their story in your shop this holiday season. \nFRIDAY OCT 18 :5 pm-8 pm\nExplore during VIP hours when the aisles aren’t full\, and you can have a proper meet and greet with the artists!
URL:https://bozone.com/event/bozeman-made-fair-2024-2024-10-19/
LOCATION:Brick Breeden Fieldhouse – MSU\, 1 Bobcat Cir\, Bozeman\, MT\, 59715\, United States
CATEGORIES:Miscellanea
GEO:45.6633486;-111.0506591
X-APPLE-STRUCTURED-LOCATION;VALUE=URI;X-ADDRESS=Brick Breeden Fieldhouse – MSU 1 Bobcat Cir Bozeman MT 59715 United States;X-APPLE-RADIUS=500;X-TITLE=1 Bobcat Cir:geo:-111.0506591,45.6633486
END:VEVENT
BEGIN:VEVENT
DTSTART;TZID=America/Denver:20241019T090000
DTEND;TZID=America/Denver:20241019T120000
DTSTAMP:20260422T230440
CREATED:20240825T015801Z
LAST-MODIFIED:20240825T015801Z
UID:268891-1729328400-1729339200@bozone.com
SUMMARY:Bozeman Winter Farmers' Market
DESCRIPTION:What began ten years ago as a small group of farmers huddled together outside selling their winter veggies is now a successful\, thriving market with a bounty of local vegetables and farm products. Our community’s demand for a direct producer-to-consumer experience has grown\, and with it has the Bozeman Winter Farmers’ Market. At this market\, you’ll find a lot more than traditional winter staples like potatoes and onions. Area farmers have worked hard to drastically increase the number of fresh greens and the variety of vegetables they can offer our Gallatin Valley community throughout the fall\, winter and spring. \nExhibit Building 4 \n9am-12pm
URL:https://bozone.com/event/bozeman-winter-farmers-market-2024-10-19/
LOCATION:GCF – Gallatin County Fairgrounds – GCF\, 901 N Black\, Bozeman\, United States
CATEGORIES:Miscellanea
GEO:45.6885954;-111.0358461
X-APPLE-STRUCTURED-LOCATION;VALUE=URI;X-ADDRESS=GCF – Gallatin County Fairgrounds – GCF 901 N Black Bozeman United States;X-APPLE-RADIUS=500;X-TITLE=901 N Black:geo:-111.0358461,45.6885954
END:VEVENT
BEGIN:VEVENT
DTSTART;TZID=America/Denver:20241019T090000
DTEND;TZID=America/Denver:20241019T120000
DTSTAMP:20260422T230441
CREATED:20240926T215102Z
LAST-MODIFIED:20240926T215102Z
UID:270621-1729328400-1729339200@bozone.com
SUMMARY:Winter Farmers' Market
DESCRIPTION:A Farmers’ Market almost every Saturday\, 9am-noon\, at the Fairgrounds! Free admission to pick up fresh veggies\, meats\, cheese\, coffee\, hot breakfast\, and more from your favorite local farmers every week! Visit https://www.bozemanwinterfarmersmarket.com for this year’s schedule and for more information!
URL:https://bozone.com/event/winter-farmers-market-2024-10-19/
LOCATION:GCF – Gallatin County Fairgrounds – GCF\, 901 N Black\, Bozeman\, United States
CATEGORIES:Miscellanea
GEO:45.6885954;-111.0358461
X-APPLE-STRUCTURED-LOCATION;VALUE=URI;X-ADDRESS=GCF – Gallatin County Fairgrounds – GCF 901 N Black Bozeman United States;X-APPLE-RADIUS=500;X-TITLE=901 N Black:geo:-111.0358461,45.6885954
END:VEVENT
END:VCALENDAR