BEGIN:VCALENDAR
VERSION:2.0
PRODID:-//The BoZone - ECPv5.12.0//NONSGML v1.0//EN
CALSCALE:GREGORIAN
METHOD:PUBLISH
X-WR-CALNAME:The BoZone
X-ORIGINAL-URL:https://bozone.com
X-WR-CALDESC:Events for The BoZone
BEGIN:VTIMEZONE
TZID:America/Denver
BEGIN:DAYLIGHT
TZOFFSETFROM:-0700
TZOFFSETTO:-0600
TZNAME:MDT
DTSTART:20240310T090000
END:DAYLIGHT
BEGIN:STANDARD
TZOFFSETFROM:-0600
TZOFFSETTO:-0700
TZNAME:MST
DTSTART:20241103T080000
END:STANDARD
END:VTIMEZONE
BEGIN:VEVENT
DTSTART;TZID=America/Denver:20240818T160000
DTEND;TZID=America/Denver:20240818T160000
DTSTAMP:20260424T151528
CREATED:20240629T134616Z
LAST-MODIFIED:20240629T134616Z
UID:265783-1723996800-1723996800@bozone.com
SUMMARY:Six Viewpoints Workshop
DESCRIPTION:Led by Isabel Shaida\, the Six Viewpoints Workshops at Tinworks Art are free\, public programs inspired by Montana-based artist Mary Overlie (1946-2020) and her creation of Six Viewpoints for understanding body and relationship to space. Six Viewpoints is a technique of improvisation and observation between the participant and the outside world that deconstructs performance into six studies: space\, shape\, time\, emotion\, movement and story. The participant becomes the artist. Dates are July 14th\, 21st and 28th and August 4th\, 18th and 25th.
URL:https://bozone.com/event/six-viewpoints-workshop-2024-08-18/
LOCATION:Tinworks Art\, 719 N. Ida Ave\, Bozeman\, MT\, 59715\, United States
CATEGORIES:Arts & Theatre,Miscellanea
GEO:45.6873502;-111.0277418
X-APPLE-STRUCTURED-LOCATION;VALUE=URI;X-ADDRESS=Tinworks Art 719 N. Ida Ave Bozeman MT 59715 United States;X-APPLE-RADIUS=500;X-TITLE=719 N. Ida Ave:geo:-111.0277418,45.6873502
END:VEVENT
BEGIN:VEVENT
DTSTART;TZID=America/Denver:20240818T160000
DTEND;TZID=America/Denver:20240818T160000
DTSTAMP:20260424T151528
CREATED:20240728T014052Z
LAST-MODIFIED:20240728T014052Z
UID:267269-1723996800-1723996800@bozone.com
SUMMARY:Calamity's Classic Rodeo
DESCRIPTION:CALAMITY’S CLASSIC RODEO \n\nAug 17 – 18\, 2024\nPark County Fairgrounds and Parks\, \n46 View Vista Dr\, Livingston\, MT 59047\, USA (map)\n\nSat. 8/17  Rodeo at 7pm.  Gate opens 6pm\nSun. 8/18 Rodeo at 5pm.  Gate opens 4pm\n\n\nGeneral & Reserved tickets available at:\nLivingston Area Chamber\, 303 E. Park St. – payment by Cash or Check\n\n\nOR Purchase online with your credit card at:\nhttps://www.rodeoticket.com/calamitys-classic-rodeo/rodeo-information
URL:https://bozone.com/event/calamitys-classic-rodeo-2024-08-18/
LOCATION:Park County Fairgrounds – Livingston\, 46 View Vista\, Livingston\, United States
CATEGORIES:Miscellanea,Sporting Events
GEO:37.3807304;-120.7233796
X-APPLE-STRUCTURED-LOCATION;VALUE=URI;X-ADDRESS=Park County Fairgrounds – Livingston 46 View Vista Livingston United States;X-APPLE-RADIUS=500;X-TITLE=46 View Vista:geo:-120.7233796,37.3807304
END:VEVENT
BEGIN:VEVENT
DTSTART;TZID=America/Denver:20240818T170000
DTEND;TZID=America/Denver:20240818T170000
DTSTAMP:20260424T151528
CREATED:20240717T140221Z
LAST-MODIFIED:20240717T140221Z
UID:266643-1724000400-1724000400@bozone.com
SUMMARY:PRCA Broncs and Bulls and Ranch Rodeo
DESCRIPTION:PRCA Broncs and Bulls and Ranch Rodeo\n\n\n\n\n\n\n On August 16\, 2024\n\n\n At Jardine Rodeo Grounds\n\n\n\n\n\n\n\n\n\nSponsored by Hell’s a-Roarin Outfitters.  This event will be at the Jardine Arena. \nJardine Land and Livestock Rodeo Grounds \n382R+8F Gardiner\, Montana
URL:https://bozone.com/event/prca-broncs-and-bulls-and-ranch-rodeo-2024-08-18/
LOCATION:Jardine Rodeo Grounds\, Jardine Rd\, Gardiner\, MT\, 59030\, United States
CATEGORIES:Miscellanea,Sporting Events
GEO:45.0378518;-110.6926894
X-APPLE-STRUCTURED-LOCATION;VALUE=URI;X-ADDRESS=Jardine Rodeo Grounds Jardine Rd Gardiner MT 59030 United States;X-APPLE-RADIUS=500;X-TITLE=Jardine Rd:geo:-110.6926894,45.0378518
END:VEVENT
END:VCALENDAR