BEGIN:VCALENDAR
VERSION:2.0
PRODID:-//The BoZone - ECPv5.12.0//NONSGML v1.0//EN
CALSCALE:GREGORIAN
METHOD:PUBLISH
X-WR-CALNAME:The BoZone
X-ORIGINAL-URL:https://bozone.com
X-WR-CALDESC:Events for The BoZone
BEGIN:VTIMEZONE
TZID:America/Denver
BEGIN:DAYLIGHT
TZOFFSETFROM:-0700
TZOFFSETTO:-0600
TZNAME:MDT
DTSTART:20240310T090000
END:DAYLIGHT
BEGIN:STANDARD
TZOFFSETFROM:-0600
TZOFFSETTO:-0700
TZNAME:MST
DTSTART:20241103T080000
END:STANDARD
END:VTIMEZONE
BEGIN:VEVENT
DTSTART;TZID=America/Denver:20240817T170000
DTEND;TZID=America/Denver:20240817T170000
DTSTAMP:20260424T135410
CREATED:20240717T140221Z
LAST-MODIFIED:20240717T140221Z
UID:266642-1723914000-1723914000@bozone.com
SUMMARY:PRCA Broncs and Bulls and Ranch Rodeo
DESCRIPTION:PRCA Broncs and Bulls and Ranch Rodeo\n\n\n\n\n\n\n On August 16\, 2024\n\n\n At Jardine Rodeo Grounds\n\n\n\n\n\n\n\n\n\nSponsored by Hell’s a-Roarin Outfitters.  This event will be at the Jardine Arena. \nJardine Land and Livestock Rodeo Grounds \n382R+8F Gardiner\, Montana
URL:https://bozone.com/event/prca-broncs-and-bulls-and-ranch-rodeo-2024-08-17/
LOCATION:Jardine Rodeo Grounds\, Jardine Rd\, Gardiner\, MT\, 59030\, United States
CATEGORIES:Miscellanea,Sporting Events
GEO:45.0378518;-110.6926894
X-APPLE-STRUCTURED-LOCATION;VALUE=URI;X-ADDRESS=Jardine Rodeo Grounds Jardine Rd Gardiner MT 59030 United States;X-APPLE-RADIUS=500;X-TITLE=Jardine Rd:geo:-110.6926894,45.0378518
END:VEVENT
BEGIN:VEVENT
DTSTART;TZID=America/Denver:20240817T200000
DTEND;TZID=America/Denver:20240817T233000
DTSTAMP:20260424T135411
CREATED:20240727T205640Z
LAST-MODIFIED:20240727T205640Z
UID:267033-1723924800-1723937400@bozone.com
SUMMARY:Country Dancing
DESCRIPTION:Country dancing with Western Roots Country Dancing\n8:00 PM – 12:00 AM \nLearn to line dance with Western Roots Dancing at 8pm then dance and party the night away!
URL:https://bozone.com/event/country-dancing-2024-08-17/
LOCATION:Bourbon\, 515 W. Aspen Unit 102\, Bozeman\, MT\, 59715\, United States
CATEGORIES:Miscellanea,Music
GEO:45.687753;-111.0446275
X-APPLE-STRUCTURED-LOCATION;VALUE=URI;X-ADDRESS=Bourbon 515 W. Aspen Unit 102 Bozeman MT 59715 United States;X-APPLE-RADIUS=500;X-TITLE=515 W. Aspen Unit 102:geo:-111.0446275,45.687753
END:VEVENT
END:VCALENDAR