BEGIN:VCALENDAR
VERSION:2.0
PRODID:-//The BoZone - ECPv5.12.0//NONSGML v1.0//EN
CALSCALE:GREGORIAN
METHOD:PUBLISH
X-WR-CALNAME:The BoZone
X-ORIGINAL-URL:https://bozone.com
X-WR-CALDESC:Events for The BoZone
BEGIN:VTIMEZONE
TZID:America/Denver
BEGIN:DAYLIGHT
TZOFFSETFROM:-0700
TZOFFSETTO:-0600
TZNAME:MDT
DTSTART:20240310T090000
END:DAYLIGHT
BEGIN:STANDARD
TZOFFSETFROM:-0600
TZOFFSETTO:-0700
TZNAME:MST
DTSTART:20241103T080000
END:STANDARD
END:VTIMEZONE
BEGIN:VEVENT
DTSTART;TZID=America/Denver:20240503T090000
DTEND;TZID=America/Denver:20240503T090000
DTSTAMP:20260420T043956
CREATED:20231218T195042Z
LAST-MODIFIED:20231218T195042Z
UID:249007-1714726800-1714726800@bozone.com
SUMMARY:TECHSPO San Diego 2024 Technology Expo
DESCRIPTION:“Where Business\, Tech and Innovation Collide in San Diego!\nTECHSPO San Diego 2024 is your chance to …\n– Check out exhibitors showcasing the next generation of technology & innovation.\n– Be inspired\, amazed and educated on how these evolving technologies will impact your business for greater growth.\n– Interact with technology enthusiasts\, build your network and reunite with your peers. \nThe 3rd annual TECHSPO San Diego\, two-day technology expo returns May 2nd and 3rd\, 2024 to the luxurious Marriott Marquis San Diego Marina Hotel in San Diego\, California. TECHSPO San Diego brings together some of the best developers\, brands\, marketers\, technology providers\, designers\, innovators and evangelists looking to set the pace in our advanced world of technology. Watch exhibitors showcase the next generation of advances in technology & innovation\, including; Internet\, Mobile\, AdTech\, MarTech and SaaS technologies. Be prepared to be inspired\, amazed and educated on how these evolving technologies will impact your business for greater growth. \nAs part of TECHSPO San Diego is a limited attendance event\, DigiMarCon California 2024 Digital Marketing\, Media and Advertising Conference (https://digimarconcalifornia.com). If the conference is where the learning\, theory and inspiration happens\, then the TECHSPO floor is where the testing\, networking and product interaction takes place. \nFor complete details visit https://techsposandiego.com.”
URL:https://bozone.com/event/techspo-san-diego-2024-technology-expo-2024-05-03/
LOCATION:Virtual Event\, Bozeman\, MT\, 59715\, United States
CATEGORIES:Miscellanea
GEO:46.8796822;-110.3625658
END:VEVENT
END:VCALENDAR