BEGIN:VCALENDAR
VERSION:2.0
PRODID:-//The BoZone - ECPv5.12.0//NONSGML v1.0//EN
CALSCALE:GREGORIAN
METHOD:PUBLISH
X-WR-CALNAME:The BoZone
X-ORIGINAL-URL:https://bozone.com
X-WR-CALDESC:Events for The BoZone
BEGIN:VTIMEZONE
TZID:America/Denver
BEGIN:DAYLIGHT
TZOFFSETFROM:-0700
TZOFFSETTO:-0600
TZNAME:MDT
DTSTART:20260308T090000
END:DAYLIGHT
BEGIN:STANDARD
TZOFFSETFROM:-0600
TZOFFSETTO:-0700
TZNAME:MST
DTSTART:20261101T080000
END:STANDARD
END:VTIMEZONE
BEGIN:VEVENT
DTSTART;TZID=America/Denver:20260409T180000
DTEND;TZID=America/Denver:20260409T180000
DTSTAMP:20260421T201135
CREATED:20260312T212550Z
LAST-MODIFIED:20260312T212550Z
UID:312931-1775757600-1775757600@bozone.com
SUMMARY:Authors and Books: Russell Rowland and Allen Morris Jones
DESCRIPTION:A conversation where Montana poet laureate\, Allen Jones\, and Russell Rowland\, author of 56 Counties\, discuss their collaboration\, and their thoughts on Montana and western literature in general.\nSince Allen Morris Jones published Russell Rowland’s third novel\, High and Inside\, in 2013 under his Bangtail Press imprint\, the two have had a long and fruitful relationship\, working together on various books and other projects\, including Rowland’s seminal book on Montana\, 56 Counties: A Montana Journey\, which Bangtail published in 2016. Jones has published three novels of his own\, as well as a non-fiction book on hunting\, A Quiet Place of Violence\, and three children’s books. But he has recently established himself primarily for his poetry\, winning the High Plains Book Award for Mumblecusser\, and then being named the current Poet Laureate of Montana. \nBozeman Public Library – Community Room
URL:https://bozone.com/event/authors-and-books-russell-rowland-and-allen-morris-jones/
LOCATION:Bozeman Public Library\, 626 East Main Street\, Bozeman\, MT\, 59715\, United States
CATEGORIES:Lectures
GEO:45.6785823;-111.0270991
X-APPLE-STRUCTURED-LOCATION;VALUE=URI;X-ADDRESS=Bozeman Public Library 626 East Main Street Bozeman MT 59715 United States;X-APPLE-RADIUS=500;X-TITLE=626 East Main Street:geo:-111.0270991,45.6785823
END:VEVENT
END:VCALENDAR