BEGIN:VCALENDAR
VERSION:2.0
PRODID:-//The BoZone - ECPv5.12.0//NONSGML v1.0//EN
CALSCALE:GREGORIAN
METHOD:PUBLISH
X-WR-CALNAME:The BoZone
X-ORIGINAL-URL:https://bozone.com
X-WR-CALDESC:Events for The BoZone
BEGIN:VTIMEZONE
TZID:America/Denver
BEGIN:DAYLIGHT
TZOFFSETFROM:-0700
TZOFFSETTO:-0600
TZNAME:MDT
DTSTART:20260308T090000
END:DAYLIGHT
BEGIN:STANDARD
TZOFFSETFROM:-0600
TZOFFSETTO:-0700
TZNAME:MST
DTSTART:20261101T080000
END:STANDARD
END:VTIMEZONE
BEGIN:VEVENT
DTSTART;TZID=America/Denver:20260131T103000
DTEND;TZID=America/Denver:20260131T123000
DTSTAMP:20260420T072717
CREATED:20260118T161900Z
LAST-MODIFIED:20260118T161900Z
UID:305806-1769855400-1769862600@bozone.com
SUMMARY:Seed Extravaganza
DESCRIPTION:https://www.eventbrite.com/e/2026-seed-extravaganza-tickets-1980638285429
URL:https://bozone.com/event/seed-extravaganza/
LOCATION:Livingston Park County Library\, 228 W Callendar St.\, Livingston\, MT\, 59047\, United States
CATEGORIES:Lectures,Miscellanea
GEO:45.6604613;-110.5622672
X-APPLE-STRUCTURED-LOCATION;VALUE=URI;X-ADDRESS=Livingston Park County Library 228 W Callendar St. Livingston MT 59047 United States;X-APPLE-RADIUS=500;X-TITLE=228 W Callendar St.:geo:-110.5622672,45.6604613
END:VEVENT
BEGIN:VEVENT
DTSTART;TZID=America/Denver:20260131T140000
DTEND;TZID=America/Denver:20260131T150000
DTSTAMP:20260420T072717
CREATED:20251228T214819Z
LAST-MODIFIED:20251228T214819Z
UID:304389-1769868000-1769871600@bozone.com
SUMMARY:Family Kitchen Lab - Cabbage is Cool!
DESCRIPTION:Family Kitchen Lab – Cabbage is Cool!\nSaturday\, January 31: 2:00pm – 3:00pm\n BPL – The Kitchen Table\nAge group:   Elementary Schoolers\nevent type:  STEAM\, Creative Labs\nA very versatile veggie
URL:https://bozone.com/event/family-kitchen-lab-cabbage-is-cool/
LOCATION:Bozeman Public Library\, 626 East Main Street\, Bozeman\, MT\, 59715\, United States
CATEGORIES:Classes,Lectures,Miscellanea
GEO:45.6785823;-111.0270991
X-APPLE-STRUCTURED-LOCATION;VALUE=URI;X-ADDRESS=Bozeman Public Library 626 East Main Street Bozeman MT 59715 United States;X-APPLE-RADIUS=500;X-TITLE=626 East Main Street:geo:-111.0270991,45.6785823
END:VEVENT
END:VCALENDAR