BEGIN:VCALENDAR
VERSION:2.0
PRODID:-//The BoZone - ECPv5.12.0//NONSGML v1.0//EN
CALSCALE:GREGORIAN
METHOD:PUBLISH
X-WR-CALNAME:The BoZone
X-ORIGINAL-URL:https://bozone.com
X-WR-CALDESC:Events for The BoZone
BEGIN:VTIMEZONE
TZID:America/Denver
BEGIN:DAYLIGHT
TZOFFSETFROM:-0700
TZOFFSETTO:-0600
TZNAME:MDT
DTSTART:20250309T090000
END:DAYLIGHT
BEGIN:STANDARD
TZOFFSETFROM:-0600
TZOFFSETTO:-0700
TZNAME:MST
DTSTART:20251102T080000
END:STANDARD
END:VTIMEZONE
BEGIN:VEVENT
DTSTART;TZID=America/Denver:20251101T110000
DTEND;TZID=America/Denver:20251101T140000
DTSTAMP:20260423T080706
CREATED:20251029T221352Z
LAST-MODIFIED:20251029T221352Z
UID:301478-1761994800-1762005600@bozone.com
SUMMARY:Danielle Dahl
DESCRIPTION:1\n\n\n\n\nNovember 1 @ 11:00 am – 2:00 pm\nDanielle Dahl\n\n\nWheatgrass Books will host author Danielle Dahl for a book signing on Saturday\, November 1st from 11 am to 2 pm.
URL:https://bozone.com/event/danielle-dahl/
LOCATION:Wheatgrass Books – Livingston\, 120 N. Main\, Livingston\, MT\, 59047\, United States
CATEGORIES:Lectures,Miscellanea
GEO:45.6622081;-110.5602921
X-APPLE-STRUCTURED-LOCATION;VALUE=URI;X-ADDRESS=Wheatgrass Books – Livingston 120 N. Main Livingston MT 59047 United States;X-APPLE-RADIUS=500;X-TITLE=120 N. Main:geo:-110.5602921,45.6622081
END:VEVENT
END:VCALENDAR