BEGIN:VCALENDAR
VERSION:2.0
PRODID:-//The BoZone - ECPv5.12.0//NONSGML v1.0//EN
CALSCALE:GREGORIAN
METHOD:PUBLISH
X-WR-CALNAME:The BoZone
X-ORIGINAL-URL:https://bozone.com
X-WR-CALDESC:Events for The BoZone
BEGIN:VTIMEZONE
TZID:America/Denver
BEGIN:DAYLIGHT
TZOFFSETFROM:-0700
TZOFFSETTO:-0600
TZNAME:MDT
DTSTART:20250309T090000
END:DAYLIGHT
BEGIN:STANDARD
TZOFFSETFROM:-0600
TZOFFSETTO:-0700
TZNAME:MST
DTSTART:20251102T080000
END:STANDARD
END:VTIMEZONE
BEGIN:VEVENT
DTSTART;TZID=America/Denver:20251027T163000
DTEND;TZID=America/Denver:20251027T163000
DTSTAMP:20260422T224555
CREATED:20250918T133113Z
LAST-MODIFIED:20250918T133113Z
UID:297635-1761582600-1761582600@bozone.com
SUMMARY:Parent University: Adolescents & Technology
DESCRIPTION:Headwaters Academy invites you to a free\, public presentation with Dr. Jessica Gerthe\, Assistant Professor of Counseling at Montana State University and licensed clinical professional counselor\, for an engaging session on how technology shapes adolescent development. Parents will explore media literacy\, online safety\, and healthy digital citizenship\, and gain practical strategies for setting boundaries at home. Dr. Gerthe draws on her clinical expertise and research to offer clear\, actionable tools to help families support safe\, balanced\, and responsible technology use.
URL:https://bozone.com/event/parent-university-adolescents-technology/
LOCATION:Headwaters Academy\, 1005 Durston Rd\, Bozeman\, 59718\, United States
CATEGORIES:Lectures
GEO:45.6669152;-111.043388
X-APPLE-STRUCTURED-LOCATION;VALUE=URI;X-ADDRESS=Headwaters Academy 1005 Durston Rd Bozeman 59718 United States;X-APPLE-RADIUS=500;X-TITLE=1005 Durston Rd:geo:-111.043388,45.6669152
END:VEVENT
END:VCALENDAR