BEGIN:VCALENDAR
VERSION:2.0
PRODID:-//The BoZone - ECPv5.12.0//NONSGML v1.0//EN
CALSCALE:GREGORIAN
METHOD:PUBLISH
X-WR-CALNAME:The BoZone
X-ORIGINAL-URL:https://bozone.com
X-WR-CALDESC:Events for The BoZone
BEGIN:VTIMEZONE
TZID:America/Denver
BEGIN:DAYLIGHT
TZOFFSETFROM:-0700
TZOFFSETTO:-0600
TZNAME:MDT
DTSTART:20250309T090000
END:DAYLIGHT
BEGIN:STANDARD
TZOFFSETFROM:-0600
TZOFFSETTO:-0700
TZNAME:MST
DTSTART:20251102T080000
END:STANDARD
END:VTIMEZONE
BEGIN:VEVENT
DTSTART;TZID=America/Denver:20251008T190000
DTEND;TZID=America/Denver:20251008T190000
DTSTAMP:20260420T085614
CREATED:20250929T201647Z
LAST-MODIFIED:20250929T201715Z
UID:299404-1759950000-1759950000@bozone.com
SUMMARY:Bozeman on the Brink
DESCRIPTION:Are you concerned about growth\, affordability\, the Ward Initiative and the future of our city? Hear from experts and policy makers at this special community forum. \n\nWednesday\, October 8\nDoors open at 6:30PM  |  Discussion start at 7:00PM\nCrawford Theater\nFREE\n\nFORUM MEMBERS \n\nDouglas Fischer\, City Commissioner\nJennifer Boyer\, County Commissioner\nNathan Stein\, Headwaters Community Housing Trust\nPat Byorth\, Trout Unlimited\nBozeman Tenants United\n\n\n\n\n\n\nOctober 8\, 2025\n7:00 pm – 9:00 pm
URL:https://bozone.com/event/bozeman-on-the-brink/
LOCATION:Emerson Center for Arts and Culture\, MT\, United States
CATEGORIES:Lectures,Miscellanea
GEO:46.8796822;-110.3625658
END:VEVENT
END:VCALENDAR