BEGIN:VCALENDAR
VERSION:2.0
PRODID:-//The BoZone - ECPv5.12.0//NONSGML v1.0//EN
CALSCALE:GREGORIAN
METHOD:PUBLISH
X-WR-CALNAME:The BoZone
X-ORIGINAL-URL:https://bozone.com
X-WR-CALDESC:Events for The BoZone
BEGIN:VTIMEZONE
TZID:America/Denver
BEGIN:DAYLIGHT
TZOFFSETFROM:-0700
TZOFFSETTO:-0600
TZNAME:MDT
DTSTART:20250309T090000
END:DAYLIGHT
BEGIN:STANDARD
TZOFFSETFROM:-0600
TZOFFSETTO:-0700
TZNAME:MST
DTSTART:20251102T080000
END:STANDARD
END:VTIMEZONE
BEGIN:VEVENT
DTSTART;TZID=America/Denver:20250824T160000
DTEND;TZID=America/Denver:20250824T160000
DTSTAMP:20260420T173720
CREATED:20250730T183745Z
LAST-MODIFIED:20250730T183745Z
UID:295056-1756051200-1756051200@bozone.com
SUMMARY:Author Talk with Cindy Owings
DESCRIPTION:AUTHOR TALK with CINDY OWINGS \nSunday\, August 24th @ 4 pm at ‘Live From The Divide’ \nMontana artist Cindy Owings will share from two books. \nHer latest book\, Ralph Home: A Painted Story of Friendship\, features bright\nwatercolor paintings and cherished anecdotes about the objects Cindy\npurchased from the late artisan goods dealer Ralph McHenry at his Four\nCorners Antiques shop and later at his Montana Expressions showroom. \nThe Purple Blanket memoir tells the 23-year story of how a wool coat and\nhome goods manufacturing business began in Cindy’s living room and grew into\na 5\,000-square-foot factory on Bozeman’s historic North Wallace Street.\nWomen-owned businesses in the 1980s were rare\, yet Cindy Owings Designs\n(COD) excelled in a male-dominated fashion industry by creating outerwear\nthat celebrated Rocky Mountain wildlife\, heritage\, and the use of wool.\nAlthough the COD factory was far from the epicenters of fashion\, New York\nCity’s 5th Avenue boutiques\, Oprah’s “Love It” List\, and sitcoms regularly\nfeatured Cindy’s designs. \nCOD coats and the original artwork from Ralph Home will be on display. Books\nare for sale and for signing. \nThis event is free\, but seating is limited.\n<https://cindyowings.rsvpify.com/> Please RSVP here. \nEvent Website:  <https://cindyowings.rsvpify.com/> Author Talk with Cindy
URL:https://bozone.com/event/author-talk-with-cindy-owings/
LOCATION:LFTD – Live From The Divide @ Empire Theater: Livingston\, 102 N 2nd Street\, Livingston\, MT\, 59049\, United States
CATEGORIES:Lectures,Miscellanea
GEO:45.6859207;-111.0268428
X-APPLE-STRUCTURED-LOCATION;VALUE=URI;X-ADDRESS=LFTD – Live From The Divide @ Empire Theater: Livingston 102 N 2nd Street Livingston MT 59049 United States;X-APPLE-RADIUS=500;X-TITLE=102 N 2nd Street:geo:-111.0268428,45.6859207
END:VEVENT
END:VCALENDAR